BEGIN:VCALENDAR
VERSION:2.0
PRODID:-//EZFacility.com, Inc.//EZL 2.5.5.28621
BEGIN:VEVENT
UID:11918906@ezleagues.ezfacility.com
DTSTAMP:20260424T140245Z
CREATED:20260424T140245Z
DTSTART:20181122T013000Z
DTEND:20181122T023000Z
LOCATION:Field 2 - South
CONTACT:
SUMMARY:Lady Mustangs VS. HB Squad
DESCRIPTION:League Name: Field Hockey (Adult/Varsity)\nGame Type: Regular\n
 Game Status: Complete\nHome Team: Lady Mustangs\nAway Team: HB Squad\nHome
  Score: 15\nAway Score: 1
END:VEVENT
BEGIN:VEVENT
UID:11918912@ezleagues.ezfacility.com
DTSTAMP:20260424T140245Z
CREATED:20260424T140245Z
DTSTART:20181128T013000Z
DTEND:20181128T023000Z
LOCATION:Field 2 - South
CONTACT:
SUMMARY:Sweet\, Sassy and Molassy VS. Lady Mustangs
DESCRIPTION:League Name: Field Hockey (Adult/Varsity)\nGame Type: Regular\n
 Game Status: Complete\nHome Team: Sweet, Sassy and Molassy\nAway Team: Lad
 y Mustangs\nHome Score: 3\nAway Score: 6
END:VEVENT
BEGIN:VEVENT
UID:11918920@ezleagues.ezfacility.com
DTSTAMP:20260424T140245Z
CREATED:20260424T140245Z
DTSTART:20181206T003000Z
DTEND:20181206T013000Z
LOCATION:Field 2 - South
CONTACT:
SUMMARY:Lady Mustangs VS. Gettysburg Varsity
DESCRIPTION:League Name: Field Hockey (Adult/Varsity)\nGame Type: Regular\n
 Game Status: Complete\nHome Team: Lady Mustangs\nAway Team: Gettysburg Var
 sity\nHome Score: 20\nAway Score: 1
END:VEVENT
BEGIN:VEVENT
UID:11918928@ezleagues.ezfacility.com
DTSTAMP:20260424T140245Z
CREATED:20260424T140245Z
DTSTART:20181211T013000Z
DTEND:20181211T023000Z
LOCATION:Field 2 - South
CONTACT:
SUMMARY:New Oxford VS. Lady Mustangs
DESCRIPTION:League Name: Field Hockey (Adult/Varsity)\nGame Type: Regular\n
 Game Status: Complete\nHome Team: New Oxford\nAway Team: Lady Mustangs\nHo
 me Score: 4\nAway Score: 6
END:VEVENT
BEGIN:VEVENT
UID:11918936@ezleagues.ezfacility.com
DTSTAMP:20260424T140245Z
CREATED:20260424T140245Z
DTSTART:20181219T013000Z
DTEND:20181219T023000Z
LOCATION:Field 2 - South
CONTACT:
SUMMARY:Lady Mustangs VS. Rebels
DESCRIPTION:League Name: Field Hockey (Adult/Varsity)\nGame Type: Regular\n
 Game Status: Complete\nHome Team: Lady Mustangs\nAway Team: Rebels\nHome S
 core: 12\nAway Score: 3
END:VEVENT
BEGIN:VEVENT
UID:11918955@ezleagues.ezfacility.com
DTSTAMP:20260424T140245Z
CREATED:20260424T140245Z
DTSTART:20190108T233000Z
DTEND:20190109T003000Z
LOCATION:Field 2 - South
CONTACT:
SUMMARY:Chicks With Sticks VS. Lady Mustangs
DESCRIPTION:League Name: Field Hockey (Adult/Varsity)\nGame Type: Regular\n
 Game Status: Complete\nHome Team: Chicks With Sticks\nAway Team: Lady Must
 angs\nHome Score: 2\nAway Score: 0
END:VEVENT
BEGIN:VEVENT
UID:11918967@ezleagues.ezfacility.com
DTSTAMP:20260424T140245Z
CREATED:20260424T140245Z
DTSTART:20190115T003000Z
DTEND:20190115T013000Z
LOCATION:Field 2 - South
CONTACT:
SUMMARY:Littlestown Varsity VS. Lady Mustangs
DESCRIPTION:League Name: Field Hockey (Adult/Varsity)\nGame Type: Regular\n
 Game Status: Complete\nHome Team: Littlestown Varsity\nAway Team: Lady Mus
 tangs\nHome Score: 1\nAway Score: 14
END:VEVENT
BEGIN:VEVENT
UID:11918973@ezleagues.ezfacility.com
DTSTAMP:20260424T140245Z
CREATED:20260424T140245Z
DTSTART:20190123T003000Z
DTEND:20190123T013000Z
LOCATION:Field 2 - South
CONTACT:
SUMMARY:Lady Mustangs VS. Canners White
DESCRIPTION:League Name: Field Hockey (Adult/Varsity)\nGame Type: Regular\n
 Game Status: Complete\nHome Team: Lady Mustangs\nAway Team: Canners White\
 nHome Score: 2\nAway Score: 1
END:VEVENT
BEGIN:VEVENT
UID:11918944@ezleagues.ezfacility.com
DTSTAMP:20260424T140245Z
CREATED:20260424T140245Z
DTSTART:20190131T013000Z
DTEND:20190131T023000Z
LOCATION:Field 2 - South
CONTACT:
SUMMARY:Spring Grove Blue VS. Lady Mustangs
DESCRIPTION:League Name: Field Hockey (Adult/Varsity)\nGame Type: Regular\n
 Game Status: Pending\nHome Team: Spring Grove Blue\nAway Team: Lady Mustan
 gs\n
END:VEVENT
BEGIN:VEVENT
UID:11918952@ezleagues.ezfacility.com
DTSTAMP:20260424T140245Z
CREATED:20260424T140245Z
DTSTART:20190205T003000Z
DTEND:20190205T013000Z
LOCATION:Field 2 - South
CONTACT:
SUMMARY:Lady Mustangs VS. Crush
DESCRIPTION:League Name: Field Hockey (Adult/Varsity)\nGame Type: Regular\n
 Game Status: Pending\nHome Team: Lady Mustangs\nAway Team: Crush\n
END:VEVENT
END:VCALENDAR
