BEGIN:VCALENDAR
VERSION:2.0
PRODID:-//EZFacility.com, Inc.//EZL 2.5.5.28621
BEGIN:VEVENT
UID:11883192@ezleagues.ezfacility.com
DTSTAMP:20260424T043250Z
CREATED:20260424T043250Z
DTSTART:20181115T014000Z
DTEND:20181115T023000Z
LOCATION:Flag Football Field 1
CONTACT:
SUMMARY:Sandlot (4-3) VS. Affiliated (2-5)
DESCRIPTION:League Name: Flag Football Winter 2018\nGame Type: Regular\nGam
 e Status: Complete\nHome Team: Sandlot (4-3)\nAway Team: Affiliated (2-5)\
 nHome Score: 28\nAway Score: 6
END:VEVENT
BEGIN:VEVENT
UID:11883195@ezleagues.ezfacility.com
DTSTAMP:20260424T043250Z
CREATED:20260424T043250Z
DTSTART:20181129T005000Z
DTEND:20181129T014000Z
LOCATION:Flag Football Field 1
CONTACT:
SUMMARY:Sandlot (4-3) VS. Gridiron Monsters (6-1)
DESCRIPTION:League Name: Flag Football Winter 2018\nGame Type: Regular\nGam
 e Status: Pending\nHome Team: Sandlot (4-3)\nAway Team: Gridiron Monsters 
 (6-1)\n
END:VEVENT
END:VCALENDAR
