BEGIN:VCALENDAR
VERSION:2.0
PRODID:-//EZFacility.com, Inc.//EZL 2.5.5.28621
BEGIN:VEVENT
UID:11915853@ezleagues.ezfacility.com
DTSTAMP:20260424T044323Z
CREATED:20260424T044323Z
DTSTART:20181202T230000Z
DTEND:20181202T234500Z
LOCATION:Field 1
CONTACT:
SUMMARY:Lisle FC B2002-03 Belgium VS. OPRF 03 II
DESCRIPTION:League Name: Travel High School League-High School Boys C\nGame
  Type: Regular\nGame Status: Complete\nHome Team: Lisle FC B2002-03 Belgiu
 m\nAway Team: OPRF 03 II\nHome Score: 1\nAway Score: 2
END:VEVENT
BEGIN:VEVENT
UID:11915767@ezleagues.ezfacility.com
DTSTAMP:20260424T044323Z
CREATED:20260424T044323Z
DTSTART:20190105T143000Z
DTEND:20190105T151500Z
LOCATION:Field 2
CONTACT:
SUMMARY:Lisle FC B2002-03 Belgium VS. Oak Brook SC - 2004 Red (U15) Boys
DESCRIPTION:League Name: Travel High School League-High School Boys C\nGame
  Type: Regular\nGame Status: Complete\nHome Team: Lisle FC B2002-03 Belgiu
 m\nAway Team: Oak Brook SC - 2004 Red (U15) Boys\nHome Score: 1\nAway Scor
 e: 7
END:VEVENT
BEGIN:VEVENT
UID:11915776@ezleagues.ezfacility.com
DTSTAMP:20260424T044323Z
CREATED:20260424T044323Z
DTSTART:20190113T030000Z
DTEND:20190113T034500Z
LOCATION:Field 1
CONTACT:
SUMMARY:Yard Sharks 03/04 VS. Lisle FC B2002-03 Belgium
DESCRIPTION:League Name: Travel High School League-High School Boys C\nGame
  Type: Regular\nGame Status: Complete\nHome Team: Yard Sharks 03/04\nAway 
 Team: Lisle FC B2002-03 Belgium\nHome Score: 10\nAway Score: 1
END:VEVENT
BEGIN:VEVENT
UID:11915794@ezleagues.ezfacility.com
DTSTAMP:20260424T044323Z
CREATED:20260424T044323Z
DTSTART:20190127T024500Z
DTEND:20190127T033000Z
LOCATION:Field 3
CONTACT:
SUMMARY:Team Olympic 2002 VS. Lisle FC B2002-03 Belgium
DESCRIPTION:League Name: Travel High School League-High School Boys C\nGame
  Type: Regular\nGame Status: Complete\nHome Team: Team Olympic 2002\nAway 
 Team: Lisle FC B2002-03 Belgium\nHome Score: 9\nAway Score: 0
END:VEVENT
BEGIN:VEVENT
UID:11915803@ezleagues.ezfacility.com
DTSTAMP:20260424T044323Z
CREATED:20260424T044323Z
DTSTART:20190204T011500Z
DTEND:20190204T020000Z
LOCATION:Field 3
CONTACT:
SUMMARY:Lisle FC B2002-03 Belgium VS. NH United High School Satinoff
DESCRIPTION:League Name: Travel High School League-High School Boys C\nGame
  Type: Regular\nGame Status: Complete\nHome Team: Lisle FC B2002-03 Belgiu
 m\nAway Team: NH United High School Satinoff\nHome Score: 0\nAway Score: 1
 1
END:VEVENT
BEGIN:VEVENT
UID:11915811@ezleagues.ezfacility.com
DTSTAMP:20260424T044323Z
CREATED:20260424T044323Z
DTSTART:20190210T020000Z
DTEND:20190210T024500Z
LOCATION:Field 3
CONTACT:
SUMMARY:Lisle FC B2002-03 Belgium VS. LG Celtics Votadini Black 03/04
DESCRIPTION:League Name: Travel High School League-High School Boys C\nGame
  Type: Regular\nGame Status: Complete\nHome Team: Lisle FC B2002-03 Belgiu
 m\nAway Team: LG Celtics Votadini Black 03/04\nHome Score: 4\nAway Score: 
 5
END:VEVENT
BEGIN:VEVENT
UID:11915818@ezleagues.ezfacility.com
DTSTAMP:20260424T044323Z
CREATED:20260424T044323Z
DTSTART:20190217T020000Z
DTEND:20190217T024500Z
LOCATION:Field 3
CONTACT:
SUMMARY:Fury FC 03 Black VS. Lisle FC B2002-03 Belgium
DESCRIPTION:League Name: Travel High School League-High School Boys C\nGame
  Type: Regular\nGame Status: Complete\nHome Team: Fury FC 03 Black\nAway T
 eam: Lisle FC B2002-03 Belgium\nHome Score: 7\nAway Score: 2
END:VEVENT
BEGIN:VEVENT
UID:11915825@ezleagues.ezfacility.com
DTSTAMP:20260424T044323Z
CREATED:20260424T044323Z
DTSTART:20190224T004500Z
DTEND:20190224T013000Z
LOCATION:Field 1
CONTACT:
SUMMARY:Lisle FC B2002-03 Belgium VS. LTSC 03 Boys
DESCRIPTION:League Name: Travel High School League-High School Boys C\nGame
  Type: Regular\nGame Status: Complete\nHome Team: Lisle FC B2002-03 Belgiu
 m\nAway Team: LTSC 03 Boys\nHome Score: 2\nAway Score: 4
END:VEVENT
BEGIN:VEVENT
UID:11915832@ezleagues.ezfacility.com
DTSTAMP:20260424T044323Z
CREATED:20260424T044323Z
DTSTART:20190302T183000Z
DTEND:20190302T191500Z
LOCATION:Field 3
CONTACT:
SUMMARY:Runners FC 2 VS. Lisle FC B2002-03 Belgium
DESCRIPTION:League Name: Travel High School League-High School Boys C\nGame
  Type: Regular\nGame Status: Complete\nHome Team: Runners FC 2\nAway Team:
  Lisle FC B2002-03 Belgium\nHome Score: 5\nAway Score: 3
END:VEVENT
BEGIN:VEVENT
UID:11915860@ezleagues.ezfacility.com
DTSTAMP:20260424T044323Z
CREATED:20260424T044323Z
DTSTART:20190303T234500Z
DTEND:20190304T003000Z
LOCATION:Field 3
CONTACT:
SUMMARY:AYSO 300 United Boys VS. Lisle FC B2002-03 Belgium
DESCRIPTION:League Name: Travel High School League-High School Boys C\nGame
  Type: Regular\nGame Status: Complete\nHome Team: AYSO 300 United Boys\nAw
 ay Team: Lisle FC B2002-03 Belgium\nHome Score: 9\nAway Score: 3
END:VEVENT
BEGIN:VEVENT
UID:11915839@ezleagues.ezfacility.com
DTSTAMP:20260424T044323Z
CREATED:20260424T044323Z
DTSTART:20190309T204500Z
DTEND:20190309T213000Z
LOCATION:Field 3
CONTACT:
SUMMARY:Lisle FC B2002-03 Belgium VS. OPRF 03 I
DESCRIPTION:League Name: Travel High School League-High School Boys C\nGame
  Type: Regular\nGame Status: Complete\nHome Team: Lisle FC B2002-03 Belgiu
 m\nAway Team: OPRF 03 I\nHome Score: 0\nAway Score: 9
END:VEVENT
BEGIN:VEVENT
UID:11915846@ezleagues.ezfacility.com
DTSTAMP:20260424T044323Z
CREATED:20260424T044323Z
DTSTART:20190317T010000Z
DTEND:20190317T014500Z
LOCATION:Field 3
CONTACT:
SUMMARY:Runners FC 1 VS. Lisle FC B2002-03 Belgium
DESCRIPTION:League Name: Travel High School League-High School Boys C\nGame
  Type: Regular\nGame Status: Complete\nHome Team: Runners FC 1\nAway Team:
  Lisle FC B2002-03 Belgium\nHome Score: 5\nAway Score: 4
END:VEVENT
END:VCALENDAR
