BEGIN:VCALENDAR
VERSION:2.0
PRODID:-//EZFacility.com, Inc.//EZL 2.5.5.28621
BEGIN:VEVENT
UID:11910523@ezleagues.ezfacility.com
DTSTAMP:20260426T015732Z
CREATED:20260426T015732Z
DTSTART:20181208T204500Z
DTEND:20181208T212800Z
LOCATION:Field 3
CONTACT:
SUMMARY:SPARTANS SOCCER CLUB 2005 VS. LTSC 05 Boys Select
DESCRIPTION:League Name: Travel Soccer-Boys 2005C\nGame Type: Regular\nGame
  Status: Complete\nHome Team: SPARTANS SOCCER CLUB 2005\nAway Team: LTSC 0
 5 Boys Select\nHome Score: 1\nAway Score: 4
END:VEVENT
BEGIN:VEVENT
UID:11910538@ezleagues.ezfacility.com
DTSTAMP:20260426T015732Z
CREATED:20260426T015732Z
DTSTART:20190113T011500Z
DTEND:20190113T015800Z
LOCATION:Field 3
CONTACT:
SUMMARY:LTSC 05 Boys Select VS. SPARTANS SOCCER CLUB 2005
DESCRIPTION:League Name: Travel Soccer-Boys 2005C\nGame Type: Regular\nGame
  Status: Complete\nHome Team: LTSC 05 Boys Select\nAway Team: SPARTANS SOC
 CER CLUB 2005\nHome Score: 3\nAway Score: 2
END:VEVENT
BEGIN:VEVENT
UID:11910536@ezleagues.ezfacility.com
DTSTAMP:20260426T015732Z
CREATED:20260426T015732Z
DTSTART:20190113T020000Z
DTEND:20190113T024300Z
LOCATION:Field 3
CONTACT:
SUMMARY:West Lawn SC 2005 VS. SPARTANS SOCCER CLUB 2005
DESCRIPTION:League Name: Travel Soccer-Boys 2005C\nGame Type: Regular\nGame
  Status: Complete\nHome Team: West Lawn SC 2005\nAway Team: SPARTANS SOCCE
 R CLUB 2005\nHome Score: 6\nAway Score: 4
END:VEVENT
BEGIN:VEVENT
UID:11910540@ezleagues.ezfacility.com
DTSTAMP:20260426T015732Z
CREATED:20260426T015732Z
DTSTART:20190120T014500Z
DTEND:20190120T022800Z
LOCATION:Field 2
CONTACT:
SUMMARY:SPARTANS SOCCER CLUB 2005 VS. West Lawn SC 2005
DESCRIPTION:League Name: Travel Soccer-Boys 2005C\nGame Type: Regular\nGame
  Status: Complete\nHome Team: SPARTANS SOCCER CLUB 2005\nAway Team: West L
 awn SC 2005\nHome Score: 2\nAway Score: 7
END:VEVENT
BEGIN:VEVENT
UID:11910542@ezleagues.ezfacility.com
DTSTAMP:20260426T015732Z
CREATED:20260426T015732Z
DTSTART:20190126T201500Z
DTEND:20190126T205800Z
LOCATION:Field 1
CONTACT:
SUMMARY:SPARTANS SOCCER CLUB 2005 VS. Joga Bonito BU14
DESCRIPTION:League Name: Travel Soccer-Boys 2005C\nGame Type: Regular\nGame
  Status: Complete\nHome Team: SPARTANS SOCCER CLUB 2005\nAway Team: Joga B
 onito BU14\nHome Score: 3\nAway Score: 6
END:VEVENT
BEGIN:VEVENT
UID:11910546@ezleagues.ezfacility.com
DTSTAMP:20260426T015732Z
CREATED:20260426T015732Z
DTSTART:20190202T231500Z
DTEND:20190202T235800Z
LOCATION:Field 1
CONTACT:
SUMMARY:Orland Park Sting 2005 VS. SPARTANS SOCCER CLUB 2005
DESCRIPTION:League Name: Travel Soccer-Boys 2005C\nGame Type: Regular\nGame
  Status: Complete\nHome Team: Orland Park Sting 2005\nAway Team: SPARTANS 
 SOCCER CLUB 2005\nHome Score: 7\nAway Score: 5
END:VEVENT
BEGIN:VEVENT
UID:11910527@ezleagues.ezfacility.com
DTSTAMP:20260426T015732Z
CREATED:20260426T015732Z
DTSTART:20190303T010000Z
DTEND:20190303T014300Z
LOCATION:Field 2
CONTACT:
SUMMARY:Joga Bonito BU14 VS. SPARTANS SOCCER CLUB 2005
DESCRIPTION:League Name: Travel Soccer-Boys 2005C\nGame Type: Regular\nGame
  Status: Complete\nHome Team: Joga Bonito BU14\nAway Team: SPARTANS SOCCER
  CLUB 2005\nHome Score: 2\nAway Score: 0
END:VEVENT
BEGIN:VEVENT
UID:11910531@ezleagues.ezfacility.com
DTSTAMP:20260426T015732Z
CREATED:20260426T015732Z
DTSTART:20190309T201500Z
DTEND:20190309T205800Z
LOCATION:Field 1
CONTACT:
SUMMARY:SPARTANS SOCCER CLUB 2005 VS. Orland Park Sting 2005
DESCRIPTION:League Name: Travel Soccer-Boys 2005C\nGame Type: Regular\nGame
  Status: Complete\nHome Team: SPARTANS SOCCER CLUB 2005\nAway Team: Orland
  Park Sting 2005\nHome Score: 2\nAway Score: 10
END:VEVENT
END:VCALENDAR
