BEGIN:VCALENDAR
VERSION:2.0
PRODID:-//EZFacility.com, Inc.//EZL 2.5.5.28621
BEGIN:VEVENT
UID:11893417@ezleagues.ezfacility.com
DTSTAMP:20260424T044239Z
CREATED:20260424T044239Z
DTSTART:20181202T195500Z
DTEND:20181202T205000Z
LOCATION:PFFC Dome - Half Field #2
CONTACT:
SUMMARY:Burlington Bayhawks Blue VS. Bolton Wanderers
DESCRIPTION:League Name: GU11 Target - North\nGame Type: Regular\nGame Stat
 us: Pending\nHome Team: Burlington Bayhawks Blue\nAway Team: Bolton Wander
 ers\n
END:VEVENT
BEGIN:VEVENT
UID:11893521@ezleagues.ezfacility.com
DTSTAMP:20260424T044239Z
CREATED:20260424T044239Z
DTSTART:20181216T195500Z
DTEND:20181216T205000Z
LOCATION:PFFC Dome - Half Field #2
CONTACT:
SUMMARY:Burlington Bayhawks Blue VS. Cambridge United
DESCRIPTION:League Name: GU11 Target - North\nGame Type: Regular\nGame Stat
 us: Pending\nHome Team: Burlington Bayhawks Blue\nAway Team: Cambridge Uni
 ted\n
END:VEVENT
BEGIN:VEVENT
UID:11893573@ezleagues.ezfacility.com
DTSTAMP:20260424T044239Z
CREATED:20260424T044239Z
DTSTART:20181223T190500Z
DTEND:20181223T200000Z
LOCATION:PFFC Field House Half Field AB
CONTACT:
SUMMARY:Oakville Red VS. Burlington Bayhawks Blue
DESCRIPTION:League Name: GU11 Target - North\nGame Type: Regular\nGame Stat
 us: Pending\nHome Team: Oakville Red\nAway Team: Burlington Bayhawks Blue\
 n
END:VEVENT
BEGIN:VEVENT
UID:11893681@ezleagues.ezfacility.com
DTSTAMP:20260424T044239Z
CREATED:20260424T044239Z
DTSTART:20190106T135000Z
DTEND:20190106T144500Z
LOCATION:PFFC Field House Half Field AB
CONTACT:
SUMMARY:Dixie Blue VS. Burlington Bayhawks Blue
DESCRIPTION:League Name: GU11 Target - North\nGame Type: Regular\nGame Stat
 us: Pending\nHome Team: Dixie Blue\nAway Team: Burlington Bayhawks Blue\n
END:VEVENT
BEGIN:VEVENT
UID:11893788@ezleagues.ezfacility.com
DTSTAMP:20260424T044239Z
CREATED:20260424T044239Z
DTSTART:20190120T220500Z
DTEND:20190120T230000Z
LOCATION:PFFC Dome - Half Field #2
CONTACT:
SUMMARY:Bolton Wanderers VS. Burlington Bayhawks Blue
DESCRIPTION:League Name: GU11 Target - North\nGame Type: Regular\nGame Stat
 us: Pending\nHome Team: Bolton Wanderers\nAway Team: Burlington Bayhawks B
 lue\n
END:VEVENT
BEGIN:VEVENT
UID:11893892@ezleagues.ezfacility.com
DTSTAMP:20260424T044239Z
CREATED:20260424T044239Z
DTSTART:20190203T154000Z
DTEND:20190203T163500Z
LOCATION:PFFC Dome - Half Field #1
CONTACT:
SUMMARY:Cambridge United VS. Burlington Bayhawks Blue
DESCRIPTION:League Name: GU11 Target - North\nGame Type: Regular\nGame Stat
 us: Pending\nHome Team: Cambridge United\nAway Team: Burlington Bayhawks B
 lue\n
END:VEVENT
BEGIN:VEVENT
UID:11893998@ezleagues.ezfacility.com
DTSTAMP:20260424T044239Z
CREATED:20260424T044239Z
DTSTART:20190217T174000Z
DTEND:20190217T183500Z
LOCATION:PFFC Field House Half Field AB
CONTACT:
SUMMARY:Burlington Bayhawks Blue VS. Croatia Norval
DESCRIPTION:League Name: GU11 Target - North\nGame Type: Regular\nGame Stat
 us: Pending\nHome Team: Burlington Bayhawks Blue\nAway Team: Croatia Norva
 l\n
END:VEVENT
BEGIN:VEVENT
UID:11894052@ezleagues.ezfacility.com
DTSTAMP:20260424T044239Z
CREATED:20260424T044239Z
DTSTART:20190224T135000Z
DTEND:20190224T144500Z
LOCATION:PFFC Dome - Half Field #2
CONTACT:
SUMMARY:Burlington Bayhawks Blue VS. Dixie Blue
DESCRIPTION:League Name: GU11 Target - North\nGame Type: Regular\nGame Stat
 us: Rescheduled\nHome Team: Burlington Bayhawks Blue\nAway Team: Dixie Blu
 e\n
END:VEVENT
BEGIN:VEVENT
UID:11894106@ezleagues.ezfacility.com
DTSTAMP:20260424T044239Z
CREATED:20260424T044239Z
DTSTART:20190303T154000Z
DTEND:20190303T163500Z
LOCATION:PFFC Dome - Half Field #2
CONTACT:
SUMMARY:Burlington Bayhawks Blue VS. NMSC Red
DESCRIPTION:League Name: GU11 Target - North\nGame Type: Regular\nGame Stat
 us: Pending\nHome Team: Burlington Bayhawks Blue\nAway Team: NMSC Red\n
END:VEVENT
BEGIN:VEVENT
UID:11893840@ezleagues.ezfacility.com
DTSTAMP:20260424T044239Z
CREATED:20260424T044239Z
DTSTART:20190310T171000Z
DTEND:20190310T180500Z
LOCATION:Milton Dome - Half Field
CONTACT:
SUMMARY:Burlington Bayhawks Blue VS. Georgetown Red Mustangs
DESCRIPTION:League Name: GU11 Target - North\nGame Type: Regular\nGame Stat
 us: Pending\nHome Team: Burlington Bayhawks Blue\nAway Team: Georgetown Re
 d Mustangs\n
END:VEVENT
BEGIN:VEVENT
UID:11894211@ezleagues.ezfacility.com
DTSTAMP:20260424T044239Z
CREATED:20260424T044239Z
DTSTART:20190317T110000Z
DTEND:20190317T115500Z
LOCATION:PFFC Field House Half Field CD
CONTACT:
SUMMARY:Georgetown Red Mustangs VS. Burlington Bayhawks Blue
DESCRIPTION:League Name: GU11 Target - North\nGame Type: Regular\nGame Stat
 us: Pending\nHome Team: Georgetown Red Mustangs\nAway Team: Burlington Bay
 hawks Blue\n
END:VEVENT
BEGIN:VEVENT
UID:11893735@ezleagues.ezfacility.com
DTSTAMP:20260424T044239Z
CREATED:20260424T044239Z
DTSTART:20190324T115500Z
DTEND:20190324T125000Z
LOCATION:PFFC Field House Half Field AB
CONTACT:
SUMMARY:NMSC Red VS. Burlington Bayhawks Blue
DESCRIPTION:League Name: GU11 Target - North\nGame Type: Regular\nGame Stat
 us: Pending\nHome Team: NMSC Red\nAway Team: Burlington Bayhawks Blue\n
END:VEVENT
BEGIN:VEVENT
UID:11893944@ezleagues.ezfacility.com
DTSTAMP:20260424T044239Z
CREATED:20260424T044239Z
DTSTART:20190331T110000Z
DTEND:20190331T115500Z
LOCATION:PFFC Field House Half Field CD
CONTACT:
SUMMARY:Burlington Bayhawks Blue VS. Oakville Red
DESCRIPTION:League Name: GU11 Target - North\nGame Type: Regular\nGame Stat
 us: Pending\nHome Team: Burlington Bayhawks Blue\nAway Team: Oakville Red\
 n
END:VEVENT
BEGIN:VEVENT
UID:11893627@ezleagues.ezfacility.com
DTSTAMP:20260424T044239Z
CREATED:20260424T044239Z
DTSTART:20190414T153500Z
DTEND:20190414T163000Z
LOCATION:PFFC Field House Half Field CD
CONTACT:
SUMMARY:Croatia Norval VS. Burlington Bayhawks Blue
DESCRIPTION:League Name: GU11 Target - North\nGame Type: Regular\nGame Stat
 us: Pending\nHome Team: Croatia Norval\nAway Team: Burlington Bayhawks Blu
 e\n
END:VEVENT
BEGIN:VEVENT
UID:12231436@ezleagues.ezfacility.com
DTSTAMP:20260424T044239Z
CREATED:20260424T044239Z
DTSTART:20190428T125000Z
DTEND:20190428T134500Z
LOCATION:PFFC Dome - Half Field #2
CONTACT:
SUMMARY:Burlington Bayhawks Blue VS. Dixie Blue
DESCRIPTION:League Name: GU11 Target - North\nGame Type: Regular\nGame Stat
 us: Pending\nHome Team: Burlington Bayhawks Blue\nAway Team: Dixie Blue\n
END:VEVENT
END:VCALENDAR
