BEGIN:VCALENDAR
VERSION:2.0
PRODID:-//EZFacility.com, Inc.//EZL 2.5.5.28621
BEGIN:VEVENT
UID:11918910@ezleagues.ezfacility.com
DTSTAMP:20260426T033742Z
CREATED:20260426T033742Z
DTSTART:20181120T233000Z
DTEND:20181121T003000Z
LOCATION:Field 2 - South
CONTACT:
SUMMARY:Chicks With Sticks VS. New Oxford
DESCRIPTION:League Name: Field Hockey (Adult/Varsity)\nGame Type: Regular\n
 Game Status: Complete\nHome Team: Chicks With Sticks\nAway Team: New Oxfor
 d\nHome Score: 2\nAway Score: 4
END:VEVENT
BEGIN:VEVENT
UID:11918918@ezleagues.ezfacility.com
DTSTAMP:20260426T033742Z
CREATED:20260426T033742Z
DTSTART:20181129T013000Z
DTEND:20181129T023000Z
LOCATION:Field 2 - South
CONTACT:
SUMMARY:Rebels VS. Chicks With Sticks
DESCRIPTION:League Name: Field Hockey (Adult/Varsity)\nGame Type: Regular\n
 Game Status: Complete\nHome Team: Rebels\nAway Team: Chicks With Sticks\nH
 ome Score: 0\nAway Score: 2
END:VEVENT
BEGIN:VEVENT
UID:11918925@ezleagues.ezfacility.com
DTSTAMP:20260426T033742Z
CREATED:20260426T033742Z
DTSTART:20181205T233000Z
DTEND:20181206T003000Z
LOCATION:Field 2 - South
CONTACT:
SUMMARY:Spring Grove Blue VS. Chicks With Sticks
DESCRIPTION:League Name: Field Hockey (Adult/Varsity)\nGame Type: Regular\n
 Game Status: Complete\nHome Team: Spring Grove Blue\nAway Team: Chicks Wit
 h Sticks\nHome Score: 2\nAway Score: 7
END:VEVENT
BEGIN:VEVENT
UID:11918931@ezleagues.ezfacility.com
DTSTAMP:20260426T033742Z
CREATED:20260426T033742Z
DTSTART:20181210T233000Z
DTEND:20181211T003000Z
LOCATION:Field 2 - South
CONTACT:
SUMMARY:Chicks With Sticks VS. Spring Grove White
DESCRIPTION:League Name: Field Hockey (Adult/Varsity)\nGame Type: Regular\n
 Game Status: Complete\nHome Team: Chicks With Sticks\nAway Team: Spring Gr
 ove White\nHome Score: 15\nAway Score: 0
END:VEVENT
BEGIN:VEVENT
UID:11918937@ezleagues.ezfacility.com
DTSTAMP:20260426T033742Z
CREATED:20260426T033742Z
DTSTART:20181220T013000Z
DTEND:20181220T023000Z
LOCATION:Field 2 - South
CONTACT:
SUMMARY:Fhock It Up VS. Chicks With Sticks
DESCRIPTION:League Name: Field Hockey (Adult/Varsity)\nGame Type: Regular\n
 Game Status: Pending\nHome Team: Fhock It Up\nAway Team: Chicks With Stick
 s\n
END:VEVENT
BEGIN:VEVENT
UID:11918955@ezleagues.ezfacility.com
DTSTAMP:20260426T033742Z
CREATED:20260426T033742Z
DTSTART:20190108T233000Z
DTEND:20190109T003000Z
LOCATION:Field 2 - South
CONTACT:
SUMMARY:Chicks With Sticks VS. Lady Mustangs
DESCRIPTION:League Name: Field Hockey (Adult/Varsity)\nGame Type: Regular\n
 Game Status: Complete\nHome Team: Chicks With Sticks\nAway Team: Lady Must
 angs\nHome Score: 2\nAway Score: 0
END:VEVENT
BEGIN:VEVENT
UID:11918958@ezleagues.ezfacility.com
DTSTAMP:20260426T033742Z
CREATED:20260426T033742Z
DTSTART:20190110T013000Z
DTEND:20190110T023000Z
LOCATION:Field 2 - South
CONTACT:
SUMMARY:Chicks With Sticks VS. Crush
DESCRIPTION:League Name: Field Hockey (Adult/Varsity)\nGame Type: Regular\n
 Game Status: Complete\nHome Team: Chicks With Sticks\nAway Team: Crush\nHo
 me Score: 2\nAway Score: 1
END:VEVENT
BEGIN:VEVENT
UID:11918961@ezleagues.ezfacility.com
DTSTAMP:20260426T033742Z
CREATED:20260426T033742Z
DTSTART:20190116T003000Z
DTEND:20190116T013000Z
LOCATION:Field 2 - South
CONTACT:
SUMMARY:Chicks With Sticks VS. Sweet\, Sassy and Molassy
DESCRIPTION:League Name: Field Hockey (Adult/Varsity)\nGame Type: Regular\n
 Game Status: Complete\nHome Team: Chicks With Sticks\nAway Team: Sweet, Sa
 ssy and Molassy\nHome Score: 10\nAway Score: 2
END:VEVENT
BEGIN:VEVENT
UID:11918943@ezleagues.ezfacility.com
DTSTAMP:20260426T033742Z
CREATED:20260426T033742Z
DTSTART:20190129T003000Z
DTEND:20190129T013000Z
LOCATION:Field 2 - South
CONTACT:
SUMMARY:Chicks With Sticks VS. Littlestown Varsity
DESCRIPTION:League Name: Field Hockey (Adult/Varsity)\nGame Type: Regular\n
 Game Status: Complete\nHome Team: Chicks With Sticks\nAway Team: Littlesto
 wn Varsity\nHome Score: 9\nAway Score: 1
END:VEVENT
BEGIN:VEVENT
UID:11918949@ezleagues.ezfacility.com
DTSTAMP:20260426T033742Z
CREATED:20260426T033742Z
DTSTART:20190207T013000Z
DTEND:20190207T023000Z
LOCATION:Field 2 - South
CONTACT:
SUMMARY:Canners White VS. Chicks With Sticks
DESCRIPTION:League Name: Field Hockey (Adult/Varsity)\nGame Type: Regular\n
 Game Status: Pending\nHome Team: Canners White\nAway Team: Chicks With Sti
 cks\n
END:VEVENT
END:VCALENDAR
