BEGIN:VCALENDAR
VERSION:2.0
PRODID:-//EZFacility.com, Inc.//EZL 2.5.5.28621
BEGIN:VEVENT
UID:11931790@ezleagues.ezfacility.com
DTSTAMP:20260421T042408Z
CREATED:20260421T042408Z
DTSTART:20181215T030000Z
DTEND:20181215T034300Z
LOCATION:Field 2
CONTACT:
SUMMARY:Chicago Empire FC BU14 Gold VS. Kopion FC 2005  Academy
DESCRIPTION:League Name: Travel Soccer-Boys 2005/2004A\nGame Type: Regular\
 nGame Status: Complete\nHome Team: Chicago Empire FC BU14 Gold\nAway Team:
  Kopion FC 2005  Academy\nHome Score: 2\nAway Score: 5
END:VEVENT
BEGIN:VEVENT
UID:11931787@ezleagues.ezfacility.com
DTSTAMP:20260421T042408Z
CREATED:20260421T042408Z
DTSTART:20190114T000000Z
DTEND:20190114T004300Z
LOCATION:Field 1
CONTACT:
SUMMARY:LOBOS FC 05 VS. Chicago Empire FC BU14 Gold
DESCRIPTION:League Name: Travel Soccer-Boys 2005/2004A\nGame Type: Regular\
 nGame Status: Complete\nHome Team: LOBOS FC 05\nAway Team: Chicago Empire 
 FC BU14 Gold\nHome Score: 4\nAway Score: 0
END:VEVENT
BEGIN:VEVENT
UID:11931792@ezleagues.ezfacility.com
DTSTAMP:20260421T042408Z
CREATED:20260421T042408Z
DTSTART:20190126T180000Z
DTEND:20190126T184300Z
LOCATION:Field 1
CONTACT:
SUMMARY:Chicago Empire FC BU14 Gold VS. WC LIONS ACADEMY S. C.  BOYS U14
DESCRIPTION:League Name: Travel Soccer-Boys 2005/2004A\nGame Type: Regular\
 nGame Status: Complete\nHome Team: Chicago Empire FC BU14 Gold\nAway Team:
  WC LIONS ACADEMY S. C.  BOYS U14\nHome Score: 1\nAway Score: 3
END:VEVENT
BEGIN:VEVENT
UID:11931794@ezleagues.ezfacility.com
DTSTAMP:20260421T042408Z
CREATED:20260421T042408Z
DTSTART:20190203T231500Z
DTEND:20190203T235800Z
LOCATION:Field 2
CONTACT:
SUMMARY:Aurora Aztecs Lyons 2004 VS. Chicago Empire FC BU14 Gold
DESCRIPTION:League Name: Travel Soccer-Boys 2005/2004A\nGame Type: Regular\
 nGame Status: Complete\nHome Team: Aurora Aztecs Lyons 2004\nAway Team: Ch
 icago Empire FC BU14 Gold\nHome Score: 3\nAway Score: 0
END:VEVENT
BEGIN:VEVENT
UID:11931798@ezleagues.ezfacility.com
DTSTAMP:20260421T042408Z
CREATED:20260421T042408Z
DTSTART:20190209T180000Z
DTEND:20190209T184300Z
LOCATION:Field 1
CONTACT:
SUMMARY:Chicago Empire FC BU14 Gold VS. Pitufos 2005
DESCRIPTION:League Name: Travel Soccer-Boys 2005/2004A\nGame Type: Regular\
 nGame Status: Complete\nHome Team: Chicago Empire FC BU14 Gold\nAway Team:
  Pitufos 2005\nHome Score: 0\nAway Score: 3
END:VEVENT
BEGIN:VEVENT
UID:11931802@ezleagues.ezfacility.com
DTSTAMP:20260421T042408Z
CREATED:20260421T042408Z
DTSTART:20190216T133000Z
DTEND:20190216T141300Z
LOCATION:Field 2
CONTACT:
SUMMARY:Chicago Empire FC BU14 Gold VS. LOBOS FC 05
DESCRIPTION:League Name: Travel Soccer-Boys 2005/2004A\nGame Type: Regular\
 nGame Status: Complete\nHome Team: Chicago Empire FC BU14 Gold\nAway Team:
  LOBOS FC 05\nHome Score: 2\nAway Score: 1
END:VEVENT
BEGIN:VEVENT
UID:11931807@ezleagues.ezfacility.com
DTSTAMP:20260421T042408Z
CREATED:20260421T042408Z
DTSTART:20190304T020000Z
DTEND:20190304T024300Z
LOCATION:Field 1
CONTACT:
SUMMARY:WC LIONS ACADEMY S. C.  BOYS U14 VS. Chicago Empire FC BU14 Gold
DESCRIPTION:League Name: Travel Soccer-Boys 2005/2004A\nGame Type: Regular\
 nGame Status: Complete\nHome Team: WC LIONS ACADEMY S. C.  BOYS U14\nAway 
 Team: Chicago Empire FC BU14 Gold\nHome Score: 5\nAway Score: 1
END:VEVENT
BEGIN:VEVENT
UID:12195841@ezleagues.ezfacility.com
DTSTAMP:20260421T042408Z
CREATED:20260421T042408Z
DTSTART:20190310T203000Z
DTEND:20190310T211500Z
LOCATION:Field 1
CONTACT:
SUMMARY:Chicago Empire FC BU14 Gold VS. Aurora Aztecs Lyons 2004
DESCRIPTION:League Name: Travel Soccer-Boys 2005/2004A\nGame Type: Regular\
 nGame Status: Complete\nHome Team: Chicago Empire FC BU14 Gold\nAway Team:
  Aurora Aztecs Lyons 2004\nHome Score: 1\nAway Score: 7
END:VEVENT
END:VCALENDAR
