BEGIN:VCALENDAR
VERSION:2.0
PRODID:-//EZFacility.com, Inc.//EZL 2.5.5.28621
BEGIN:VEVENT
UID:11951779@ezleagues.ezfacility.com
DTSTAMP:20260426T034051Z
CREATED:20260426T034051Z
DTSTART:20181203T000000Z
DTEND:20181203T005500Z
LOCATION:VA Army National Guard Field 2
CONTACT:
SUMMARY:Soccer Sisters VS. Reds
DESCRIPTION:League Name: November 25, 2018 Sunday Women's Over-30\nGame Typ
 e: Regular\nGame Status: Complete\nHome Team: Soccer Sisters\nAway Team: R
 eds\nHome Score: 4\nAway Score: 5
END:VEVENT
BEGIN:VEVENT
UID:11951789@ezleagues.ezfacility.com
DTSTAMP:20260426T034051Z
CREATED:20260426T034051Z
DTSTART:20181209T230500Z
DTEND:20181210T000000Z
LOCATION:VA Army National Guard Field 2
CONTACT:
SUMMARY:Soccer Sisters VS. Green Day
DESCRIPTION:League Name: November 25, 2018 Sunday Women's Over-30\nGame Typ
 e: Regular\nGame Status: Complete\nHome Team: Soccer Sisters\nAway Team: G
 reen Day\nHome Score: 3\nAway Score: 12
END:VEVENT
BEGIN:VEVENT
UID:11979861@ezleagues.ezfacility.com
DTSTAMP:20260426T034051Z
CREATED:20260426T034051Z
DTSTART:20181217T005500Z
DTEND:20181217T015000Z
LOCATION: Field 3
CONTACT:
SUMMARY:Soccer Sisters VS. Buzz Kill
DESCRIPTION:League Name: November 25, 2018 Sunday Women's Over-30\nGame Typ
 e: Regular\nGame Status: Complete\nHome Team: Soccer Sisters\nAway Team: B
 uzz Kill\nHome Score: 3\nAway Score: 4
END:VEVENT
BEGIN:VEVENT
UID:11990300@ezleagues.ezfacility.com
DTSTAMP:20260426T034051Z
CREATED:20260426T034051Z
DTSTART:20181230T230500Z
DTEND:20181231T000000Z
LOCATION: Field 3
CONTACT:
SUMMARY:GoalDiggers VS. Soccer Sisters
DESCRIPTION:League Name: November 25, 2018 Sunday Women's Over-30\nGame Typ
 e: Regular\nGame Status: Complete\nHome Team: GoalDiggers\nAway Team: Socc
 er Sisters\nHome Score: 12\nAway Score: 4
END:VEVENT
BEGIN:VEVENT
UID:11990320@ezleagues.ezfacility.com
DTSTAMP:20260426T034051Z
CREATED:20260426T034051Z
DTSTART:20190114T000000Z
DTEND:20190114T005500Z
LOCATION:VA Army National Guard Field 2
CONTACT:Cazun
SUMMARY:Soccer Sisters VS. WildCats
DESCRIPTION:League Name: November 25, 2018 Sunday Women's Over-30\nGame Typ
 e: Regular\nGame Status: Complete\nHome Team: Soccer Sisters\nAway Team: W
 ildCats\nHome Score: 10\nAway Score: 9
END:VEVENT
BEGIN:VEVENT
UID:11995448@ezleagues.ezfacility.com
DTSTAMP:20260426T034051Z
CREATED:20260426T034051Z
DTSTART:20190121T000000Z
DTEND:20190121T005500Z
LOCATION: Field 3
CONTACT:
SUMMARY:USA VS. Soccer Sisters
DESCRIPTION:League Name: November 25, 2018 Sunday Women's Over-30\nGame Typ
 e: Regular\nGame Status: Complete\nHome Team: USA\nAway Team: Soccer Siste
 rs\nHome Score: 8\nAway Score: 2
END:VEVENT
BEGIN:VEVENT
UID:11995467@ezleagues.ezfacility.com
DTSTAMP:20260426T034051Z
CREATED:20260426T034051Z
DTSTART:20190127T230500Z
DTEND:20190128T000000Z
LOCATION: Field 3
CONTACT:
SUMMARY:Soccer Sisters VS. On the run
DESCRIPTION:League Name: November 25, 2018 Sunday Women's Over-30\nGame Typ
 e: Regular\nGame Status: Complete\nHome Team: Soccer Sisters\nAway Team: O
 n the run\nHome Score: 6\nAway Score: 2
END:VEVENT
BEGIN:VEVENT
UID:11995474@ezleagues.ezfacility.com
DTSTAMP:20260426T034051Z
CREATED:20260426T034051Z
DTSTART:20190204T000000Z
DTEND:20190204T005500Z
LOCATION: Field 3
CONTACT:
SUMMARY:Soccer Sisters VS. GoalDiggers
DESCRIPTION:League Name: November 25, 2018 Sunday Women's Over-30\nGame Typ
 e: Regular\nGame Status: Complete\nHome Team: Soccer Sisters\nAway Team: G
 oalDiggers\nHome Score: 6\nAway Score: 6
END:VEVENT
BEGIN:VEVENT
UID:11995479@ezleagues.ezfacility.com
DTSTAMP:20260426T034051Z
CREATED:20260426T034051Z
DTSTART:20190218T005500Z
DTEND:20190218T015000Z
LOCATION:VA Army National Guard Field 2
CONTACT:
SUMMARY:Soccer Sisters VS. Storm FC
DESCRIPTION:League Name: November 25, 2018 Sunday Women's Over-30\nGame Typ
 e: Regular\nGame Status: Complete\nHome Team: Soccer Sisters\nAway Team: S
 torm FC\nHome Score: 6\nAway Score: 8
END:VEVENT
BEGIN:VEVENT
UID:11995485@ezleagues.ezfacility.com
DTSTAMP:20260426T034051Z
CREATED:20260426T034051Z
DTSTART:20190225T005500Z
DTEND:20190225T015000Z
LOCATION:VA Army National Guard Field 2
CONTACT:
SUMMARY:Soccer Sisters VS. On the run
DESCRIPTION:League Name: November 25, 2018 Sunday Women's Over-30\nGame Typ
 e: Regular\nGame Status: Complete\nHome Team: Soccer Sisters\nAway Team: O
 n the run\nHome Score: 6\nAway Score: 12
END:VEVENT
END:VCALENDAR
