BEGIN:VCALENDAR
VERSION:2.0
PRODID:-//EZFacility.com, Inc.//EZL 2.5.5.28621
BEGIN:VEVENT
UID:12014876@ezleagues.ezfacility.com
DTSTAMP:20260421T155002Z
CREATED:20260421T155002Z
DTSTART:20190106T221500Z
DTEND:20190106T231500Z
LOCATION:Field 3 
CONTACT:
SUMMARY:Southington Fire U11 VS. Glastonbury Galaxy U11
DESCRIPTION:League Name: Winter 2-Youth Competitive-Boys-U11 (2008) West\nG
 ame Type: Regular\nGame Status: Complete\nHome Team: Southington Fire U11\
 nAway Team: Glastonbury Galaxy U11\nHome Score: 2\nAway Score: 5
END:VEVENT
BEGIN:VEVENT
UID:12014879@ezleagues.ezfacility.com
DTSTAMP:20260421T155002Z
CREATED:20260421T155002Z
DTSTART:20190111T230000Z
DTEND:20190112T000000Z
LOCATION:Field 3 
CONTACT:
SUMMARY:Glastonbury Galaxy U11 VS. FSA FC '08 CT
DESCRIPTION:League Name: Winter 2-Youth Competitive-Boys-U11 (2008) West\nG
 ame Type: Regular\nGame Status: Complete\nHome Team: Glastonbury Galaxy U1
 1\nAway Team: FSA FC '08 CT\nHome Score: 3\nAway Score: 4
END:VEVENT
BEGIN:VEVENT
UID:12014889@ezleagues.ezfacility.com
DTSTAMP:20260421T155002Z
CREATED:20260421T155002Z
DTSTART:20190126T010000Z
DTEND:20190126T020000Z
LOCATION:Field 3 
CONTACT:
SUMMARY:Glastonbury Galaxy U11 VS. Meriden SC U11 B
DESCRIPTION:League Name: Winter 2-Youth Competitive-Boys-U11 (2008) West\nG
 ame Type: Regular\nGame Status: Complete\nHome Team: Glastonbury Galaxy U1
 1\nAway Team: Meriden SC U11 B\nHome Score: 2\nAway Score: 1
END:VEVENT
BEGIN:VEVENT
UID:12014894@ezleagues.ezfacility.com
DTSTAMP:20260421T155002Z
CREATED:20260421T155002Z
DTSTART:20190203T191500Z
DTEND:20190203T201500Z
LOCATION:Field 3 
CONTACT:Shayler A
SUMMARY:Glastonbury Galaxy U11 VS. Southington Skycats U11
DESCRIPTION:League Name: Winter 2-Youth Competitive-Boys-U11 (2008) West\nG
 ame Type: Regular\nGame Status: Complete\nHome Team: Glastonbury Galaxy U1
 1\nAway Team: Southington Skycats U11\nHome Score: 4\nAway Score: 2
END:VEVENT
BEGIN:VEVENT
UID:12014898@ezleagues.ezfacility.com
DTSTAMP:20260421T155002Z
CREATED:20260421T155002Z
DTSTART:20190209T000000Z
DTEND:20190209T010000Z
LOCATION:Field 3 
CONTACT:Bach
SUMMARY:Simsbury Trojans U11 VS. Glastonbury Galaxy U11
DESCRIPTION:League Name: Winter 2-Youth Competitive-Boys-U11 (2008) West\nG
 ame Type: Regular\nGame Status: Complete\nHome Team: Simsbury Trojans U11\
 nAway Team: Glastonbury Galaxy U11\nHome Score: 2\nAway Score: 8
END:VEVENT
BEGIN:VEVENT
UID:12014901@ezleagues.ezfacility.com
DTSTAMP:20260421T155002Z
CREATED:20260421T155002Z
DTSTART:20190217T211500Z
DTEND:20190217T221500Z
LOCATION:Field 3 
CONTACT:
SUMMARY:Vale SC '08 VS. Glastonbury Galaxy U11
DESCRIPTION:League Name: Winter 2-Youth Competitive-Boys-U11 (2008) West\nG
 ame Type: Regular\nGame Status: Complete\nHome Team: Vale SC '08\nAway Tea
 m: Glastonbury Galaxy U11\nHome Score: 2\nAway Score: 3
END:VEVENT
BEGIN:VEVENT
UID:12014884@ezleagues.ezfacility.com
DTSTAMP:20260421T155002Z
CREATED:20260421T155002Z
DTSTART:20190224T211500Z
DTEND:20190224T221500Z
LOCATION:Field 3 
CONTACT:Mucka D
SUMMARY:Glastonbury Galaxy U11 VS. West Hartford U11B
DESCRIPTION:League Name: Winter 2-Youth Competitive-Boys-U11 (2008) West\nG
 ame Type: Regular\nGame Status: Complete\nHome Team: Glastonbury Galaxy U1
 1\nAway Team: West Hartford U11B\nHome Score: 2\nAway Score: 2
END:VEVENT
END:VCALENDAR
