BEGIN:VCALENDAR
VERSION:2.0
PRODID:-//EZFacility.com, Inc.//EZL 2.5.5.28621
BEGIN:VEVENT
UID:11994078@ezleagues.ezfacility.com
DTSTAMP:20260424T170913Z
CREATED:20260424T170913Z
DTSTART:20190109T030000Z
DTEND:20190109T040000Z
LOCATION:Field 3 
CONTACT:Sandoval
SUMMARY:Travelers FC VS. FC Jalapenos
DESCRIPTION:League Name: Winter 2-Adult-Mens Open - South\nGame Type: Regul
 ar\nGame Status: Complete\nHome Team: Travelers FC\nAway Team: FC Jalapeno
 s\nHome Score: 8\nAway Score: 4
END:VEVENT
BEGIN:VEVENT
UID:11994082@ezleagues.ezfacility.com
DTSTAMP:20260424T170913Z
CREATED:20260424T170913Z
DTSTART:20190116T020000Z
DTEND:20190116T030000Z
LOCATION:Field 3 
CONTACT:Bouazza 
SUMMARY:Ajax '00-01 Orange VS. FC Jalapenos
DESCRIPTION:League Name: Winter 2-Adult-Mens Open - South\nGame Type: Regul
 ar\nGame Status: Complete\nHome Team: Ajax '00-01 Orange\nAway Team: FC Ja
 lapenos\nHome Score: 9\nAway Score: 3
END:VEVENT
BEGIN:VEVENT
UID:11994086@ezleagues.ezfacility.com
DTSTAMP:20260424T170913Z
CREATED:20260424T170913Z
DTSTART:20190123T020000Z
DTEND:20190123T030000Z
LOCATION:Field 3 
CONTACT:
SUMMARY:Black Team VS. FC Jalapenos
DESCRIPTION:League Name: Winter 2-Adult-Mens Open - South\nGame Type: Regul
 ar\nGame Status: Complete\nHome Team: Black Team\nAway Team: FC Jalapenos\
 nHome Score: 7\nAway Score: 7
END:VEVENT
BEGIN:VEVENT
UID:11994089@ezleagues.ezfacility.com
DTSTAMP:20260424T170913Z
CREATED:20260424T170913Z
DTSTART:20190130T020000Z
DTEND:20190130T030000Z
LOCATION:Field 3 
CONTACT:Christie 
SUMMARY:FC Jalapenos VS. Stucco FC
DESCRIPTION:League Name: Winter 2-Adult-Mens Open - South\nGame Type: Regul
 ar\nGame Status: Complete\nHome Team: FC Jalapenos\nAway Team: Stucco FC\n
 Home Score: 5\nAway Score: 0
END:VEVENT
BEGIN:VEVENT
UID:11994094@ezleagues.ezfacility.com
DTSTAMP:20260424T170913Z
CREATED:20260424T170913Z
DTSTART:20190206T030000Z
DTEND:20190206T040000Z
LOCATION:Field 3 
CONTACT:Bouazza 
SUMMARY:FC Jalapenos VS. Eagles
DESCRIPTION:League Name: Winter 2-Adult-Mens Open - South\nGame Type: Regul
 ar\nGame Status: Complete\nHome Team: FC Jalapenos\nAway Team: Eagles\nHom
 e Score: 7\nAway Score: 9
END:VEVENT
BEGIN:VEVENT
UID:11994102@ezleagues.ezfacility.com
DTSTAMP:20260424T170913Z
CREATED:20260424T170913Z
DTSTART:20190220T000000Z
DTEND:20190220T010000Z
LOCATION:Field 3 
CONTACT:Bouazza 
SUMMARY:FC Jalapenos VS. NB United
DESCRIPTION:League Name: Winter 2-Adult-Mens Open - South\nGame Type: Regul
 ar\nGame Status: Complete\nHome Team: FC Jalapenos\nAway Team: NB United\n
 Home Score: 5\nAway Score: 4
END:VEVENT
BEGIN:VEVENT
UID:11994098@ezleagues.ezfacility.com
DTSTAMP:20260424T170913Z
CREATED:20260424T170913Z
DTSTART:20190222T030000Z
DTEND:20190222T040000Z
LOCATION:Field 3 
CONTACT:Bouazza 
SUMMARY:FC Jalapenos VS. Avon Soccer Unlimited
DESCRIPTION:League Name: Winter 2-Adult-Mens Open - South\nGame Type: Regul
 ar\nGame Status: Complete\nHome Team: FC Jalapenos\nAway Team: Avon Soccer
  Unlimited\nHome Score: 4\nAway Score: 1
END:VEVENT
END:VCALENDAR
