BEGIN:VCALENDAR
VERSION:2.0
PRODID:-//EZFacility.com, Inc.//EZL 2.5.5.28621
BEGIN:VEVENT
UID:12074222@ezleagues.ezfacility.com
DTSTAMP:20260426T033413Z
CREATED:20260426T033413Z
DTSTART:20190112T010000Z
DTEND:20190112T020000Z
LOCATION:Jessup Premier Field #2
CONTACT:
SUMMARY:Comets - neon orange  VS. Lightning - black
DESCRIPTION:League Name: Fri Moms D1\nGame Type: Regular\nGame Status: Comp
 lete\nHome Team: Comets - neon orange \nAway Team: Lightning - black\nHome
  Score: 1\nAway Score: 7
END:VEVENT
BEGIN:VEVENT
UID:12074229@ezleagues.ezfacility.com
DTSTAMP:20260426T033413Z
CREATED:20260426T033413Z
DTSTART:20190119T000000Z
DTEND:20190119T010000Z
LOCATION:Jessup Premier Field #1
CONTACT:
SUMMARY:ADJE -  gray VS. Lightning - black
DESCRIPTION:League Name: Fri Moms D1\nGame Type: Regular\nGame Status: Comp
 lete\nHome Team: ADJE -  gray\nAway Team: Lightning - black\nHome Score: 1
 \nAway Score: 4
END:VEVENT
BEGIN:VEVENT
UID:12074235@ezleagues.ezfacility.com
DTSTAMP:20260426T033413Z
CREATED:20260426T033413Z
DTSTART:20190126T020000Z
DTEND:20190126T030000Z
LOCATION:Jessup Premier Field #2
CONTACT:
SUMMARY:Lightning - black VS. ADJE -  gray
DESCRIPTION:League Name: Fri Moms D1\nGame Type: Regular\nGame Status: Comp
 lete\nHome Team: Lightning - black\nAway Team: ADJE -  gray\nHome Score: 4
 \nAway Score: 0
END:VEVENT
BEGIN:VEVENT
UID:12074240@ezleagues.ezfacility.com
DTSTAMP:20260426T033413Z
CREATED:20260426T033413Z
DTSTART:20190202T000000Z
DTEND:20190202T010000Z
LOCATION:Jessup Premier Field #1
CONTACT:
SUMMARY:Lightning - black VS. Terminators - black 
DESCRIPTION:League Name: Fri Moms D1\nGame Type: Regular\nGame Status: Comp
 lete\nHome Team: Lightning - black\nAway Team: Terminators - black \nHome 
 Score: 5\nAway Score: 2
END:VEVENT
BEGIN:VEVENT
UID:12074239@ezleagues.ezfacility.com
DTSTAMP:20260426T033413Z
CREATED:20260426T033413Z
DTSTART:20190202T010000Z
DTEND:20190202T020000Z
LOCATION:Jessup Premier Field #1
CONTACT:
SUMMARY:Blue Moons - blue  VS. Lightning - black
DESCRIPTION:League Name: Fri Moms D1\nGame Type: Regular\nGame Status: Comp
 lete\nHome Team: Blue Moons - blue \nAway Team: Lightning - black\nHome Sc
 ore: 3\nAway Score: 8
END:VEVENT
BEGIN:VEVENT
UID:12074245@ezleagues.ezfacility.com
DTSTAMP:20260426T033413Z
CREATED:20260426T033413Z
DTSTART:20190209T000000Z
DTEND:20190209T010000Z
LOCATION:Jessup Premier Field #2
CONTACT:
SUMMARY:Lightning - black VS. Blue Moons - blue 
DESCRIPTION:League Name: Fri Moms D1\nGame Type: Regular\nGame Status: Comp
 lete\nHome Team: Lightning - black\nAway Team: Blue Moons - blue \nHome Sc
 ore: 1\nAway Score: 3
END:VEVENT
BEGIN:VEVENT
UID:12074252@ezleagues.ezfacility.com
DTSTAMP:20260426T033413Z
CREATED:20260426T033413Z
DTSTART:20190216T000000Z
DTEND:20190216T010000Z
LOCATION:Jessup Premier Field #2
CONTACT:
SUMMARY:Lightning - black VS. Comets - neon orange 
DESCRIPTION:League Name: Fri Moms D1\nGame Type: Regular\nGame Status: Comp
 lete\nHome Team: Lightning - black\nAway Team: Comets - neon orange \nHome
  Score: 0\nAway Score: 3
END:VEVENT
BEGIN:VEVENT
UID:12074259@ezleagues.ezfacility.com
DTSTAMP:20260426T033413Z
CREATED:20260426T033413Z
DTSTART:20190223T020000Z
DTEND:20190223T030000Z
LOCATION:Jessup Premier Field #2
CONTACT:
SUMMARY:Lightning - black VS. ADJE -  gray
DESCRIPTION:League Name: Fri Moms D1\nGame Type: Regular\nGame Status: Comp
 lete\nHome Team: Lightning - black\nAway Team: ADJE -  gray\nHome Score: 6
 \nAway Score: 1
END:VEVENT
BEGIN:VEVENT
UID:12074264@ezleagues.ezfacility.com
DTSTAMP:20260426T033413Z
CREATED:20260426T033413Z
DTSTART:20190302T000000Z
DTEND:20190302T010000Z
LOCATION:Jessup Premier Field #1
CONTACT:
SUMMARY:Comets - neon orange  VS. Lightning - black
DESCRIPTION:League Name: Fri Moms D1\nGame Type: Regular\nGame Status: Comp
 lete\nHome Team: Comets - neon orange \nAway Team: Lightning - black\nHome
  Score: 1\nAway Score: 2
END:VEVENT
BEGIN:VEVENT
UID:12074265@ezleagues.ezfacility.com
DTSTAMP:20260426T033413Z
CREATED:20260426T033413Z
DTSTART:20190302T010000Z
DTEND:20190302T020000Z
LOCATION:Jessup Premier Field #1
CONTACT:
SUMMARY:ADJE -  gray VS. Lightning - black
DESCRIPTION:League Name: Fri Moms D1\nGame Type: Regular\nGame Status: Comp
 lete\nHome Team: ADJE -  gray\nAway Team: Lightning - black\nHome Score: 1
 \nAway Score: 4
END:VEVENT
BEGIN:VEVENT
UID:12074270@ezleagues.ezfacility.com
DTSTAMP:20260426T033413Z
CREATED:20260426T033413Z
DTSTART:20190309T000000Z
DTEND:20190309T010000Z
LOCATION:Jessup Premier Field #2
CONTACT:
SUMMARY:Terminators - black  VS. Lightning - black
DESCRIPTION:League Name: Fri Moms D1\nGame Type: Regular\nGame Status: Comp
 lete\nHome Team: Terminators - black \nAway Team: Lightning - black\nHome 
 Score: 2\nAway Score: 7
END:VEVENT
END:VCALENDAR
