BEGIN:VCALENDAR
VERSION:2.0
PRODID:-//EZFacility.com, Inc.//EZL 2.5.5.28621
BEGIN:VEVENT
UID:11998244@ezleagues.ezfacility.com
DTSTAMP:20260426T033537Z
CREATED:20260426T033537Z
DTSTART:20181218T023000Z
DTEND:20181218T032000Z
LOCATION:Harmans Premier Field #5
CONTACT:
SUMMARY:Desk Jockeys VS. Fireblasters
DESCRIPTION:League Name: Mon Mens Open 3rd div \nGame Type: Regular\nGame S
 tatus: Complete\nHome Team: Desk Jockeys\nAway Team: Fireblasters\nHome Sc
 ore: 8\nAway Score: 9
END:VEVENT
BEGIN:VEVENT
UID:11998277@ezleagues.ezfacility.com
DTSTAMP:20260426T033537Z
CREATED:20260426T033537Z
DTSTART:20190108T023000Z
DTEND:20190108T032000Z
LOCATION:Harmans Premier Field #4
CONTACT:
SUMMARY:Fireblasters VS. Average Joes FC
DESCRIPTION:League Name: Mon Mens Open 3rd div \nGame Type: Regular\nGame S
 tatus: Complete\nHome Team: Fireblasters\nAway Team: Average Joes FC\nHome
  Score: 5\nAway Score: 4
END:VEVENT
BEGIN:VEVENT
UID:11998290@ezleagues.ezfacility.com
DTSTAMP:20260426T033537Z
CREATED:20260426T033537Z
DTSTART:20190115T000000Z
DTEND:20190115T005000Z
LOCATION:Harmans Premier Field #4
CONTACT:
SUMMARY:Fireblasters VS. Las Chivas
DESCRIPTION:League Name: Mon Mens Open 3rd div \nGame Type: Regular\nGame S
 tatus: Complete\nHome Team: Fireblasters\nAway Team: Las Chivas\nHome Scor
 e: 5\nAway Score: 6
END:VEVENT
BEGIN:VEVENT
UID:11998303@ezleagues.ezfacility.com
DTSTAMP:20260426T033537Z
CREATED:20260426T033537Z
DTSTART:20190122T014000Z
DTEND:20190122T023000Z
LOCATION:Harmans Premier Field #5
CONTACT:
SUMMARY:Fireblasters VS. S.O.L
DESCRIPTION:League Name: Mon Mens Open 3rd div \nGame Type: Regular\nGame S
 tatus: Complete\nHome Team: Fireblasters\nAway Team: S.O.L\nHome Score: 6\
 nAway Score: 9
END:VEVENT
BEGIN:VEVENT
UID:11998316@ezleagues.ezfacility.com
DTSTAMP:20260426T033537Z
CREATED:20260426T033537Z
DTSTART:20190129T032000Z
DTEND:20190129T041000Z
LOCATION:Harmans Premier Field #5
CONTACT:
SUMMARY:Fireblasters VS. Sal's Team
DESCRIPTION:League Name: Mon Mens Open 3rd div \nGame Type: Regular\nGame S
 tatus: Complete\nHome Team: Fireblasters\nAway Team: Sal's Team\nHome Scor
 e: 7\nAway Score: 3
END:VEVENT
BEGIN:VEVENT
UID:11998255@ezleagues.ezfacility.com
DTSTAMP:20260426T033537Z
CREATED:20260426T033537Z
DTSTART:20190205T023000Z
DTEND:20190205T032000Z
LOCATION:Harmans Premier Field #4
CONTACT:
SUMMARY:El Salto VS. Fireblasters
DESCRIPTION:League Name: Mon Mens Open 3rd div \nGame Type: Regular\nGame S
 tatus: Complete\nHome Team: El Salto\nAway Team: Fireblasters\nHome Score:
  5\nAway Score: 1
END:VEVENT
BEGIN:VEVENT
UID:11998266@ezleagues.ezfacility.com
DTSTAMP:20260426T033537Z
CREATED:20260426T033537Z
DTSTART:20190212T032000Z
DTEND:20190212T041000Z
LOCATION:Harmans Premier Field #5
CONTACT:
SUMMARY:Club America VS. Fireblasters
DESCRIPTION:League Name: Mon Mens Open 3rd div \nGame Type: Regular\nGame S
 tatus: Complete\nHome Team: Club America\nAway Team: Fireblasters\nHome Sc
 ore: 11\nAway Score: 5
END:VEVENT
BEGIN:VEVENT
UID:12217567@ezleagues.ezfacility.com
DTSTAMP:20260426T033537Z
CREATED:20260426T033537Z
DTSTART:20190219T014000Z
DTEND:20190219T023000Z
LOCATION:Harmans Premier Field #5
CONTACT:
SUMMARY:S.O.L VS. Fireblasters
DESCRIPTION:League Name: Mon Mens Open 3rd div \nGame Type: Regular\nGame S
 tatus: Complete\nHome Team: S.O.L\nAway Team: Fireblasters\nHome Score: 4\
 nAway Score: 6
END:VEVENT
BEGIN:VEVENT
UID:12229157@ezleagues.ezfacility.com
DTSTAMP:20260426T033537Z
CREATED:20260426T033537Z
DTSTART:20190226T041000Z
DTEND:20190226T050000Z
LOCATION:Harmans Premier Field #4
CONTACT:
SUMMARY:Sal's Team VS. Fireblasters
DESCRIPTION:League Name: Mon Mens Open 3rd div \nGame Type: Regular\nGame S
 tatus: Complete\nHome Team: Sal's Team\nAway Team: Fireblasters\nHome Scor
 e: 5\nAway Score: 3
END:VEVENT
END:VCALENDAR
