BEGIN:VCALENDAR
VERSION:2.0
PRODID:-//EZFacility.com, Inc.//EZL 2.5.5.28621
BEGIN:VEVENT
UID:11999889@ezleagues.ezfacility.com
DTSTAMP:20260425T180743Z
CREATED:20260425T180743Z
DTSTART:20181219T011000Z
DTEND:20181219T020000Z
LOCATION:Sand Court 2
CONTACT:
SUMMARY:Drinkers with a Bumping Problem VS. Sandy Zips
DESCRIPTION:League Name: Tuesday Sand Co-ed 6's LB/C\nGame Type: Regular\nG
 ame Status: Complete\nHome Team: Drinkers with a Bumping Problem\nAway Tea
 m: Sandy Zips\nHome Score: 0\nAway Score: 3
END:VEVENT
BEGIN:VEVENT
UID:11999898@ezleagues.ezfacility.com
DTSTAMP:20260425T180743Z
CREATED:20260425T180743Z
DTSTART:20190108T233000Z
DTEND:20190109T002000Z
LOCATION:Sand Court 2
CONTACT:
SUMMARY:Drinkers with a Bumping Problem VS. Speed Bumps
DESCRIPTION:League Name: Tuesday Sand Co-ed 6's LB/C\nGame Type: Regular\nG
 ame Status: Pending\nHome Team: Drinkers with a Bumping Problem\nAway Team
 : Speed Bumps\n
END:VEVENT
BEGIN:VEVENT
UID:11999901@ezleagues.ezfacility.com
DTSTAMP:20260425T180743Z
CREATED:20260425T180743Z
DTSTART:20190116T002000Z
DTEND:20190116T011000Z
LOCATION:Sand Court 2
CONTACT:
SUMMARY:Drinkers with a Bumping Problem VS. Rum Ham
DESCRIPTION:League Name: Tuesday Sand Co-ed 6's LB/C\nGame Type: Regular\nG
 ame Status: Complete\nHome Team: Drinkers with a Bumping Problem\nAway Tea
 m: Rum Ham\nHome Score: 0\nAway Score: 3
END:VEVENT
BEGIN:VEVENT
UID:11999904@ezleagues.ezfacility.com
DTSTAMP:20260425T180743Z
CREATED:20260425T180743Z
DTSTART:20190123T002000Z
DTEND:20190123T011000Z
LOCATION:Sand Court 2
CONTACT:
SUMMARY:Sandy Zips VS. Drinkers with a Bumping Problem
DESCRIPTION:League Name: Tuesday Sand Co-ed 6's LB/C\nGame Type: Regular\nG
 ame Status: Complete\nHome Team: Sandy Zips\nAway Team: Drinkers with a Bu
 mping Problem\nHome Score: 2\nAway Score: 1
END:VEVENT
BEGIN:VEVENT
UID:11999895@ezleagues.ezfacility.com
DTSTAMP:20260425T180743Z
CREATED:20260425T180743Z
DTSTART:20190123T011000Z
DTEND:20190123T020000Z
LOCATION:Sand Court 2
CONTACT:
SUMMARY:Drinkers with a Bumping Problem VS. Volley Llamas
DESCRIPTION:League Name: Tuesday Sand Co-ed 6's LB/C\nGame Type: Regular\nG
 ame Status: Complete\nHome Team: Drinkers with a Bumping Problem\nAway Tea
 m: Volley Llamas\nHome Score: 1\nAway Score: 2
END:VEVENT
BEGIN:VEVENT
UID:11999907@ezleagues.ezfacility.com
DTSTAMP:20260425T180743Z
CREATED:20260425T180743Z
DTSTART:20190130T020000Z
DTEND:20190130T025000Z
LOCATION:Sand Court 2
CONTACT:
SUMMARY:Tap That Ace VS. Drinkers with a Bumping Problem
DESCRIPTION:League Name: Tuesday Sand Co-ed 6's LB/C\nGame Type: Regular\nG
 ame Status: Complete\nHome Team: Tap That Ace\nAway Team: Drinkers with a 
 Bumping Problem\nHome Score: 3\nAway Score: 0
END:VEVENT
BEGIN:VEVENT
UID:11999916@ezleagues.ezfacility.com
DTSTAMP:20260425T180743Z
CREATED:20260425T180743Z
DTSTART:20190206T011000Z
DTEND:20190206T020000Z
LOCATION:Sand Court 2
CONTACT:
SUMMARY:Rum Ham VS. Drinkers with a Bumping Problem
DESCRIPTION:League Name: Tuesday Sand Co-ed 6's LB/C\nGame Type: Regular\nG
 ame Status: Complete\nHome Team: Rum Ham\nAway Team: Drinkers with a Bumpi
 ng Problem\nHome Score: 2\nAway Score: 1
END:VEVENT
BEGIN:VEVENT
UID:11999910@ezleagues.ezfacility.com
DTSTAMP:20260425T180743Z
CREATED:20260425T180743Z
DTSTART:20190206T020000Z
DTEND:20190206T025000Z
LOCATION:Sand Court 2
CONTACT:
SUMMARY:Volley Llamas VS. Drinkers with a Bumping Problem
DESCRIPTION:League Name: Tuesday Sand Co-ed 6's LB/C\nGame Type: Regular\nG
 ame Status: Complete\nHome Team: Volley Llamas\nAway Team: Drinkers with a
  Bumping Problem\nHome Score: 1\nAway Score: 2
END:VEVENT
BEGIN:VEVENT
UID:11999913@ezleagues.ezfacility.com
DTSTAMP:20260425T180743Z
CREATED:20260425T180743Z
DTSTART:20190213T002000Z
DTEND:20190213T011000Z
LOCATION:Sand Court 2
CONTACT:
SUMMARY:Speed Bumps VS. Drinkers with a Bumping Problem
DESCRIPTION:League Name: Tuesday Sand Co-ed 6's LB/C\nGame Type: Regular\nG
 ame Status: Complete\nHome Team: Speed Bumps\nAway Team: Drinkers with a B
 umping Problem\nHome Score: 3\nAway Score: 0
END:VEVENT
BEGIN:VEVENT
UID:11999892@ezleagues.ezfacility.com
DTSTAMP:20260425T180743Z
CREATED:20260425T180743Z
DTSTART:20190220T011000Z
DTEND:20190220T020000Z
LOCATION:Sand Court 2
CONTACT:
SUMMARY:Drinkers with a Bumping Problem VS. Tap That Ace
DESCRIPTION:League Name: Tuesday Sand Co-ed 6's LB/C\nGame Type: Regular\nG
 ame Status: Complete\nHome Team: Drinkers with a Bumping Problem\nAway Tea
 m: Tap That Ace\nHome Score: 0\nAway Score: 3
END:VEVENT
BEGIN:VEVENT
UID:12180805@ezleagues.ezfacility.com
DTSTAMP:20260425T180743Z
CREATED:20260425T180743Z
DTSTART:20190226T233000Z
DTEND:20190227T001500Z
LOCATION:Sand Court 2
CONTACT:
SUMMARY:Speed Bumps VS. Drinkers with a Bumping Problem
DESCRIPTION:League Name: Tuesday Sand Co-ed 6's LB/C\nGame Type: Postseason
 \nGame Status: Complete\nHome Team: Speed Bumps\nAway Team: Drinkers with 
 a Bumping Problem\nHome Score: 0\nAway Score: 2
END:VEVENT
BEGIN:VEVENT
UID:12180808@ezleagues.ezfacility.com
DTSTAMP:20260425T180743Z
CREATED:20260425T180743Z
DTSTART:20190306T001500Z
DTEND:20190306T010000Z
LOCATION:Sand Court 2
CONTACT:
SUMMARY:Tap That Ace VS. Drinkers with a Bumping Problem
DESCRIPTION:League Name: Tuesday Sand Co-ed 6's LB/C\nGame Type: Postseason
 \nGame Status: Pending\nHome Team: Tap That Ace\nAway Team: Drinkers with 
 a Bumping Problem\n
END:VEVENT
END:VCALENDAR
