BEGIN:VCALENDAR
VERSION:2.0
PRODID:-//EZFacility.com, Inc.//EZL 2.5.5.28621
BEGIN:VEVENT
UID:12024436@ezleagues.ezfacility.com
DTSTAMP:20260426T033430Z
CREATED:20260426T033430Z
DTSTART:20181221T020000Z
DTEND:20181221T030000Z
LOCATION:Red Field
CONTACT:
SUMMARY:WCC VS. Unreal Madrid
DESCRIPTION:League Name: ADULT 2 2018/2019 Thursday Bronze and Silver Coed\
 nGame Type: Regular\nGame Status: Complete\nHome Team: WCC\nAway Team: Unr
 eal Madrid\nHome Score: 12\nAway Score: 8
END:VEVENT
BEGIN:VEVENT
UID:12024407@ezleagues.ezfacility.com
DTSTAMP:20260426T033430Z
CREATED:20260426T033430Z
DTSTART:20181228T000000Z
DTEND:20181228T010000Z
LOCATION:Black Field
CONTACT:
SUMMARY:Unreal Madrid VS. WMED United
DESCRIPTION:League Name: ADULT 2 2018/2019 Thursday Bronze and Silver Coed\
 nGame Type: Regular\nGame Status: Complete\nHome Team: Unreal Madrid\nAway
  Team: WMED United\nHome Score: 6\nAway Score: 10
END:VEVENT
BEGIN:VEVENT
UID:12024413@ezleagues.ezfacility.com
DTSTAMP:20260426T033430Z
CREATED:20260426T033430Z
DTSTART:20190104T020000Z
DTEND:20190104T030000Z
LOCATION:Kingdom Field
CONTACT:
SUMMARY:Prestige Worldwide VS. Unreal Madrid
DESCRIPTION:League Name: ADULT 2 2018/2019 Thursday Bronze and Silver Coed\
 nGame Type: Regular\nGame Status: Complete\nHome Team: Prestige Worldwide\
 nAway Team: Unreal Madrid\nHome Score: 6\nAway Score: 5
END:VEVENT
BEGIN:VEVENT
UID:12024419@ezleagues.ezfacility.com
DTSTAMP:20260426T033430Z
CREATED:20260426T033430Z
DTSTART:20190111T000000Z
DTEND:20190111T010000Z
LOCATION:Kingdom Field
CONTACT:
SUMMARY:Eaton VS. Unreal Madrid
DESCRIPTION:League Name: ADULT 2 2018/2019 Thursday Bronze and Silver Coed\
 nGame Type: Regular\nGame Status: Complete\nHome Team: Eaton\nAway Team: U
 nreal Madrid\nHome Score: 9\nAway Score: 8
END:VEVENT
BEGIN:VEVENT
UID:12024425@ezleagues.ezfacility.com
DTSTAMP:20260426T033430Z
CREATED:20260426T033430Z
DTSTART:20190118T003000Z
DTEND:20190118T013000Z
LOCATION:Red Field
CONTACT:C Santos
SUMMARY:Eagles VS. Unreal Madrid
DESCRIPTION:League Name: ADULT 2 2018/2019 Thursday Bronze and Silver Coed\
 nGame Type: Regular\nGame Status: Complete\nHome Team: Eagles\nAway Team: 
 Unreal Madrid\nHome Score: 9\nAway Score: 6
END:VEVENT
BEGIN:VEVENT
UID:12024431@ezleagues.ezfacility.com
DTSTAMP:20260426T033430Z
CREATED:20260426T033430Z
DTSTART:20190125T003000Z
DTEND:20190125T013000Z
LOCATION:Red Field
CONTACT:C Santos
SUMMARY:Unreal Madrid VS. M3 Architects
DESCRIPTION:League Name: ADULT 2 2018/2019 Thursday Bronze and Silver Coed\
 nGame Type: Regular\nGame Status: Complete\nHome Team: Unreal Madrid\nAway
  Team: M3 Architects\nHome Score: 6\nAway Score: 8
END:VEVENT
BEGIN:VEVENT
UID:12061067@ezleagues.ezfacility.com
DTSTAMP:20260426T033430Z
CREATED:20260426T033430Z
DTSTART:20190201T000000Z
DTEND:20190201T010000Z
LOCATION:Black Field
CONTACT:
SUMMARY:Plante Moran VS. Unreal Madrid
DESCRIPTION:League Name: ADULT 2 2018/2019 Thursday Bronze and Silver Coed\
 nGame Type: Regular\nGame Status: Complete\nHome Team: Plante Moran\nAway 
 Team: Unreal Madrid\nHome Score: 10\nAway Score: 9
END:VEVENT
BEGIN:VEVENT
UID:12065266@ezleagues.ezfacility.com
DTSTAMP:20260426T033430Z
CREATED:20260426T033430Z
DTSTART:20190207T230000Z
DTEND:20190208T000000Z
LOCATION:Black Field
CONTACT:
SUMMARY:Otis VS. Unreal Madrid
DESCRIPTION:League Name: ADULT 2 2018/2019 Thursday Bronze and Silver Coed\
 nGame Type: Regular\nGame Status: Complete\nHome Team: Otis\nAway Team: Un
 real Madrid\nHome Score: 6\nAway Score: 5
END:VEVENT
END:VCALENDAR
