BEGIN:VCALENDAR
VERSION:2.0
PRODID:-//EZFacility.com, Inc.//EZL 2.5.5.28621
BEGIN:VEVENT
UID:12024436@ezleagues.ezfacility.com
DTSTAMP:20260422T145128Z
CREATED:20260422T145128Z
DTSTART:20181221T020000Z
DTEND:20181221T030000Z
LOCATION:Red Field
CONTACT:
SUMMARY:WCC VS. Unreal Madrid
DESCRIPTION:League Name: ADULT 2 2018/2019 Thursday Bronze and Silver Coed\
 nGame Type: Regular\nGame Status: Complete\nHome Team: WCC\nAway Team: Unr
 eal Madrid\nHome Score: 12\nAway Score: 8
END:VEVENT
BEGIN:VEVENT
UID:12024406@ezleagues.ezfacility.com
DTSTAMP:20260422T145128Z
CREATED:20260422T145128Z
DTSTART:20181227T230000Z
DTEND:20181228T000000Z
LOCATION:Red Field
CONTACT:C Santos
SUMMARY:Prestige Worldwide VS. WCC
DESCRIPTION:League Name: ADULT 2 2018/2019 Thursday Bronze and Silver Coed\
 nGame Type: Regular\nGame Status: Complete\nHome Team: Prestige Worldwide\
 nAway Team: WCC\nHome Score: 3\nAway Score: 24
END:VEVENT
BEGIN:VEVENT
UID:12024412@ezleagues.ezfacility.com
DTSTAMP:20260422T145128Z
CREATED:20260422T145128Z
DTSTART:20190103T230000Z
DTEND:20190104T000000Z
LOCATION:Black Field
CONTACT:C Santos
SUMMARY:Eaton VS. WCC
DESCRIPTION:League Name: ADULT 2 2018/2019 Thursday Bronze and Silver Coed\
 nGame Type: Regular\nGame Status: Complete\nHome Team: Eaton\nAway Team: W
 CC\nHome Score: 10\nAway Score: 10
END:VEVENT
BEGIN:VEVENT
UID:12024418@ezleagues.ezfacility.com
DTSTAMP:20260422T145128Z
CREATED:20260422T145128Z
DTSTART:20190110T230000Z
DTEND:20190111T000000Z
LOCATION:Black Field
CONTACT:
SUMMARY:Injured Reserves VS. WCC
DESCRIPTION:League Name: ADULT 2 2018/2019 Thursday Bronze and Silver Coed\
 nGame Type: Regular\nGame Status: Complete\nHome Team: Injured Reserves\nA
 way Team: WCC\nHome Score: 13\nAway Score: 13
END:VEVENT
BEGIN:VEVENT
UID:12024424@ezleagues.ezfacility.com
DTSTAMP:20260422T145128Z
CREATED:20260422T145128Z
DTSTART:20190117T230000Z
DTEND:20190118T000000Z
LOCATION:Kingdom Field
CONTACT:
SUMMARY:Flying Dutchman VS. WCC
DESCRIPTION:League Name: ADULT 2 2018/2019 Thursday Bronze and Silver Coed\
 nGame Type: Regular\nGame Status: Complete\nHome Team: Flying Dutchman\nAw
 ay Team: WCC\nHome Score: 4\nAway Score: 6
END:VEVENT
BEGIN:VEVENT
UID:12024430@ezleagues.ezfacility.com
DTSTAMP:20260422T145128Z
CREATED:20260422T145128Z
DTSTART:20190125T013000Z
DTEND:20190125T023000Z
LOCATION:Red Field
CONTACT:C Santos
SUMMARY:WCC VS. Wasted Potential
DESCRIPTION:League Name: ADULT 2 2018/2019 Thursday Bronze and Silver Coed\
 nGame Type: Regular\nGame Status: Complete\nHome Team: WCC\nAway Team: Was
 ted Potential\nHome Score: 8\nAway Score: 5
END:VEVENT
BEGIN:VEVENT
UID:12064162@ezleagues.ezfacility.com
DTSTAMP:20260422T145128Z
CREATED:20260422T145128Z
DTSTART:20190207T230000Z
DTEND:20190208T000000Z
LOCATION:Kingdom Field
CONTACT:
SUMMARY:WCC VS. "Football Friends"
DESCRIPTION:League Name: ADULT 2 2018/2019 Thursday Bronze and Silver Coed\
 nGame Type: Regular\nGame Status: Complete\nHome Team: WCC\nAway Team: "Fo
 otball Friends"\nHome Score: 6\nAway Score: 15
END:VEVENT
BEGIN:VEVENT
UID:12024442@ezleagues.ezfacility.com
DTSTAMP:20260422T145128Z
CREATED:20260422T145128Z
DTSTART:20190208T003000Z
DTEND:20190208T013000Z
LOCATION:Red Field
CONTACT:
SUMMARY:Prestige Worldwide VS. WCC
DESCRIPTION:League Name: ADULT 2 2018/2019 Thursday Bronze and Silver Coed\
 nGame Type: Regular\nGame Status: Complete\nHome Team: Prestige Worldwide\
 nAway Team: WCC\nHome Score: 2\nAway Score: 8
END:VEVENT
END:VCALENDAR
