BEGIN:VCALENDAR
VERSION:2.0
PRODID:-//EZFacility.com, Inc.//EZL 2.5.5.28621
BEGIN:VEVENT
UID:12143416@ezleagues.ezfacility.com
DTSTAMP:20260422T005137Z
CREATED:20260422T005137Z
DTSTART:20190126T234500Z
DTEND:20190127T003000Z
LOCATION:Field 1
CONTACT:
SUMMARY:Blue Stars VS. PSA Straight Shooters
DESCRIPTION:League Name: Winter 2 2019 HS Girls\nGame Type: Regular\nGame S
 tatus: Complete\nHome Team: Blue Stars\nAway Team: PSA Straight Shooters\n
 Home Score: 21\nAway Score: 3
END:VEVENT
BEGIN:VEVENT
UID:12143443@ezleagues.ezfacility.com
DTSTAMP:20260422T005137Z
CREATED:20260422T005137Z
DTSTART:20190203T020000Z
DTEND:20190203T024500Z
LOCATION:xxxx
CONTACT:
SUMMARY:Blue Stars VS. Silver Spring Panthers
DESCRIPTION:League Name: Winter 2 2019 HS Girls\nGame Type: Regular\nGame S
 tatus: Complete\nHome Team: Blue Stars\nAway Team: Silver Spring Panthers\
 nHome Score: 9\nAway Score: 4
END:VEVENT
BEGIN:VEVENT
UID:12143470@ezleagues.ezfacility.com
DTSTAMP:20260422T005137Z
CREATED:20260422T005137Z
DTSTART:20190210T013000Z
DTEND:20190210T021500Z
LOCATION:Field 1
CONTACT:
SUMMARY:Blue Stars VS. Team USA
DESCRIPTION:League Name: Winter 2 2019 HS Girls\nGame Type: Regular\nGame S
 tatus: Complete\nHome Team: Blue Stars\nAway Team: Team USA\nHome Score: 1
 3\nAway Score: 2
END:VEVENT
BEGIN:VEVENT
UID:12143524@ezleagues.ezfacility.com
DTSTAMP:20260422T005137Z
CREATED:20260422T005137Z
DTSTART:20190224T021500Z
DTEND:20190224T030000Z
LOCATION:Field 1
CONTACT:Esquerre
SUMMARY:Gaithersburg Soccer School U18 VS. Blue Stars
DESCRIPTION:League Name: Winter 2 2019 HS Girls\nGame Type: Regular\nGame S
 tatus: Complete\nHome Team: Gaithersburg Soccer School U18\nAway Team: Blu
 e Stars\nHome Score: 3\nAway Score: 0
END:VEVENT
BEGIN:VEVENT
UID:12143551@ezleagues.ezfacility.com
DTSTAMP:20260422T005137Z
CREATED:20260422T005137Z
DTSTART:20190303T023000Z
DTEND:20190303T031500Z
LOCATION:Field 2 
CONTACT:
SUMMARY:PSA Straight Shooters VS. Blue Stars
DESCRIPTION:League Name: Winter 2 2019 HS Girls\nGame Type: Regular\nGame S
 tatus: Complete\nHome Team: PSA Straight Shooters\nAway Team: Blue Stars\n
 Home Score: 2\nAway Score: 12
END:VEVENT
BEGIN:VEVENT
UID:12143497@ezleagues.ezfacility.com
DTSTAMP:20260422T005137Z
CREATED:20260422T005137Z
DTSTART:20190309T000000Z
DTEND:20190309T004500Z
LOCATION:Field 2 
CONTACT:
SUMMARY:Blue Stars VS. Rave
DESCRIPTION:League Name: Winter 2 2019 HS Girls\nGame Type: Regular\nGame S
 tatus: Complete\nHome Team: Blue Stars\nAway Team: Rave\nHome Score: 9\nAw
 ay Score: 2
END:VEVENT
BEGIN:VEVENT
UID:12143578@ezleagues.ezfacility.com
DTSTAMP:20260422T005137Z
CREATED:20260422T005137Z
DTSTART:20190310T021500Z
DTEND:20190310T030000Z
LOCATION:Field 1
CONTACT:
SUMMARY:Silver Spring Panthers VS. Blue Stars
DESCRIPTION:League Name: Winter 2 2019 HS Girls\nGame Type: Regular\nGame S
 tatus: Complete\nHome Team: Silver Spring Panthers\nAway Team: Blue Stars\
 nHome Score: 2\nAway Score: 15
END:VEVENT
BEGIN:VEVENT
UID:12143606@ezleagues.ezfacility.com
DTSTAMP:20260422T005137Z
CREATED:20260422T005137Z
DTSTART:20190316T231500Z
DTEND:20190317T000000Z
LOCATION:Field 2 
CONTACT:Esquerre
SUMMARY:Blue Stars VS. Rave
DESCRIPTION:League Name: Winter 2 2019 HS Girls\nGame Type: Postseason\nGam
 e Status: Pending\nHome Team: Blue Stars\nAway Team: Rave\n
END:VEVENT
END:VCALENDAR
