BEGIN:VCALENDAR
VERSION:2.0
PRODID:-//EZFacility.com, Inc.//EZL 2.5.5.28621
BEGIN:VEVENT
UID:12159942@ezleagues.ezfacility.com
DTSTAMP:20260422T143905Z
CREATED:20260422T143905Z
DTSTART:20190202T173000Z
DTEND:20190202T182500Z
LOCATION:Jessup Premier Field #1
CONTACT:
SUMMARY:HES World Cup 06 VS. SEVP Venom 06
DESCRIPTION:League Name:  Youth (WINTER 2) (SD1) S/S 2006 Girls (U13) GOLD\
 nGame Type: Regular\nGame Status: Complete\nHome Team: HES World Cup 06\nA
 way Team: SEVP Venom 06\nHome Score: 2\nAway Score: 0
END:VEVENT
BEGIN:VEVENT
UID:12159697@ezleagues.ezfacility.com
DTSTAMP:20260422T143905Z
CREATED:20260422T143905Z
DTSTART:20190210T140000Z
DTEND:20190210T145500Z
LOCATION:Jessup Premier Field #2
CONTACT:
SUMMARY:SEVP Venom 06 VS. HES World Cup 06
DESCRIPTION:League Name:  Youth (WINTER 2) (SD1) S/S 2006 Girls (U13) GOLD\
 nGame Type: Regular\nGame Status: Complete\nHome Team: SEVP Venom 06\nAway
  Team: HES World Cup 06\nHome Score: 1\nAway Score: 4
END:VEVENT
BEGIN:VEVENT
UID:12159732@ezleagues.ezfacility.com
DTSTAMP:20260422T143905Z
CREATED:20260422T143905Z
DTSTART:20190216T163500Z
DTEND:20190216T173000Z
LOCATION:Jessup Premier Field #1
CONTACT:
SUMMARY:SEVP Venom 06 VS. SAC United White II
DESCRIPTION:League Name:  Youth (WINTER 2) (SD1) S/S 2006 Girls (U13) GOLD\
 nGame Type: Regular\nGame Status: Complete\nHome Team: SEVP Venom 06\nAway
  Team: SAC United White II\nHome Score: 1\nAway Score: 1
END:VEVENT
BEGIN:VEVENT
UID:12190536@ezleagues.ezfacility.com
DTSTAMP:20260422T143905Z
CREATED:20260422T143905Z
DTSTART:20190218T130000Z
DTEND:20190218T135500Z
LOCATION:Jessup Premier Field #2
CONTACT:
SUMMARY:SAC United Gold VS. SEVP Venom 06
DESCRIPTION:League Name:  Youth (WINTER 2) (SD1) S/S 2006 Girls (U13) GOLD\
 nGame Type: Regular\nGame Status: Complete\nHome Team: SAC United Gold\nAw
 ay Team: SEVP Venom 06\nHome Score: 0\nAway Score: 3
END:VEVENT
BEGIN:VEVENT
UID:12159767@ezleagues.ezfacility.com
DTSTAMP:20260422T143905Z
CREATED:20260422T143905Z
DTSTART:20190223T163500Z
DTEND:20190223T173000Z
LOCATION:Jessup Premier Field #2
CONTACT:
SUMMARY:SEVP Venom 06 VS. LTSC Thunder
DESCRIPTION:League Name:  Youth (WINTER 2) (SD1) S/S 2006 Girls (U13) GOLD\
 nGame Type: Regular\nGame Status: Complete\nHome Team: SEVP Venom 06\nAway
  Team: LTSC Thunder\nHome Score: 4\nAway Score: 1
END:VEVENT
BEGIN:VEVENT
UID:12159804@ezleagues.ezfacility.com
DTSTAMP:20260422T143905Z
CREATED:20260422T143905Z
DTSTART:20190302T163500Z
DTEND:20190302T173000Z
LOCATION:Jessup Premier Field #1
CONTACT:
SUMMARY:SEVP Venom 06 VS. SAC United White Team 1
DESCRIPTION:League Name:  Youth (WINTER 2) (SD1) S/S 2006 Girls (U13) GOLD\
 nGame Type: Regular\nGame Status: Complete\nHome Team: SEVP Venom 06\nAway
  Team: SAC United White Team 1\nHome Score: 1\nAway Score: 2
END:VEVENT
BEGIN:VEVENT
UID:12159872@ezleagues.ezfacility.com
DTSTAMP:20260422T143905Z
CREATED:20260422T143905Z
DTSTART:20190316T144000Z
DTEND:20190316T153500Z
LOCATION:Jessup Premier Field #2
CONTACT:
SUMMARY:SAC United White Team 1 VS. SEVP Venom 06
DESCRIPTION:League Name:  Youth (WINTER 2) (SD1) S/S 2006 Girls (U13) GOLD\
 nGame Type: Regular\nGame Status: Complete\nHome Team: SAC United White Te
 am 1\nAway Team: SEVP Venom 06\nHome Score: 1\nAway Score: 2
END:VEVENT
BEGIN:VEVENT
UID:12159907@ezleagues.ezfacility.com
DTSTAMP:20260422T143905Z
CREATED:20260422T143905Z
DTSTART:20190324T170000Z
DTEND:20190324T175500Z
LOCATION:Jessup Premier Field #2
CONTACT:
SUMMARY:LTSC Lightning VS. SEVP Venom 06
DESCRIPTION:League Name:  Youth (WINTER 2) (SD1) S/S 2006 Girls (U13) GOLD\
 nGame Type: Regular\nGame Status: Complete\nHome Team: LTSC Lightning\nAwa
 y Team: SEVP Venom 06\nHome Score: 1\nAway Score: 4
END:VEVENT
END:VCALENDAR
