BEGIN:VCALENDAR
VERSION:2.0
PRODID:-//EZFacility.com, Inc.//EZL 2.5.5.28621
BEGIN:VEVENT
UID:12159944@ezleagues.ezfacility.com
DTSTAMP:20260423T015032Z
CREATED:20260423T015032Z
DTSTART:20190202T163500Z
DTEND:20190202T173000Z
LOCATION:Jessup Premier Field #2
CONTACT:
SUMMARY:SAC United White Team 1 VS. LTSC Thunder
DESCRIPTION:League Name:  Youth (WINTER 2) (SD1) S/S 2006 Girls (U13) GOLD\
 nGame Type: Regular\nGame Status: Complete\nHome Team: SAC United White Te
 am 1\nAway Team: LTSC Thunder\nHome Score: 2\nAway Score: 3
END:VEVENT
BEGIN:VEVENT
UID:12159699@ezleagues.ezfacility.com
DTSTAMP:20260423T015032Z
CREATED:20260423T015032Z
DTSTART:20190209T154000Z
DTEND:20190209T163500Z
LOCATION:Jessup Premier Field #1
CONTACT:
SUMMARY:LTSC Thunder VS. SAC United White Team 1
DESCRIPTION:League Name:  Youth (WINTER 2) (SD1) S/S 2006 Girls (U13) GOLD\
 nGame Type: Regular\nGame Status: Complete\nHome Team: LTSC Thunder\nAway 
 Team: SAC United White Team 1\nHome Score: 2\nAway Score: 0
END:VEVENT
BEGIN:VEVENT
UID:12159733@ezleagues.ezfacility.com
DTSTAMP:20260423T015032Z
CREATED:20260423T015032Z
DTSTART:20190216T154000Z
DTEND:20190216T163500Z
LOCATION:Jessup Premier Field #2
CONTACT:
SUMMARY:HES World Cup 06 VS. LTSC Thunder
DESCRIPTION:League Name:  Youth (WINTER 2) (SD1) S/S 2006 Girls (U13) GOLD\
 nGame Type: Regular\nGame Status: Complete\nHome Team: HES World Cup 06\nA
 way Team: LTSC Thunder\nHome Score: 2\nAway Score: 2
END:VEVENT
BEGIN:VEVENT
UID:12159767@ezleagues.ezfacility.com
DTSTAMP:20260423T015032Z
CREATED:20260423T015032Z
DTSTART:20190223T163500Z
DTEND:20190223T173000Z
LOCATION:Jessup Premier Field #2
CONTACT:
SUMMARY:SEVP Venom 06 VS. LTSC Thunder
DESCRIPTION:League Name:  Youth (WINTER 2) (SD1) S/S 2006 Girls (U13) GOLD\
 nGame Type: Regular\nGame Status: Complete\nHome Team: SEVP Venom 06\nAway
  Team: LTSC Thunder\nHome Score: 4\nAway Score: 1
END:VEVENT
BEGIN:VEVENT
UID:12159803@ezleagues.ezfacility.com
DTSTAMP:20260423T015032Z
CREATED:20260423T015032Z
DTSTART:20190302T163500Z
DTEND:20190302T173000Z
LOCATION:Jessup Premier Field #2
CONTACT:
SUMMARY:LTSC Thunder VS. SAC United Gold
DESCRIPTION:League Name:  Youth (WINTER 2) (SD1) S/S 2006 Girls (U13) GOLD\
 nGame Type: Regular\nGame Status: Complete\nHome Team: LTSC Thunder\nAway 
 Team: SAC United Gold\nHome Score: 3\nAway Score: 2
END:VEVENT
BEGIN:VEVENT
UID:12159839@ezleagues.ezfacility.com
DTSTAMP:20260423T015032Z
CREATED:20260423T015032Z
DTSTART:20190309T163500Z
DTEND:20190309T173000Z
LOCATION:Jessup Premier Field #2
CONTACT:
SUMMARY:LTSC Thunder VS. LTSC Lightning
DESCRIPTION:League Name:  Youth (WINTER 2) (SD1) S/S 2006 Girls (U13) GOLD\
 nGame Type: Regular\nGame Status: Complete\nHome Team: LTSC Thunder\nAway 
 Team: LTSC Lightning\nHome Score: 3\nAway Score: 1
END:VEVENT
BEGIN:VEVENT
UID:12159875@ezleagues.ezfacility.com
DTSTAMP:20260423T015032Z
CREATED:20260423T015032Z
DTSTART:20190316T163000Z
DTEND:20190316T172500Z
LOCATION:Jessup Premier Field #1
CONTACT:
SUMMARY:LTSC Thunder VS. SAC United White II
DESCRIPTION:League Name:  Youth (WINTER 2) (SD1) S/S 2006 Girls (U13) GOLD\
 nGame Type: Regular\nGame Status: Complete\nHome Team: LTSC Thunder\nAway 
 Team: SAC United White II\nHome Score: 1\nAway Score: 1
END:VEVENT
BEGIN:VEVENT
UID:12159910@ezleagues.ezfacility.com
DTSTAMP:20260423T015032Z
CREATED:20260423T015032Z
DTSTART:20190324T180000Z
DTEND:20190324T185500Z
LOCATION:Jessup Premier Field #1
CONTACT:
SUMMARY:A3 Royals G06 VS. LTSC Thunder
DESCRIPTION:League Name:  Youth (WINTER 2) (SD1) S/S 2006 Girls (U13) GOLD\
 nGame Type: Regular\nGame Status: Complete\nHome Team: A3 Royals G06\nAway
  Team: LTSC Thunder\nHome Score: 3\nAway Score: 1
END:VEVENT
END:VCALENDAR
