BEGIN:VCALENDAR
VERSION:2.0
PRODID:-//EZFacility.com, Inc.//EZL 2.5.5.28621
BEGIN:VEVENT
UID:12161962@ezleagues.ezfacility.com
DTSTAMP:20260419T152057Z
CREATED:20260419T152057Z
DTSTART:20190130T024500Z
DTEND:20190130T034000Z
LOCATION:PFFC Field House - C
CONTACT:
SUMMARY:Better Together VS. AMAZEBALLS!
DESCRIPTION:League Name: MSL Soccer - Tuesday Ladies - Recreation Division\
 nGame Type: Regular\nGame Status: Complete\nHome Team: Better Together\nAw
 ay Team: AMAZEBALLS!\nHome Score: 2\nAway Score: 3
END:VEVENT
BEGIN:VEVENT
UID:12179677@ezleagues.ezfacility.com
DTSTAMP:20260419T152057Z
CREATED:20260419T152057Z
DTSTART:20190206T024500Z
DTEND:20190206T034000Z
LOCATION:PFFC Field House - C
CONTACT:
SUMMARY: Just Try'na Kick It VS. AMAZEBALLS!
DESCRIPTION:League Name: MSL Soccer - Tuesday Ladies - Recreation Division\
 nGame Type: Regular\nGame Status: Complete\nHome Team:  Just Try'na Kick I
 t\nAway Team: AMAZEBALLS!\nHome Score: 1\nAway Score: 4
END:VEVENT
BEGIN:VEVENT
UID:12179689@ezleagues.ezfacility.com
DTSTAMP:20260419T152057Z
CREATED:20260419T152057Z
DTSTART:20190212T230500Z
DTEND:20190213T000000Z
LOCATION:PFFC Field House - D
CONTACT:
SUMMARY:AMAZEBALLS! VS. Aces
DESCRIPTION:League Name: MSL Soccer - Tuesday Ladies - Recreation Division\
 nGame Type: Regular\nGame Status: Rescheduled\nHome Team: AMAZEBALLS!\nAwa
 y Team: Aces\n
END:VEVENT
BEGIN:VEVENT
UID:12179700@ezleagues.ezfacility.com
DTSTAMP:20260419T152057Z
CREATED:20260419T152057Z
DTSTART:20190220T024500Z
DTEND:20190220T034000Z
LOCATION:PFFC Field House - D
CONTACT:
SUMMARY:AMAZEBALLS! VS. Better Together
DESCRIPTION:League Name: MSL Soccer - Tuesday Ladies - Recreation Division\
 nGame Type: Regular\nGame Status: Complete\nHome Team: AMAZEBALLS!\nAway T
 eam: Better Together\nHome Score: 2\nAway Score: 1
END:VEVENT
BEGIN:VEVENT
UID:12179711@ezleagues.ezfacility.com
DTSTAMP:20260419T152057Z
CREATED:20260419T152057Z
DTSTART:20190227T034000Z
DTEND:20190227T043500Z
LOCATION:PFFC Field House - C
CONTACT:
SUMMARY: Georgetown Force VS. AMAZEBALLS!
DESCRIPTION:League Name: MSL Soccer - Tuesday Ladies - Recreation Division\
 nGame Type: Regular\nGame Status: Complete\nHome Team:  Georgetown Force\n
 Away Team: AMAZEBALLS!\nHome Score: 2\nAway Score: 2
END:VEVENT
BEGIN:VEVENT
UID:12179724@ezleagues.ezfacility.com
DTSTAMP:20260419T152057Z
CREATED:20260419T152057Z
DTSTART:20190306T005500Z
DTEND:20190306T015000Z
LOCATION:PFFC Field House - C
CONTACT:
SUMMARY:AMAZEBALLS! VS. AC Me Rollin
DESCRIPTION:League Name: MSL Soccer - Tuesday Ladies - Recreation Division\
 nGame Type: Regular\nGame Status: Complete\nHome Team: AMAZEBALLS!\nAway T
 eam: AC Me Rollin\nHome Score: 3\nAway Score: 1
END:VEVENT
BEGIN:VEVENT
UID:12179737@ezleagues.ezfacility.com
DTSTAMP:20260419T152057Z
CREATED:20260419T152057Z
DTSTART:20190312T230000Z
DTEND:20190312T235500Z
LOCATION:PFFC Field House - C
CONTACT:
SUMMARY:AMAZEBALLS! VS.  Just Try'na Kick It
DESCRIPTION:League Name: MSL Soccer - Tuesday Ladies - Recreation Division\
 nGame Type: Regular\nGame Status: Complete\nHome Team: AMAZEBALLS!\nAway T
 eam:  Just Try'na Kick It\nHome Score: 4\nAway Score: 0
END:VEVENT
BEGIN:VEVENT
UID:12179749@ezleagues.ezfacility.com
DTSTAMP:20260419T152057Z
CREATED:20260419T152057Z
DTSTART:20190321T011000Z
DTEND:20190321T020500Z
LOCATION:PFFC Dome - 3
CONTACT:
SUMMARY:Aces VS. AMAZEBALLS!
DESCRIPTION:League Name: MSL Soccer - Tuesday Ladies - Recreation Division\
 nGame Type: Regular\nGame Status: Complete\nHome Team: Aces\nAway Team: AM
 AZEBALLS!\nHome Score: 2\nAway Score: 3
END:VEVENT
BEGIN:VEVENT
UID:12179760@ezleagues.ezfacility.com
DTSTAMP:20260419T152057Z
CREATED:20260419T152057Z
DTSTART:20190326T235500Z
DTEND:20190327T005000Z
LOCATION:PFFC Field House - D
CONTACT:
SUMMARY:Better Together VS. AMAZEBALLS!
DESCRIPTION:League Name: MSL Soccer - Tuesday Ladies - Recreation Division\
 nGame Type: Regular\nGame Status: Complete\nHome Team: Better Together\nAw
 ay Team: AMAZEBALLS!\nHome Score: 1\nAway Score: 4
END:VEVENT
BEGIN:VEVENT
UID:12179771@ezleagues.ezfacility.com
DTSTAMP:20260419T152057Z
CREATED:20260419T152057Z
DTSTART:20190403T005000Z
DTEND:20190403T014500Z
LOCATION:PFFC Field House - D
CONTACT:
SUMMARY: Georgetown Force VS. AMAZEBALLS!
DESCRIPTION:League Name: MSL Soccer - Tuesday Ladies - Recreation Division\
 nGame Type: Regular\nGame Status: Complete\nHome Team:  Georgetown Force\n
 Away Team: AMAZEBALLS!\nHome Score: 2\nAway Score: 1
END:VEVENT
BEGIN:VEVENT
UID:12179784@ezleagues.ezfacility.com
DTSTAMP:20260419T152057Z
CREATED:20260419T152057Z
DTSTART:20190410T024000Z
DTEND:20190410T033500Z
LOCATION:PFFC Field House - D
CONTACT:
SUMMARY:AMAZEBALLS! VS. AC Me Rollin
DESCRIPTION:League Name: MSL Soccer - Tuesday Ladies - Recreation Division\
 nGame Type: Regular\nGame Status: Complete\nHome Team: AMAZEBALLS!\nAway T
 eam: AC Me Rollin\nHome Score: 5\nAway Score: 3
END:VEVENT
BEGIN:VEVENT
UID:12179797@ezleagues.ezfacility.com
DTSTAMP:20260419T152057Z
CREATED:20260419T152057Z
DTSTART:20190416T235500Z
DTEND:20190417T005000Z
LOCATION:PFFC Field House - C
CONTACT:
SUMMARY:AMAZEBALLS! VS.  Just Try'na Kick It
DESCRIPTION:League Name: MSL Soccer - Tuesday Ladies - Recreation Division\
 nGame Type: Regular\nGame Status: Complete\nHome Team: AMAZEBALLS!\nAway T
 eam:  Just Try'na Kick It\nHome Score: 5\nAway Score: 3
END:VEVENT
BEGIN:VEVENT
UID:12179809@ezleagues.ezfacility.com
DTSTAMP:20260419T152057Z
CREATED:20260419T152057Z
DTSTART:20190423T235500Z
DTEND:20190424T005000Z
LOCATION:PFFC Field House - C
CONTACT:
SUMMARY:Aces VS. AMAZEBALLS!
DESCRIPTION:League Name: MSL Soccer - Tuesday Ladies - Recreation Division\
 nGame Type: Regular\nGame Status: Complete\nHome Team: Aces\nAway Team: AM
 AZEBALLS!\nHome Score: 0\nAway Score: 3
END:VEVENT
BEGIN:VEVENT
UID:12179664@ezleagues.ezfacility.com
DTSTAMP:20260419T152057Z
CREATED:20260419T152057Z
DTSTART:20190430T230000Z
DTEND:20190430T235500Z
LOCATION:PFFC Field House - B
CONTACT:
SUMMARY:AC Me Rollin VS. AMAZEBALLS!
DESCRIPTION:League Name: MSL Soccer - Tuesday Ladies - Recreation Division\
 nGame Type: Regular\nGame Status: Complete\nHome Team: AC Me Rollin\nAway 
 Team: AMAZEBALLS!\nHome Score: 1\nAway Score: 2
END:VEVENT
BEGIN:VEVENT
UID:12227747@ezleagues.ezfacility.com
DTSTAMP:20260419T152057Z
CREATED:20260419T152057Z
DTSTART:20190507T230000Z
DTEND:20190507T235500Z
LOCATION:PFFC Field House - B
CONTACT:
SUMMARY:AMAZEBALLS! VS. Aces
DESCRIPTION:League Name: MSL Soccer - Tuesday Ladies - Recreation Division\
 nGame Type: Regular\nGame Status: Complete\nHome Team: AMAZEBALLS!\nAway T
 eam: Aces\nHome Score: 2\nAway Score: 2
END:VEVENT
BEGIN:VEVENT
UID:12358181@ezleagues.ezfacility.com
DTSTAMP:20260419T152057Z
CREATED:20260419T152057Z
DTSTART:20190521T230000Z
DTEND:20190521T235500Z
LOCATION:PFFC Field House - A
CONTACT:
SUMMARY:AMAZEBALLS! VS.  Just Try'na Kick It
DESCRIPTION:League Name: MSL Soccer - Tuesday Ladies - Recreation Division\
 nGame Type: Postseason\nGame Status: Complete\nHome Team: AMAZEBALLS!\nAwa
 y Team:  Just Try'na Kick It\nHome Score: 5\nAway Score: 2
END:VEVENT
END:VCALENDAR
