BEGIN:VCALENDAR
VERSION:2.0
PRODID:-//EZFacility.com, Inc.//EZL 2.5.5.28621
BEGIN:VEVENT
UID:12170775@ezleagues.ezfacility.com
DTSTAMP:20260420T024027Z
CREATED:20260420T024027Z
DTSTART:20190126T000000Z
DTEND:20190126T005500Z
LOCATION:PFFC Field House - B
CONTACT:
SUMMARY:United VS. Los Tigres
DESCRIPTION:League Name: MSL Soccer - Friday Open - Division 4 West\nGame T
 ype: Regular\nGame Status: Complete\nHome Team: United\nAway Team: Los Tig
 res\nHome Score: 1\nAway Score: 1
END:VEVENT
BEGIN:VEVENT
UID:12167333@ezleagues.ezfacility.com
DTSTAMP:20260420T024027Z
CREATED:20260420T024027Z
DTSTART:20190202T034000Z
DTEND:20190202T043500Z
LOCATION:PFFC Field House - A
CONTACT:
SUMMARY:Steamers VS. United
DESCRIPTION:League Name: MSL Soccer - Friday Open - Division 4 West\nGame T
 ype: Regular\nGame Status: Complete\nHome Team: Steamers\nAway Team: Unite
 d\nHome Score: 2\nAway Score: 2
END:VEVENT
BEGIN:VEVENT
UID:12175933@ezleagues.ezfacility.com
DTSTAMP:20260420T024027Z
CREATED:20260420T024027Z
DTSTART:20190209T030000Z
DTEND:20190209T035500Z
LOCATION:PFFC Dome - 3
CONTACT:
SUMMARY:United VS. Quarterback FC
DESCRIPTION:League Name: MSL Soccer - Friday Open - Division 4 West\nGame T
 ype: Regular\nGame Status: Complete\nHome Team: United\nAway Team: Quarter
 back FC\nHome Score: 6\nAway Score: 2
END:VEVENT
BEGIN:VEVENT
UID:12175952@ezleagues.ezfacility.com
DTSTAMP:20260420T024027Z
CREATED:20260420T024027Z
DTSTART:20190216T000000Z
DTEND:20190216T005500Z
LOCATION:PFFC Field House - B
CONTACT:
SUMMARY:United VS. Blue Hooligans
DESCRIPTION:League Name: MSL Soccer - Friday Open - Division 4 West\nGame T
 ype: Regular\nGame Status: Complete\nHome Team: United\nAway Team: Blue Ho
 oligans\nHome Score: 1\nAway Score: 1
END:VEVENT
BEGIN:VEVENT
UID:12175971@ezleagues.ezfacility.com
DTSTAMP:20260420T024027Z
CREATED:20260420T024027Z
DTSTART:20190223T043500Z
DTEND:20190223T053000Z
LOCATION:PFFC Field House - D
CONTACT:
SUMMARY:United VS. AC1
DESCRIPTION:League Name: MSL Soccer - Friday Open - Division 4 West\nGame T
 ype: Regular\nGame Status: Complete\nHome Team: United\nAway Team: AC1\nHo
 me Score: 0\nAway Score: 1
END:VEVENT
BEGIN:VEVENT
UID:12175990@ezleagues.ezfacility.com
DTSTAMP:20260420T024027Z
CREATED:20260420T024027Z
DTSTART:20190302T024500Z
DTEND:20190302T034000Z
LOCATION:PFFC Field House - C
CONTACT:
SUMMARY:United VS. Sheffield Fridays AK
DESCRIPTION:League Name: MSL Soccer - Friday Open - Division 4 West\nGame T
 ype: Regular\nGame Status: Complete\nHome Team: United\nAway Team: Sheffie
 ld Fridays AK\nHome Score: 2\nAway Score: 2
END:VEVENT
BEGIN:VEVENT
UID:12176009@ezleagues.ezfacility.com
DTSTAMP:20260420T024027Z
CREATED:20260420T024027Z
DTSTART:20190308T030000Z
DTEND:20190308T035500Z
LOCATION:PFFC Field House - D
CONTACT:
SUMMARY:United VS. Steamers
DESCRIPTION:League Name: MSL Soccer - Friday Open - Division 4 West\nGame T
 ype: Regular\nGame Status: Complete\nHome Team: United\nAway Team: Steamer
 s\nHome Score: 5\nAway Score: 0
END:VEVENT
BEGIN:VEVENT
UID:12176028@ezleagues.ezfacility.com
DTSTAMP:20260420T024027Z
CREATED:20260420T024027Z
DTSTART:20190316T014500Z
DTEND:20190316T024000Z
LOCATION:PFFC Field House - B
CONTACT:
SUMMARY:Quarterback FC VS. United
DESCRIPTION:League Name: MSL Soccer - Friday Open - Division 4 West\nGame T
 ype: Regular\nGame Status: Complete\nHome Team: Quarterback FC\nAway Team:
  United\nHome Score: 4\nAway Score: 2
END:VEVENT
BEGIN:VEVENT
UID:12176047@ezleagues.ezfacility.com
DTSTAMP:20260420T024027Z
CREATED:20260420T024027Z
DTSTART:20190323T024000Z
DTEND:20190323T033500Z
LOCATION:PFFC Field House - C
CONTACT:
SUMMARY:Blue Hooligans VS. United
DESCRIPTION:League Name: MSL Soccer - Friday Open - Division 4 West\nGame T
 ype: Regular\nGame Status: Complete\nHome Team: Blue Hooligans\nAway Team:
  United\nHome Score: 2\nAway Score: 1
END:VEVENT
BEGIN:VEVENT
UID:12176066@ezleagues.ezfacility.com
DTSTAMP:20260420T024027Z
CREATED:20260420T024027Z
DTSTART:20190329T220500Z
DTEND:20190329T230000Z
LOCATION:PFFC Field House - B
CONTACT:
SUMMARY:AC1 VS. United
DESCRIPTION:League Name: MSL Soccer - Friday Open - Division 4 West\nGame T
 ype: Regular\nGame Status: Complete\nHome Team: AC1\nAway Team: United\nHo
 me Score: 2\nAway Score: 4
END:VEVENT
BEGIN:VEVENT
UID:12176085@ezleagues.ezfacility.com
DTSTAMP:20260420T024027Z
CREATED:20260420T024027Z
DTSTART:20190406T010000Z
DTEND:20190406T015500Z
LOCATION:PFFC Dome - 3
CONTACT:
SUMMARY:Sheffield Fridays AK VS. United
DESCRIPTION:League Name: MSL Soccer - Friday Open - Division 4 West\nGame T
 ype: Regular\nGame Status: Complete\nHome Team: Sheffield Fridays AK\nAway
  Team: United\nHome Score: 1\nAway Score: 1
END:VEVENT
BEGIN:VEVENT
UID:12176104@ezleagues.ezfacility.com
DTSTAMP:20260420T024027Z
CREATED:20260420T024027Z
DTSTART:20190413T033500Z
DTEND:20190413T043000Z
LOCATION:PFFC Field House - A
CONTACT:
SUMMARY:United VS. Steamers
DESCRIPTION:League Name: MSL Soccer - Friday Open - Division 4 West\nGame T
 ype: Regular\nGame Status: Complete\nHome Team: United\nAway Team: Steamer
 s\nHome Score: 3\nAway Score: 0
END:VEVENT
BEGIN:VEVENT
UID:12176142@ezleagues.ezfacility.com
DTSTAMP:20260420T024027Z
CREATED:20260420T024027Z
DTSTART:20190427T005000Z
DTEND:20190427T014500Z
LOCATION:PFFC Dome - 1
CONTACT:
SUMMARY:Blue Hooligans VS. United
DESCRIPTION:League Name: MSL Soccer - Friday Open - Division 4 West\nGame T
 ype: Regular\nGame Status: Complete\nHome Team: Blue Hooligans\nAway Team:
  United\nHome Score: 2\nAway Score: 4
END:VEVENT
BEGIN:VEVENT
UID:12176123@ezleagues.ezfacility.com
DTSTAMP:20260420T024027Z
CREATED:20260420T024027Z
DTSTART:20190502T235500Z
DTEND:20190503T005000Z
LOCATION:PFFC Dome - 1
CONTACT:
SUMMARY:Quarterback FC VS. United
DESCRIPTION:League Name: MSL Soccer - Friday Open - Division 4 West\nGame T
 ype: Regular\nGame Status: Complete\nHome Team: Quarterback FC\nAway Team:
  United\nHome Score: 3\nAway Score: 0
END:VEVENT
BEGIN:VEVENT
UID:12364001@ezleagues.ezfacility.com
DTSTAMP:20260420T024027Z
CREATED:20260420T024027Z
DTSTART:20190504T030500Z
DTEND:20190504T040000Z
LOCATION:PFFC Field House - A
CONTACT:
SUMMARY:United VS. Blue Hooligans
DESCRIPTION:League Name: MSL Soccer - Friday Open - Division 4 West\nGame T
 ype: Postseason\nGame Status: Complete\nHome Team: United\nAway Team: Blue
  Hooligans\nHome Score: 3\nAway Score: 1
END:VEVENT
BEGIN:VEVENT
UID:12364003@ezleagues.ezfacility.com
DTSTAMP:20260420T024027Z
CREATED:20260420T024027Z
DTSTART:20190510T235000Z
DTEND:20190511T004500Z
LOCATION:PFFC Field House - C
CONTACT:
SUMMARY:AC1 VS. United
DESCRIPTION:League Name: MSL Soccer - Friday Open - Division 4 West\nGame T
 ype: Postseason\nGame Status: Complete\nHome Team: AC1\nAway Team: United\
 nHome Score: 4\nAway Score: 3
END:VEVENT
END:VCALENDAR
