BEGIN:VCALENDAR
VERSION:2.0
PRODID:-//EZFacility.com, Inc.//EZL 2.5.5.28621
BEGIN:VEVENT
UID:12176455@ezleagues.ezfacility.com
DTSTAMP:20260424T060405Z
CREATED:20260424T060405Z
DTSTART:20190127T223000Z
DTEND:20190127T232500Z
LOCATION:PFFC Field House - B
CONTACT:
SUMMARY:Pretty Yellow VS. Banter Lads Fc
DESCRIPTION:League Name: MSL Soccer - Sunday Men's Division 5 - East\nGame 
 Type: Regular\nGame Status: Complete\nHome Team: Pretty Yellow\nAway Team:
  Banter Lads Fc\nHome Score: 0\nAway Score: 5
END:VEVENT
BEGIN:VEVENT
UID:12172452@ezleagues.ezfacility.com
DTSTAMP:20260424T060405Z
CREATED:20260424T060405Z
DTSTART:20190204T002000Z
DTEND:20190204T011500Z
LOCATION:PFFC Dome - 3
CONTACT:
SUMMARY:Banter Lads Fc VS.  FC Bayern
DESCRIPTION:League Name: MSL Soccer - Sunday Men's Division 5 - East\nGame 
 Type: Regular\nGame Status: Complete\nHome Team: Banter Lads Fc\nAway Team
 :  FC Bayern\nHome Score: 2\nAway Score: 1
END:VEVENT
BEGIN:VEVENT
UID:12172506@ezleagues.ezfacility.com
DTSTAMP:20260424T060405Z
CREATED:20260424T060405Z
DTSTART:20190211T030500Z
DTEND:20190211T040000Z
LOCATION:PFFC Field House - D
CONTACT:
SUMMARY:UNFC VS. Banter Lads Fc
DESCRIPTION:League Name: MSL Soccer - Sunday Men's Division 5 - East\nGame 
 Type: Regular\nGame Status: Complete\nHome Team: UNFC\nAway Team: Banter L
 ads Fc\nHome Score: 0\nAway Score: 3
END:VEVENT
BEGIN:VEVENT
UID:12172560@ezleagues.ezfacility.com
DTSTAMP:20260424T060405Z
CREATED:20260424T060405Z
DTSTART:20190218T021000Z
DTEND:20190218T030500Z
LOCATION:PFFC Field House - A
CONTACT:
SUMMARY:Banter Lads Fc VS.  Sauga Redz
DESCRIPTION:League Name: MSL Soccer - Sunday Men's Division 5 - East\nGame 
 Type: Regular\nGame Status: Complete\nHome Team: Banter Lads Fc\nAway Team
 :  Sauga Redz\nHome Score: 3\nAway Score: 0
END:VEVENT
BEGIN:VEVENT
UID:12172614@ezleagues.ezfacility.com
DTSTAMP:20260424T060405Z
CREATED:20260424T060405Z
DTSTART:20190224T213500Z
DTEND:20190224T223000Z
LOCATION:PFFC Field House - C
CONTACT:
SUMMARY: GOATFC VS. Banter Lads Fc
DESCRIPTION:League Name: MSL Soccer - Sunday Men's Division 5 - East\nGame 
 Type: Regular\nGame Status: Complete\nHome Team:  GOATFC\nAway Team: Bante
 r Lads Fc\nHome Score: 4\nAway Score: 3
END:VEVENT
BEGIN:VEVENT
UID:12172667@ezleagues.ezfacility.com
DTSTAMP:20260424T060405Z
CREATED:20260424T060405Z
DTSTART:20190304T040000Z
DTEND:20190304T045500Z
LOCATION:PFFC Field House - D
CONTACT:
SUMMARY: Partizan Toronto VS. Banter Lads Fc
DESCRIPTION:League Name: MSL Soccer - Sunday Men's Division 5 - East\nGame 
 Type: Regular\nGame Status: Complete\nHome Team:  Partizan Toronto\nAway T
 eam: Banter Lads Fc\nHome Score: 4\nAway Score: 7
END:VEVENT
BEGIN:VEVENT
UID:12172719@ezleagues.ezfacility.com
DTSTAMP:20260424T060405Z
CREATED:20260424T060405Z
DTSTART:20190311T011500Z
DTEND:20190311T021000Z
LOCATION:PFFC Dome - 1
CONTACT:
SUMMARY:Banter Lads Fc VS.  Pjanic at the Disco
DESCRIPTION:League Name: MSL Soccer - Sunday Men's Division 5 - East\nGame 
 Type: Regular\nGame Status: Complete\nHome Team: Banter Lads Fc\nAway Team
 :  Pjanic at the Disco\nHome Score: 4\nAway Score: 3
END:VEVENT
BEGIN:VEVENT
UID:12172771@ezleagues.ezfacility.com
DTSTAMP:20260424T060405Z
CREATED:20260424T060405Z
DTSTART:20190317T224500Z
DTEND:20190317T234000Z
LOCATION:PFFC Dome - 1
CONTACT:
SUMMARY: Stip United VS. Banter Lads Fc
DESCRIPTION:League Name: MSL Soccer - Sunday Men's Division 5 - East\nGame 
 Type: Regular\nGame Status: Complete\nHome Team:  Stip United\nAway Team: 
 Banter Lads Fc\nHome Score: 0\nAway Score: 3
END:VEVENT
BEGIN:VEVENT
UID:12172823@ezleagues.ezfacility.com
DTSTAMP:20260424T060405Z
CREATED:20260424T060405Z
DTSTART:20190324T222500Z
DTEND:20190324T232000Z
LOCATION:PFFC Dome - 2
CONTACT:
SUMMARY: FC Bayern VS. Banter Lads Fc
DESCRIPTION:League Name: MSL Soccer - Sunday Men's Division 5 - East\nGame 
 Type: Regular\nGame Status: Complete\nHome Team:  FC Bayern\nAway Team: Ba
 nter Lads Fc\nHome Score: 2\nAway Score: 4
END:VEVENT
BEGIN:VEVENT
UID:12172877@ezleagues.ezfacility.com
DTSTAMP:20260424T060405Z
CREATED:20260424T060405Z
DTSTART:20190331T213000Z
DTEND:20190331T222500Z
LOCATION:PFFC Dome - 2
CONTACT:
SUMMARY:Banter Lads Fc VS. UNFC
DESCRIPTION:League Name: MSL Soccer - Sunday Men's Division 5 - East\nGame 
 Type: Regular\nGame Status: Complete\nHome Team: Banter Lads Fc\nAway Team
 : UNFC\nHome Score: 1\nAway Score: 1
END:VEVENT
BEGIN:VEVENT
UID:12172931@ezleagues.ezfacility.com
DTSTAMP:20260424T060405Z
CREATED:20260424T060405Z
DTSTART:20190407T213000Z
DTEND:20190407T222500Z
LOCATION:PFFC Field House - C
CONTACT:
SUMMARY: Sauga Redz VS. Banter Lads Fc
DESCRIPTION:League Name: MSL Soccer - Sunday Men's Division 5 - East\nGame 
 Type: Regular\nGame Status: Complete\nHome Team:  Sauga Redz\nAway Team: B
 anter Lads Fc\nHome Score: 6\nAway Score: 4
END:VEVENT
BEGIN:VEVENT
UID:12172985@ezleagues.ezfacility.com
DTSTAMP:20260424T060405Z
CREATED:20260424T060405Z
DTSTART:20190415T020500Z
DTEND:20190415T030000Z
LOCATION:PFFC Field House - B
CONTACT:
SUMMARY:Banter Lads Fc VS.  GOATFC
DESCRIPTION:League Name: MSL Soccer - Sunday Men's Division 5 - East\nGame 
 Type: Regular\nGame Status: Complete\nHome Team: Banter Lads Fc\nAway Team
 :  GOATFC\nHome Score: 1\nAway Score: 1
END:VEVENT
BEGIN:VEVENT
UID:12173038@ezleagues.ezfacility.com
DTSTAMP:20260424T060405Z
CREATED:20260424T060405Z
DTSTART:20190418T000000Z
DTEND:20190418T005500Z
LOCATION:PFFC Field House - C
CONTACT:
SUMMARY:Banter Lads Fc VS.  Partizan Toronto
DESCRIPTION:League Name: MSL Soccer - Sunday Men's Division 5 - East\nGame 
 Type: Regular\nGame Status: Complete\nHome Team: Banter Lads Fc\nAway Team
 :  Partizan Toronto\nHome Score: 4\nAway Score: 7
END:VEVENT
BEGIN:VEVENT
UID:12173090@ezleagues.ezfacility.com
DTSTAMP:20260424T060405Z
CREATED:20260424T060405Z
DTSTART:20190428T184500Z
DTEND:20190428T194000Z
LOCATION:PFFC Dome - 4
CONTACT:
SUMMARY: Pjanic at the Disco VS. Banter Lads Fc
DESCRIPTION:League Name: MSL Soccer - Sunday Men's Division 5 - East\nGame 
 Type: Regular\nGame Status: Complete\nHome Team:  Pjanic at the Disco\nAwa
 y Team: Banter Lads Fc\nHome Score: 3\nAway Score: 4
END:VEVENT
BEGIN:VEVENT
UID:12353383@ezleagues.ezfacility.com
DTSTAMP:20260424T060405Z
CREATED:20260424T060405Z
DTSTART:20190506T011000Z
DTEND:20190506T020500Z
LOCATION:PFFC Field House - D
CONTACT:
SUMMARY:Banter Lads Fc VS.  Partizan Toronto
DESCRIPTION:League Name: MSL Soccer - Sunday Men's Division 5 - East\nGame 
 Type: Postseason\nGame Status: Complete\nHome Team: Banter Lads Fc\nAway T
 eam:  Partizan Toronto\nHome Score: 1\nAway Score: 7
END:VEVENT
END:VCALENDAR
