BEGIN:VCALENDAR
VERSION:2.0
PRODID:-//EZFacility.com, Inc.//EZL 2.5.5.28621
BEGIN:VEVENT
UID:12184126@ezleagues.ezfacility.com
DTSTAMP:20260421T193706Z
CREATED:20260421T193706Z
DTSTART:20190205T034000Z
DTEND:20190205T043500Z
LOCATION:VA Army National Guard Field 2
CONTACT:
SUMMARY:Wolves VS. PSG
DESCRIPTION:League Name: Monday Coed, Div. 4 West (Jan. 2019)\nGame Type: R
 egular\nGame Status: Complete\nHome Team: Wolves\nAway Team: PSG\nHome Sco
 re: 3\nAway Score: 4
END:VEVENT
BEGIN:VEVENT
UID:12184138@ezleagues.ezfacility.com
DTSTAMP:20260421T193706Z
CREATED:20260421T193706Z
DTSTART:20190212T031500Z
DTEND:20190212T041000Z
LOCATION:Field 1
CONTACT:
SUMMARY:The Frogs VS. PSG
DESCRIPTION:League Name: Monday Coed, Div. 4 West (Jan. 2019)\nGame Type: R
 egular\nGame Status: Complete\nHome Team: The Frogs\nAway Team: PSG\nHome 
 Score: 3\nAway Score: 6
END:VEVENT
BEGIN:VEVENT
UID:12184150@ezleagues.ezfacility.com
DTSTAMP:20260421T193706Z
CREATED:20260421T193706Z
DTSTART:20190219T000000Z
DTEND:20190219T005500Z
LOCATION:VA Army National Guard Field 2
CONTACT:Portillo
SUMMARY:PSG VS. Freedom
DESCRIPTION:League Name: Monday Coed, Div. 4 West (Jan. 2019)\nGame Type: R
 egular\nGame Status: Complete\nHome Team: PSG\nAway Team: Freedom\nHome Sc
 ore: 5\nAway Score: 6
END:VEVENT
BEGIN:VEVENT
UID:12184162@ezleagues.ezfacility.com
DTSTAMP:20260421T193706Z
CREATED:20260421T193706Z
DTSTART:20190226T022000Z
DTEND:20190226T031500Z
LOCATION:Field 1
CONTACT:
SUMMARY:PSG VS. Inova FC
DESCRIPTION:League Name: Monday Coed, Div. 4 West (Jan. 2019)\nGame Type: R
 egular\nGame Status: Complete\nHome Team: PSG\nAway Team: Inova FC\nHome S
 core: 11\nAway Score: 4
END:VEVENT
BEGIN:VEVENT
UID:12184176@ezleagues.ezfacility.com
DTSTAMP:20260421T193706Z
CREATED:20260421T193706Z
DTSTART:20190305T020000Z
DTEND:20190305T025500Z
LOCATION:VA Army National Guard Field 2
CONTACT:
SUMMARY:Soccoveros VS. PSG
DESCRIPTION:League Name: Monday Coed, Div. 4 West (Jan. 2019)\nGame Type: R
 egular\nGame Status: Complete\nHome Team: Soccoveros\nAway Team: PSG\nHome
  Score: 7\nAway Score: 12
END:VEVENT
BEGIN:VEVENT
UID:12184190@ezleagues.ezfacility.com
DTSTAMP:20260421T193706Z
CREATED:20260421T193706Z
DTSTART:20190312T002500Z
DTEND:20190312T012000Z
LOCATION: Field 3
CONTACT:
SUMMARY:Wolves VS. PSG
DESCRIPTION:League Name: Monday Coed, Div. 4 West (Jan. 2019)\nGame Type: P
 ostseason\nGame Status: Complete\nHome Team: Wolves\nAway Team: PSG\nHome 
 Score: 3\nAway Score: 5
END:VEVENT
BEGIN:VEVENT
UID:12184202@ezleagues.ezfacility.com
DTSTAMP:20260421T193706Z
CREATED:20260421T193706Z
DTSTART:20190326T012000Z
DTEND:20190326T021500Z
LOCATION:Field 1
CONTACT:Portillo
SUMMARY:Freedom VS. PSG
DESCRIPTION:League Name: Monday Coed, Div. 4 West (Jan. 2019)\nGame Type: P
 ostseason\nGame Status: Complete\nHome Team: Freedom\nAway Team: PSG\nHome
  Score: 5\nAway Score: 12
END:VEVENT
END:VCALENDAR
