BEGIN:VCALENDAR
VERSION:2.0
PRODID:-//EZFacility.com, Inc.//EZL 2.5.5.28621
BEGIN:VEVENT
UID:12184124@ezleagues.ezfacility.com
DTSTAMP:20260420T204149Z
CREATED:20260420T204149Z
DTSTART:20190205T005500Z
DTEND:20190205T015000Z
LOCATION:VA Army National Guard Field 2
CONTACT:
SUMMARY:The Frogs VS. Freedom
DESCRIPTION:League Name: Monday Coed, Div. 4 West (Jan. 2019)\nGame Type: R
 egular\nGame Status: Complete\nHome Team: The Frogs\nAway Team: Freedom\nH
 ome Score: 6\nAway Score: 12
END:VEVENT
BEGIN:VEVENT
UID:12184136@ezleagues.ezfacility.com
DTSTAMP:20260420T204149Z
CREATED:20260420T204149Z
DTSTART:20190212T041000Z
DTEND:20190212T050500Z
LOCATION: Field 3
CONTACT:
SUMMARY:Freedom VS. Inova FC
DESCRIPTION:League Name: Monday Coed, Div. 4 West (Jan. 2019)\nGame Type: R
 egular\nGame Status: Complete\nHome Team: Freedom\nAway Team: Inova FC\nHo
 me Score: 8\nAway Score: 4
END:VEVENT
BEGIN:VEVENT
UID:12184150@ezleagues.ezfacility.com
DTSTAMP:20260420T204149Z
CREATED:20260420T204149Z
DTSTART:20190219T000000Z
DTEND:20190219T005500Z
LOCATION:VA Army National Guard Field 2
CONTACT:Portillo
SUMMARY:PSG VS. Freedom
DESCRIPTION:League Name: Monday Coed, Div. 4 West (Jan. 2019)\nGame Type: R
 egular\nGame Status: Complete\nHome Team: PSG\nAway Team: Freedom\nHome Sc
 ore: 5\nAway Score: 6
END:VEVENT
BEGIN:VEVENT
UID:12184164@ezleagues.ezfacility.com
DTSTAMP:20260420T204149Z
CREATED:20260420T204149Z
DTSTART:20190226T022000Z
DTEND:20190226T031500Z
LOCATION: Field 3
CONTACT:
SUMMARY:Freedom VS. Soccoveros
DESCRIPTION:League Name: Monday Coed, Div. 4 West (Jan. 2019)\nGame Type: R
 egular\nGame Status: Complete\nHome Team: Freedom\nAway Team: Soccoveros\n
 Home Score: 19\nAway Score: 1
END:VEVENT
BEGIN:VEVENT
UID:12184178@ezleagues.ezfacility.com
DTSTAMP:20260420T204149Z
CREATED:20260420T204149Z
DTSTART:20190305T012500Z
DTEND:20190305T022000Z
LOCATION:Field 1
CONTACT:Portillo
SUMMARY:Willowsford United VS. Freedom
DESCRIPTION:League Name: Monday Coed, Div. 4 West (Jan. 2019)\nGame Type: R
 egular\nGame Status: Complete\nHome Team: Willowsford United\nAway Team: F
 reedom\nHome Score: 8\nAway Score: 16
END:VEVENT
BEGIN:VEVENT
UID:12184189@ezleagues.ezfacility.com
DTSTAMP:20260420T204149Z
CREATED:20260420T204149Z
DTSTART:20190312T015500Z
DTEND:20190312T025000Z
LOCATION:VA Army National Guard Field 2
CONTACT:
SUMMARY:Freedom VS. Willowsford United
DESCRIPTION:League Name: Monday Coed, Div. 4 West (Jan. 2019)\nGame Type: P
 ostseason\nGame Status: Complete\nHome Team: Freedom\nAway Team: Willowsfo
 rd United\nHome Score: 9\nAway Score: 6
END:VEVENT
BEGIN:VEVENT
UID:12184202@ezleagues.ezfacility.com
DTSTAMP:20260420T204149Z
CREATED:20260420T204149Z
DTSTART:20190326T012000Z
DTEND:20190326T021500Z
LOCATION:Field 1
CONTACT:Portillo
SUMMARY:Freedom VS. PSG
DESCRIPTION:League Name: Monday Coed, Div. 4 West (Jan. 2019)\nGame Type: P
 ostseason\nGame Status: Complete\nHome Team: Freedom\nAway Team: PSG\nHome
  Score: 5\nAway Score: 12
END:VEVENT
END:VCALENDAR
