BEGIN:VCALENDAR
VERSION:2.0
PRODID:-//EZFacility.com, Inc.//EZL 2.5.5.28621
BEGIN:VEVENT
UID:12197352@ezleagues.ezfacility.com
DTSTAMP:20260426T033904Z
CREATED:20260426T033904Z
DTSTART:20190213T014500Z
DTEND:20190213T023500Z
LOCATION:zMississauga Valley Gymnasium 
CONTACT:
SUMMARY:  The Hundred VS.  HWFG 
DESCRIPTION:League Name: MSL Basketball - Tuesday - Kawhi Leonard Division\
 nGame Type: Regular\nGame Status: Rescheduled\nHome Team:   The Hundred\nA
 way Team:  HWFG \n
END:VEVENT
BEGIN:VEVENT
UID:12197365@ezleagues.ezfacility.com
DTSTAMP:20260426T033904Z
CREATED:20260426T033904Z
DTSTART:20190220T014500Z
DTEND:20190220T023500Z
LOCATION:zMississauga Valley Gymnasium 
CONTACT:
SUMMARY: HWFG  VS.   Huskies
DESCRIPTION:League Name: MSL Basketball - Tuesday - Kawhi Leonard Division\
 nGame Type: Regular\nGame Status: Complete\nHome Team:  HWFG \nAway Team: 
   Huskies\nHome Score: 57\nAway Score: 65
END:VEVENT
BEGIN:VEVENT
UID:12197377@ezleagues.ezfacility.com
DTSTAMP:20260426T033904Z
CREATED:20260426T033904Z
DTSTART:20190227T005500Z
DTEND:20190227T014500Z
LOCATION:zMississauga Valley Gymnasium 
CONTACT:
SUMMARY: HWFG  VS.   Brown Starz
DESCRIPTION:League Name: MSL Basketball - Tuesday - Kawhi Leonard Division\
 nGame Type: Regular\nGame Status: Complete\nHome Team:  HWFG \nAway Team: 
   Brown Starz\nHome Score: 37\nAway Score: 60
END:VEVENT
BEGIN:VEVENT
UID:12197389@ezleagues.ezfacility.com
DTSTAMP:20260426T033904Z
CREATED:20260426T033904Z
DTSTART:20190305T231500Z
DTEND:20190306T000500Z
LOCATION:zMississauga Valley Gymnasium 
CONTACT:
SUMMARY:  ZD SPREMNI VS.  HWFG 
DESCRIPTION:League Name: MSL Basketball - Tuesday - Kawhi Leonard Division\
 nGame Type: Regular\nGame Status: Complete\nHome Team:   ZD SPREMNI\nAway 
 Team:  HWFG \nHome Score: 55\nAway Score: 51
END:VEVENT
BEGIN:VEVENT
UID:12197403@ezleagues.ezfacility.com
DTSTAMP:20260426T033904Z
CREATED:20260426T033904Z
DTSTART:20190313T031500Z
DTEND:20190313T040500Z
LOCATION:zMississauga Valley Gymnasium 
CONTACT:
SUMMARY:  Dolphins VS.  HWFG 
DESCRIPTION:League Name: MSL Basketball - Tuesday - Kawhi Leonard Division\
 nGame Type: Regular\nGame Status: Complete\nHome Team:   Dolphins\nAway Te
 am:  HWFG \nHome Score: 43\nAway Score: 51
END:VEVENT
BEGIN:VEVENT
UID:12197417@ezleagues.ezfacility.com
DTSTAMP:20260426T033904Z
CREATED:20260426T033904Z
DTSTART:20190320T031500Z
DTEND:20190320T040500Z
LOCATION:zMississauga Valley Gymnasium 
CONTACT:
SUMMARY: HWFG  VS.   The Hundred
DESCRIPTION:League Name: MSL Basketball - Tuesday - Kawhi Leonard Division\
 nGame Type: Regular\nGame Status: Complete\nHome Team:  HWFG \nAway Team: 
   The Hundred\nHome Score: 41\nAway Score: 73
END:VEVENT
BEGIN:VEVENT
UID:12197430@ezleagues.ezfacility.com
DTSTAMP:20260426T033904Z
CREATED:20260426T033904Z
DTSTART:20190327T022500Z
DTEND:20190327T031500Z
LOCATION:zMississauga Valley Gymnasium 
CONTACT:
SUMMARY:  Huskies VS.  HWFG 
DESCRIPTION:League Name: MSL Basketball - Tuesday - Kawhi Leonard Division\
 nGame Type: Regular\nGame Status: Complete\nHome Team:   Huskies\nAway Tea
 m:  HWFG \nHome Score: 66\nAway Score: 47
END:VEVENT
BEGIN:VEVENT
UID:12197442@ezleagues.ezfacility.com
DTSTAMP:20260426T033904Z
CREATED:20260426T033904Z
DTSTART:20190403T013500Z
DTEND:20190403T022500Z
LOCATION:zMississauga Valley Gymnasium 
CONTACT:
SUMMARY:  Brown Starz VS.  HWFG 
DESCRIPTION:League Name: MSL Basketball - Tuesday - Kawhi Leonard Division\
 nGame Type: Regular\nGame Status: Complete\nHome Team:   Brown Starz\nAway
  Team:  HWFG \nHome Score: 65\nAway Score: 49
END:VEVENT
BEGIN:VEVENT
UID:12197454@ezleagues.ezfacility.com
DTSTAMP:20260426T033904Z
CREATED:20260426T033904Z
DTSTART:20190409T235500Z
DTEND:20190410T004500Z
LOCATION:zMississauga Valley Gymnasium 
CONTACT:
SUMMARY: HWFG  VS.   ZD SPREMNI
DESCRIPTION:League Name: MSL Basketball - Tuesday - Kawhi Leonard Division\
 nGame Type: Regular\nGame Status: Complete\nHome Team:  HWFG \nAway Team: 
   ZD SPREMNI\nHome Score: 47\nAway Score: 54
END:VEVENT
BEGIN:VEVENT
UID:12197468@ezleagues.ezfacility.com
DTSTAMP:20260426T033904Z
CREATED:20260426T033904Z
DTSTART:20190416T230500Z
DTEND:20190416T235500Z
LOCATION:zMississauga Valley Gymnasium 
CONTACT:
SUMMARY: HWFG  VS.   Dolphins
DESCRIPTION:League Name: MSL Basketball - Tuesday - Kawhi Leonard Division\
 nGame Type: Regular\nGame Status: Complete\nHome Team:  HWFG \nAway Team: 
   Dolphins\nHome Score: 66\nAway Score: 36
END:VEVENT
BEGIN:VEVENT
UID:12197482@ezleagues.ezfacility.com
DTSTAMP:20260426T033904Z
CREATED:20260426T033904Z
DTSTART:20190423T230500Z
DTEND:20190423T235500Z
LOCATION:zMississauga Valley Gymnasium 
CONTACT:
SUMMARY: HWFG  VS.   The Hundred
DESCRIPTION:League Name: MSL Basketball - Tuesday - Kawhi Leonard Division\
 nGame Type: Regular\nGame Status: Complete\nHome Team:  HWFG \nAway Team: 
   The Hundred\nHome Score: 44\nAway Score: 40
END:VEVENT
BEGIN:VEVENT
UID:12197495@ezleagues.ezfacility.com
DTSTAMP:20260426T033904Z
CREATED:20260426T033904Z
DTSTART:20190501T004500Z
DTEND:20190501T013500Z
LOCATION:zMississauga Valley Gymnasium 
CONTACT:
SUMMARY:  Huskies VS.  HWFG 
DESCRIPTION:League Name: MSL Basketball - Tuesday - Kawhi Leonard Division\
 nGame Type: Regular\nGame Status: Complete\nHome Team:   Huskies\nAway Tea
 m:  HWFG \nHome Score: 70\nAway Score: 66
END:VEVENT
BEGIN:VEVENT
UID:12353803@ezleagues.ezfacility.com
DTSTAMP:20260426T033904Z
CREATED:20260426T033904Z
DTSTART:20190508T004500Z
DTEND:20190508T013500Z
LOCATION:zMississauga Valley Gymnasium 
CONTACT:
SUMMARY:  The Hundred VS.  HWFG 
DESCRIPTION:League Name: MSL Basketball - Tuesday - Kawhi Leonard Division\
 nGame Type: Regular\nGame Status: Complete\nHome Team:   The Hundred\nAway
  Team:  HWFG \nHome Score: 64\nAway Score: 46
END:VEVENT
BEGIN:VEVENT
UID:12368203@ezleagues.ezfacility.com
DTSTAMP:20260426T033904Z
CREATED:20260426T033904Z
DTSTART:20190515T022500Z
DTEND:20190515T031500Z
LOCATION:zMississauga Valley Gymnasium 
CONTACT:
SUMMARY:  ZD SPREMNI VS.  HWFG 
DESCRIPTION:League Name: MSL Basketball - Tuesday - Kawhi Leonard Division\
 nGame Type: Postseason\nGame Status: Complete\nHome Team:   ZD SPREMNI\nAw
 ay Team:  HWFG \nHome Score: 54\nAway Score: 65
END:VEVENT
BEGIN:VEVENT
UID:12368205@ezleagues.ezfacility.com
DTSTAMP:20260426T033904Z
CREATED:20260426T033904Z
DTSTART:20190522T004500Z
DTEND:20190522T013500Z
LOCATION:zMississauga Valley Gymnasium 
CONTACT:
SUMMARY:  Brown Starz VS.  HWFG 
DESCRIPTION:League Name: MSL Basketball - Tuesday - Kawhi Leonard Division\
 nGame Type: Postseason\nGame Status: Complete\nHome Team:   Brown Starz\nA
 way Team:  HWFG \nHome Score: 67\nAway Score: 43
END:VEVENT
END:VCALENDAR
