BEGIN:VCALENDAR
VERSION:2.0
PRODID:-//EZFacility.com, Inc.//EZL 2.5.5.28621
BEGIN:VEVENT
UID:12197351@ezleagues.ezfacility.com
DTSTAMP:20260426T033840Z
CREATED:20260426T033840Z
DTSTART:20190213T041500Z
DTEND:20190213T050500Z
LOCATION:zMississauga Valley Gymnasium 
CONTACT:
SUMMARY:  Brown Starz VS.   Huskies
DESCRIPTION:League Name: MSL Basketball - Tuesday - Kawhi Leonard Division\
 nGame Type: Regular\nGame Status: Rescheduled\nHome Team:   Brown Starz\nA
 way Team:   Huskies\n
END:VEVENT
BEGIN:VEVENT
UID:12197363@ezleagues.ezfacility.com
DTSTAMP:20260426T033840Z
CREATED:20260426T033840Z
DTSTART:20190220T005500Z
DTEND:20190220T014500Z
LOCATION:zMississauga Valley Gymnasium 
CONTACT:
SUMMARY:  ZD SPREMNI VS.   Brown Starz
DESCRIPTION:League Name: MSL Basketball - Tuesday - Kawhi Leonard Division\
 nGame Type: Regular\nGame Status: Complete\nHome Team:   ZD SPREMNI\nAway 
 Team:   Brown Starz\nHome Score: 32\nAway Score: 42
END:VEVENT
BEGIN:VEVENT
UID:12197377@ezleagues.ezfacility.com
DTSTAMP:20260426T033840Z
CREATED:20260426T033840Z
DTSTART:20190227T005500Z
DTEND:20190227T014500Z
LOCATION:zMississauga Valley Gymnasium 
CONTACT:
SUMMARY: HWFG  VS.   Brown Starz
DESCRIPTION:League Name: MSL Basketball - Tuesday - Kawhi Leonard Division\
 nGame Type: Regular\nGame Status: Complete\nHome Team:  HWFG \nAway Team: 
   Brown Starz\nHome Score: 37\nAway Score: 60
END:VEVENT
BEGIN:VEVENT
UID:12197391@ezleagues.ezfacility.com
DTSTAMP:20260426T033840Z
CREATED:20260426T033840Z
DTSTART:20190306T000500Z
DTEND:20190306T005500Z
LOCATION:zMississauga Valley Gymnasium 
CONTACT:
SUMMARY:  Dolphins VS.   Brown Starz
DESCRIPTION:League Name: MSL Basketball - Tuesday - Kawhi Leonard Division\
 nGame Type: Regular\nGame Status: Complete\nHome Team:   Dolphins\nAway Te
 am:   Brown Starz\nHome Score: 48\nAway Score: 49
END:VEVENT
BEGIN:VEVENT
UID:12197404@ezleagues.ezfacility.com
DTSTAMP:20260426T033840Z
CREATED:20260426T033840Z
DTSTART:20190312T221500Z
DTEND:20190312T230500Z
LOCATION:zMississauga Valley Gymnasium 
CONTACT:
SUMMARY:  Brown Starz VS.   The Hundred
DESCRIPTION:League Name: MSL Basketball - Tuesday - Kawhi Leonard Division\
 nGame Type: Regular\nGame Status: Complete\nHome Team:   Brown Starz\nAway
  Team:   The Hundred\nHome Score: 46\nAway Score: 73
END:VEVENT
BEGIN:VEVENT
UID:12197416@ezleagues.ezfacility.com
DTSTAMP:20260426T033840Z
CREATED:20260426T033840Z
DTSTART:20190320T022500Z
DTEND:20190320T031500Z
LOCATION:zMississauga Valley Gymnasium 
CONTACT:
SUMMARY:  Huskies VS.   Brown Starz
DESCRIPTION:League Name: MSL Basketball - Tuesday - Kawhi Leonard Division\
 nGame Type: Regular\nGame Status: Complete\nHome Team:   Huskies\nAway Tea
 m:   Brown Starz\nHome Score: 60\nAway Score: 61
END:VEVENT
BEGIN:VEVENT
UID:12197428@ezleagues.ezfacility.com
DTSTAMP:20260426T033840Z
CREATED:20260426T033840Z
DTSTART:20190327T013500Z
DTEND:20190327T022500Z
LOCATION:zMississauga Valley Gymnasium 
CONTACT:
SUMMARY:  Brown Starz VS.   ZD SPREMNI
DESCRIPTION:League Name: MSL Basketball - Tuesday - Kawhi Leonard Division\
 nGame Type: Regular\nGame Status: Complete\nHome Team:   Brown Starz\nAway
  Team:   ZD SPREMNI\nHome Score: 66\nAway Score: 43
END:VEVENT
BEGIN:VEVENT
UID:12197442@ezleagues.ezfacility.com
DTSTAMP:20260426T033840Z
CREATED:20260426T033840Z
DTSTART:20190403T013500Z
DTEND:20190403T022500Z
LOCATION:zMississauga Valley Gymnasium 
CONTACT:
SUMMARY:  Brown Starz VS.  HWFG 
DESCRIPTION:League Name: MSL Basketball - Tuesday - Kawhi Leonard Division\
 nGame Type: Regular\nGame Status: Complete\nHome Team:   Brown Starz\nAway
  Team:  HWFG \nHome Score: 65\nAway Score: 49
END:VEVENT
BEGIN:VEVENT
UID:12197456@ezleagues.ezfacility.com
DTSTAMP:20260426T033840Z
CREATED:20260426T033840Z
DTSTART:20190410T004500Z
DTEND:20190410T013500Z
LOCATION:zMississauga Valley Gymnasium 
CONTACT:
SUMMARY:  Brown Starz VS.   Dolphins
DESCRIPTION:League Name: MSL Basketball - Tuesday - Kawhi Leonard Division\
 nGame Type: Regular\nGame Status: Complete\nHome Team:   Brown Starz\nAway
  Team:   Dolphins\nHome Score: 66\nAway Score: 42
END:VEVENT
BEGIN:VEVENT
UID:12197469@ezleagues.ezfacility.com
DTSTAMP:20260426T033840Z
CREATED:20260426T033840Z
DTSTART:20190416T235500Z
DTEND:20190417T004500Z
LOCATION:zMississauga Valley Gymnasium 
CONTACT:
SUMMARY:  The Hundred VS.   Brown Starz
DESCRIPTION:League Name: MSL Basketball - Tuesday - Kawhi Leonard Division\
 nGame Type: Regular\nGame Status: Complete\nHome Team:   The Hundred\nAway
  Team:   Brown Starz\nHome Score: 38\nAway Score: 49
END:VEVENT
BEGIN:VEVENT
UID:12197481@ezleagues.ezfacility.com
DTSTAMP:20260426T033840Z
CREATED:20260426T033840Z
DTSTART:20190423T221500Z
DTEND:20190423T230500Z
LOCATION:zMississauga Valley Gymnasium 
CONTACT:
SUMMARY:  Huskies VS.   Brown Starz
DESCRIPTION:League Name: MSL Basketball - Tuesday - Kawhi Leonard Division\
 nGame Type: Regular\nGame Status: Complete\nHome Team:   Huskies\nAway Tea
 m:   Brown Starz\nHome Score: 70\nAway Score: 55
END:VEVENT
BEGIN:VEVENT
UID:12197493@ezleagues.ezfacility.com
DTSTAMP:20260426T033840Z
CREATED:20260426T033840Z
DTSTART:20190501T031500Z
DTEND:20190501T040500Z
LOCATION:zMississauga Valley Gymnasium 
CONTACT:
SUMMARY:  Brown Starz VS.   ZD SPREMNI
DESCRIPTION:League Name: MSL Basketball - Tuesday - Kawhi Leonard Division\
 nGame Type: Regular\nGame Status: Complete\nHome Team:   Brown Starz\nAway
  Team:   ZD SPREMNI\nHome Score: 55\nAway Score: 38
END:VEVENT
BEGIN:VEVENT
UID:12353804@ezleagues.ezfacility.com
DTSTAMP:20260426T033840Z
CREATED:20260426T033840Z
DTSTART:20190508T031500Z
DTEND:20190508T040500Z
LOCATION:zMississauga Valley Gymnasium 
CONTACT:
SUMMARY:  Brown Starz VS.   Huskies
DESCRIPTION:League Name: MSL Basketball - Tuesday - Kawhi Leonard Division\
 nGame Type: Regular\nGame Status: Complete\nHome Team:   Brown Starz\nAway
  Team:   Huskies\nHome Score: 63\nAway Score: 43
END:VEVENT
BEGIN:VEVENT
UID:12368204@ezleagues.ezfacility.com
DTSTAMP:20260426T033840Z
CREATED:20260426T033840Z
DTSTART:20190515T031500Z
DTEND:20190515T040500Z
LOCATION:zMississauga Valley Gymnasium 
CONTACT:
SUMMARY:  Huskies VS.   Brown Starz
DESCRIPTION:League Name: MSL Basketball - Tuesday - Kawhi Leonard Division\
 nGame Type: Exhibition\nGame Status: Pending\nHome Team:   Huskies\nAway T
 eam:   Brown Starz\n
END:VEVENT
BEGIN:VEVENT
UID:12368205@ezleagues.ezfacility.com
DTSTAMP:20260426T033840Z
CREATED:20260426T033840Z
DTSTART:20190522T004500Z
DTEND:20190522T013500Z
LOCATION:zMississauga Valley Gymnasium 
CONTACT:
SUMMARY:  Brown Starz VS.  HWFG 
DESCRIPTION:League Name: MSL Basketball - Tuesday - Kawhi Leonard Division\
 nGame Type: Postseason\nGame Status: Complete\nHome Team:   Brown Starz\nA
 way Team:  HWFG \nHome Score: 67\nAway Score: 43
END:VEVENT
BEGIN:VEVENT
UID:12368208@ezleagues.ezfacility.com
DTSTAMP:20260426T033840Z
CREATED:20260426T033840Z
DTSTART:20190529T004500Z
DTEND:20190529T013500Z
LOCATION:zMississauga Valley Gymnasium 
CONTACT:
SUMMARY:  Brown Starz VS.   The Hundred
DESCRIPTION:League Name: MSL Basketball - Tuesday - Kawhi Leonard Division\
 nGame Type: Postseason\nGame Status: Complete\nHome Team:   Brown Starz\nA
 way Team:   The Hundred\nHome Score: 25\nAway Score: 32
END:VEVENT
END:VCALENDAR
