BEGIN:VCALENDAR
VERSION:2.0
PRODID:-//EZFacility.com, Inc.//EZL 2.5.5.28621
BEGIN:VEVENT
UID:12197352@ezleagues.ezfacility.com
DTSTAMP:20260425T160056Z
CREATED:20260425T160056Z
DTSTART:20190213T014500Z
DTEND:20190213T023500Z
LOCATION:zMississauga Valley Gymnasium 
CONTACT:
SUMMARY:  The Hundred VS.  HWFG 
DESCRIPTION:League Name: MSL Basketball - Tuesday - Kawhi Leonard Division\
 nGame Type: Regular\nGame Status: Rescheduled\nHome Team:   The Hundred\nA
 way Team:  HWFG \n
END:VEVENT
BEGIN:VEVENT
UID:12197364@ezleagues.ezfacility.com
DTSTAMP:20260425T160056Z
CREATED:20260425T160056Z
DTSTART:20190220T005500Z
DTEND:20190220T014500Z
LOCATION:zMississauga Valley Gymnasium 
CONTACT:
SUMMARY:  The Hundred VS.   Dolphins
DESCRIPTION:League Name: MSL Basketball - Tuesday - Kawhi Leonard Division\
 nGame Type: Regular\nGame Status: Complete\nHome Team:   The Hundred\nAway
  Team:   Dolphins\nHome Score: 47\nAway Score: 52
END:VEVENT
BEGIN:VEVENT
UID:12197376@ezleagues.ezfacility.com
DTSTAMP:20260425T160056Z
CREATED:20260425T160056Z
DTSTART:20190227T000500Z
DTEND:20190227T005500Z
LOCATION:zMississauga Valley Gymnasium 
CONTACT:
SUMMARY:  ZD SPREMNI VS.   The Hundred
DESCRIPTION:League Name: MSL Basketball - Tuesday - Kawhi Leonard Division\
 nGame Type: Regular\nGame Status: Complete\nHome Team:   ZD SPREMNI\nAway 
 Team:   The Hundred\nHome Score: 55\nAway Score: 59
END:VEVENT
BEGIN:VEVENT
UID:12197390@ezleagues.ezfacility.com
DTSTAMP:20260425T160056Z
CREATED:20260425T160056Z
DTSTART:20190306T023500Z
DTEND:20190306T032500Z
LOCATION:zMississauga Valley Gymnasium 
CONTACT:
SUMMARY:  Huskies VS.   The Hundred
DESCRIPTION:League Name: MSL Basketball - Tuesday - Kawhi Leonard Division\
 nGame Type: Regular\nGame Status: Complete\nHome Team:   Huskies\nAway Tea
 m:   The Hundred\nHome Score: 57\nAway Score: 54
END:VEVENT
BEGIN:VEVENT
UID:12197404@ezleagues.ezfacility.com
DTSTAMP:20260425T160056Z
CREATED:20260425T160056Z
DTSTART:20190312T221500Z
DTEND:20190312T230500Z
LOCATION:zMississauga Valley Gymnasium 
CONTACT:
SUMMARY:  Brown Starz VS.   The Hundred
DESCRIPTION:League Name: MSL Basketball - Tuesday - Kawhi Leonard Division\
 nGame Type: Regular\nGame Status: Complete\nHome Team:   Brown Starz\nAway
  Team:   The Hundred\nHome Score: 46\nAway Score: 73
END:VEVENT
BEGIN:VEVENT
UID:12197417@ezleagues.ezfacility.com
DTSTAMP:20260425T160056Z
CREATED:20260425T160056Z
DTSTART:20190320T031500Z
DTEND:20190320T040500Z
LOCATION:zMississauga Valley Gymnasium 
CONTACT:
SUMMARY: HWFG  VS.   The Hundred
DESCRIPTION:League Name: MSL Basketball - Tuesday - Kawhi Leonard Division\
 nGame Type: Regular\nGame Status: Complete\nHome Team:  HWFG \nAway Team: 
   The Hundred\nHome Score: 41\nAway Score: 73
END:VEVENT
BEGIN:VEVENT
UID:12197429@ezleagues.ezfacility.com
DTSTAMP:20260425T160056Z
CREATED:20260425T160056Z
DTSTART:20190327T013500Z
DTEND:20190327T022500Z
LOCATION:zMississauga Valley Gymnasium 
CONTACT:
SUMMARY:  The Hundred VS.   Dolphins
DESCRIPTION:League Name: MSL Basketball - Tuesday - Kawhi Leonard Division\
 nGame Type: Regular\nGame Status: Complete\nHome Team:   The Hundred\nAway
  Team:   Dolphins\nHome Score: 44\nAway Score: 38
END:VEVENT
BEGIN:VEVENT
UID:12197441@ezleagues.ezfacility.com
DTSTAMP:20260425T160056Z
CREATED:20260425T160056Z
DTSTART:20190403T004500Z
DTEND:20190403T013500Z
LOCATION:zMississauga Valley Gymnasium 
CONTACT:
SUMMARY:  The Hundred VS.   ZD SPREMNI
DESCRIPTION:League Name: MSL Basketball - Tuesday - Kawhi Leonard Division\
 nGame Type: Regular\nGame Status: Complete\nHome Team:   The Hundred\nAway
  Team:   ZD SPREMNI\nHome Score: 71\nAway Score: 47
END:VEVENT
BEGIN:VEVENT
UID:12197455@ezleagues.ezfacility.com
DTSTAMP:20260425T160056Z
CREATED:20260425T160056Z
DTSTART:20190409T235500Z
DTEND:20190410T004500Z
LOCATION:zMississauga Valley Gymnasium 
CONTACT:
SUMMARY:  The Hundred VS.   Huskies
DESCRIPTION:League Name: MSL Basketball - Tuesday - Kawhi Leonard Division\
 nGame Type: Regular\nGame Status: Complete\nHome Team:   The Hundred\nAway
  Team:   Huskies\nHome Score: 55\nAway Score: 43
END:VEVENT
BEGIN:VEVENT
UID:12197469@ezleagues.ezfacility.com
DTSTAMP:20260425T160056Z
CREATED:20260425T160056Z
DTSTART:20190416T235500Z
DTEND:20190417T004500Z
LOCATION:zMississauga Valley Gymnasium 
CONTACT:
SUMMARY:  The Hundred VS.   Brown Starz
DESCRIPTION:League Name: MSL Basketball - Tuesday - Kawhi Leonard Division\
 nGame Type: Regular\nGame Status: Complete\nHome Team:   The Hundred\nAway
  Team:   Brown Starz\nHome Score: 38\nAway Score: 49
END:VEVENT
BEGIN:VEVENT
UID:12197482@ezleagues.ezfacility.com
DTSTAMP:20260425T160056Z
CREATED:20260425T160056Z
DTSTART:20190423T230500Z
DTEND:20190423T235500Z
LOCATION:zMississauga Valley Gymnasium 
CONTACT:
SUMMARY: HWFG  VS.   The Hundred
DESCRIPTION:League Name: MSL Basketball - Tuesday - Kawhi Leonard Division\
 nGame Type: Regular\nGame Status: Complete\nHome Team:  HWFG \nAway Team: 
   The Hundred\nHome Score: 44\nAway Score: 40
END:VEVENT
BEGIN:VEVENT
UID:12197494@ezleagues.ezfacility.com
DTSTAMP:20260425T160056Z
CREATED:20260425T160056Z
DTSTART:20190501T031500Z
DTEND:20190501T040500Z
LOCATION:zMississauga Valley Gymnasium 
CONTACT:
SUMMARY:  Dolphins VS.   The Hundred
DESCRIPTION:League Name: MSL Basketball - Tuesday - Kawhi Leonard Division\
 nGame Type: Regular\nGame Status: Complete\nHome Team:   Dolphins\nAway Te
 am:   The Hundred\nHome Score: 49\nAway Score: 54
END:VEVENT
BEGIN:VEVENT
UID:12353803@ezleagues.ezfacility.com
DTSTAMP:20260425T160056Z
CREATED:20260425T160056Z
DTSTART:20190508T004500Z
DTEND:20190508T013500Z
LOCATION:zMississauga Valley Gymnasium 
CONTACT:
SUMMARY:  The Hundred VS.  HWFG 
DESCRIPTION:League Name: MSL Basketball - Tuesday - Kawhi Leonard Division\
 nGame Type: Regular\nGame Status: Complete\nHome Team:   The Hundred\nAway
  Team:  HWFG \nHome Score: 64\nAway Score: 46
END:VEVENT
BEGIN:VEVENT
UID:12368202@ezleagues.ezfacility.com
DTSTAMP:20260425T160056Z
CREATED:20260425T160056Z
DTSTART:20190515T013500Z
DTEND:20190515T022500Z
LOCATION:zMississauga Valley Gymnasium 
CONTACT:
SUMMARY:  The Hundred VS.   Dolphins
DESCRIPTION:League Name: MSL Basketball - Tuesday - Kawhi Leonard Division\
 nGame Type: Postseason\nGame Status: Complete\nHome Team:   The Hundred\nA
 way Team:   Dolphins\nHome Score: 61\nAway Score: 57
END:VEVENT
BEGIN:VEVENT
UID:12368206@ezleagues.ezfacility.com
DTSTAMP:20260425T160056Z
CREATED:20260425T160056Z
DTSTART:20190522T004500Z
DTEND:20190522T013500Z
LOCATION:zMississauga Valley Gymnasium 
CONTACT:
SUMMARY:  Huskies VS.   The Hundred
DESCRIPTION:League Name: MSL Basketball - Tuesday - Kawhi Leonard Division\
 nGame Type: Postseason\nGame Status: Complete\nHome Team:   Huskies\nAway 
 Team:   The Hundred\nHome Score: 50\nAway Score: 53
END:VEVENT
BEGIN:VEVENT
UID:12368208@ezleagues.ezfacility.com
DTSTAMP:20260425T160056Z
CREATED:20260425T160056Z
DTSTART:20190529T004500Z
DTEND:20190529T013500Z
LOCATION:zMississauga Valley Gymnasium 
CONTACT:
SUMMARY:  Brown Starz VS.   The Hundred
DESCRIPTION:League Name: MSL Basketball - Tuesday - Kawhi Leonard Division\
 nGame Type: Postseason\nGame Status: Complete\nHome Team:   Brown Starz\nA
 way Team:   The Hundred\nHome Score: 25\nAway Score: 32
END:VEVENT
END:VCALENDAR
