BEGIN:VCALENDAR
VERSION:2.0
PRODID:-//EZFacility.com, Inc.//EZL 2.5.5.28621
BEGIN:VEVENT
UID:12205771@ezleagues.ezfacility.com
DTSTAMP:20260423T174557Z
CREATED:20260423T174557Z
DTSTART:20190215T020000Z
DTEND:20190215T030000Z
LOCATION:Black Field
CONTACT:
SUMMARY:Unreal Madrid VS. Prestige Worldwide
DESCRIPTION:League Name: ADULT 3 2018/2019 Thursday Bronze Coed\nGame Type:
  Regular\nGame Status: Complete\nHome Team: Unreal Madrid\nAway Team: Pres
 tige Worldwide\nHome Score: 10\nAway Score: 8
END:VEVENT
BEGIN:VEVENT
UID:12205740@ezleagues.ezfacility.com
DTSTAMP:20260423T174557Z
CREATED:20260423T174557Z
DTSTART:20190222T020000Z
DTEND:20190222T030000Z
LOCATION:Red Field
CONTACT:
SUMMARY:Eagles VS. Unreal Madrid
DESCRIPTION:League Name: ADULT 3 2018/2019 Thursday Bronze Coed\nGame Type:
  Regular\nGame Status: Complete\nHome Team: Eagles\nAway Team: Unreal Madr
 id\nHome Score: 4\nAway Score: 2
END:VEVENT
BEGIN:VEVENT
UID:12205745@ezleagues.ezfacility.com
DTSTAMP:20260423T174557Z
CREATED:20260423T174557Z
DTSTART:20190301T000000Z
DTEND:20190301T010000Z
LOCATION:Black Field
CONTACT:
SUMMARY:Otis VS. Unreal Madrid
DESCRIPTION:League Name: ADULT 3 2018/2019 Thursday Bronze Coed\nGame Type:
  Regular\nGame Status: Complete\nHome Team: Otis\nAway Team: Unreal Madrid
 \nHome Score: 7\nAway Score: 12
END:VEVENT
BEGIN:VEVENT
UID:12205750@ezleagues.ezfacility.com
DTSTAMP:20260423T174557Z
CREATED:20260423T174557Z
DTSTART:20190308T020000Z
DTEND:20190308T030000Z
LOCATION:Black Field
CONTACT:
SUMMARY:Da Boyz and Grillz VS. Unreal Madrid
DESCRIPTION:League Name: ADULT 3 2018/2019 Thursday Bronze Coed\nGame Type:
  Regular\nGame Status: Complete\nHome Team: Da Boyz and Grillz\nAway Team:
  Unreal Madrid\nHome Score: 6\nAway Score: 5
END:VEVENT
BEGIN:VEVENT
UID:12205755@ezleagues.ezfacility.com
DTSTAMP:20260423T174557Z
CREATED:20260423T174557Z
DTSTART:20190314T230000Z
DTEND:20190315T000000Z
LOCATION:Red Field
CONTACT:
SUMMARY:Unreal Madrid VS. Wasted Potential
DESCRIPTION:League Name: ADULT 3 2018/2019 Thursday Bronze Coed\nGame Type:
  Regular\nGame Status: Complete\nHome Team: Unreal Madrid\nAway Team: Wast
 ed Potential\nHome Score: 9\nAway Score: 6
END:VEVENT
BEGIN:VEVENT
UID:12205760@ezleagues.ezfacility.com
DTSTAMP:20260423T174557Z
CREATED:20260423T174557Z
DTSTART:20190321T230000Z
DTEND:20190322T000000Z
LOCATION:Kingdom Field
CONTACT:C Santos
SUMMARY:Unreal Madrid VS. M3 Architects
DESCRIPTION:League Name: ADULT 3 2018/2019 Thursday Bronze Coed\nGame Type:
  Regular\nGame Status: Pending\nHome Team: Unreal Madrid\nAway Team: M3 Ar
 chitects\n
END:VEVENT
BEGIN:VEVENT
UID:12205766@ezleagues.ezfacility.com
DTSTAMP:20260423T174557Z
CREATED:20260423T174557Z
DTSTART:20190329T010000Z
DTEND:20190329T020000Z
LOCATION:Black Field
CONTACT:
SUMMARY:Unreal Madrid VS. Eaton
DESCRIPTION:League Name: ADULT 3 2018/2019 Thursday Bronze Coed\nGame Type:
  Regular\nGame Status: Complete\nHome Team: Unreal Madrid\nAway Team: Eato
 n\nHome Score: 9\nAway Score: 6
END:VEVENT
BEGIN:VEVENT
UID:12205736@ezleagues.ezfacility.com
DTSTAMP:20260423T174557Z
CREATED:20260423T174557Z
DTSTART:20190405T000000Z
DTEND:20190405T010000Z
LOCATION:Black Field
CONTACT:
SUMMARY:Pfizer VS. Unreal Madrid
DESCRIPTION:League Name: ADULT 3 2018/2019 Thursday Bronze Coed\nGame Type:
  Regular\nGame Status: Complete\nHome Team: Pfizer\nAway Team: Unreal Madr
 id\nHome Score: 10\nAway Score: 14
END:VEVENT
END:VCALENDAR
