BEGIN:VCALENDAR
VERSION:2.0
PRODID:-//EZFacility.com, Inc.//EZL 2.5.5.28621
BEGIN:VEVENT
UID:12229202@ezleagues.ezfacility.com
DTSTAMP:20260424T063937Z
CREATED:20260424T063937Z
DTSTART:20190225T010000Z
DTEND:20190225T020000Z
LOCATION:Harmans Premier Field #4
CONTACT:
SUMMARY:Arsenal VS. Cuervos de Baltimore
DESCRIPTION:League Name: Sun Coed Open 3rd div Silver \nGame Type: Regular\
 nGame Status: Complete\nHome Team: Arsenal\nAway Team: Cuervos de Baltimor
 e\nHome Score: 3\nAway Score: 4
END:VEVENT
BEGIN:VEVENT
UID:12229217@ezleagues.ezfacility.com
DTSTAMP:20260424T063937Z
CREATED:20260424T063937Z
DTSTART:20190304T040500Z
DTEND:20190304T045300Z
LOCATION:Harmans Premier Field #4
CONTACT:
SUMMARY: 	Scittbox Woes VS. Cuervos de Baltimore
DESCRIPTION:League Name: Sun Coed Open 3rd div Silver \nGame Type: Regular\
 nGame Status: Complete\nHome Team:  	Scittbox Woes\nAway Team: Cuervos de 
 Baltimore\nHome Score: 4\nAway Score: 6
END:VEVENT
BEGIN:VEVENT
UID:12229232@ezleagues.ezfacility.com
DTSTAMP:20260424T063937Z
CREATED:20260424T063937Z
DTSTART:20190310T220500Z
DTEND:20190310T230500Z
LOCATION:Harmans Premier Field #5
CONTACT:
SUMMARY:Cuervos de Baltimore VS. The Snakes
DESCRIPTION:League Name: Sun Coed Open 3rd div Silver \nGame Type: Regular\
 nGame Status: Complete\nHome Team: Cuervos de Baltimore\nAway Team: The Sn
 akes\nHome Score: 9\nAway Score: 5
END:VEVENT
BEGIN:VEVENT
UID:12229246@ezleagues.ezfacility.com
DTSTAMP:20260424T063937Z
CREATED:20260424T063937Z
DTSTART:20190318T000000Z
DTEND:20190318T010000Z
LOCATION:Harmans Premier Field #5
CONTACT:
SUMMARY:United VS. Cuervos de Baltimore
DESCRIPTION:League Name: Sun Coed Open 3rd div Silver \nGame Type: Regular\
 nGame Status: Complete\nHome Team: United\nAway Team: Cuervos de Baltimore
 \nHome Score: 5\nAway Score: 3
END:VEVENT
BEGIN:VEVENT
UID:12229259@ezleagues.ezfacility.com
DTSTAMP:20260424T063937Z
CREATED:20260424T063937Z
DTSTART:20190325T020000Z
DTEND:20190325T030000Z
LOCATION:Harmans Premier Field #5
CONTACT:
SUMMARY:Real Quetzal FC VS. Cuervos de Baltimore
DESCRIPTION:League Name: Sun Coed Open 3rd div Silver \nGame Type: Regular\
 nGame Status: Complete\nHome Team: Real Quetzal FC\nAway Team: Cuervos de 
 Baltimore\nHome Score: 5\nAway Score: 9
END:VEVENT
BEGIN:VEVENT
UID:12229272@ezleagues.ezfacility.com
DTSTAMP:20260424T063937Z
CREATED:20260424T063937Z
DTSTART:20190407T190000Z
DTEND:20190407T200000Z
LOCATION:Harmans Premier Field #5
CONTACT:
SUMMARY:Cuervos de Baltimore VS. Arsenal
DESCRIPTION:League Name: Sun Coed Open 3rd div Silver \nGame Type: Regular\
 nGame Status: Complete\nHome Team: Cuervos de Baltimore\nAway Team: Arsena
 l\nHome Score: 4\nAway Score: 4
END:VEVENT
BEGIN:VEVENT
UID:12229287@ezleagues.ezfacility.com
DTSTAMP:20260424T063937Z
CREATED:20260424T063937Z
DTSTART:20190407T210000Z
DTEND:20190407T220000Z
LOCATION:Harmans Premier Field #4
CONTACT:
SUMMARY:Cuervos de Baltimore VS.  	Scittbox Woes
DESCRIPTION:League Name: Sun Coed Open 3rd div Silver \nGame Type: Regular\
 nGame Status: Complete\nHome Team: Cuervos de Baltimore\nAway Team:  	Scit
 tbox Woes\nHome Score: 6\nAway Score: 3
END:VEVENT
BEGIN:VEVENT
UID:12339493@ezleagues.ezfacility.com
DTSTAMP:20260424T063937Z
CREATED:20260424T063937Z
DTSTART:20190415T000000Z
DTEND:20190415T010000Z
LOCATION:Harmans Premier Field #4
CONTACT:
SUMMARY:Cuervos de Baltimore VS. Arsenal
DESCRIPTION:League Name: Sun Coed Open 3rd div Silver \nGame Type: Regular\
 nGame Status: Complete\nHome Team: Cuervos de Baltimore\nAway Team: Arsena
 l\nHome Score: 3\nAway Score: 1
END:VEVENT
BEGIN:VEVENT
UID:12354842@ezleagues.ezfacility.com
DTSTAMP:20260424T063937Z
CREATED:20260424T063937Z
DTSTART:20190428T230000Z
DTEND:20190429T000000Z
LOCATION:Harmans Premier Field #4
CONTACT:
SUMMARY:Cuervos de Baltimore VS. United
DESCRIPTION:League Name: Sun Coed Open 3rd div Silver \nGame Type: Regular\
 nGame Status: Complete\nHome Team: Cuervos de Baltimore\nAway Team: United
 \nHome Score: 4\nAway Score: 7
END:VEVENT
END:VCALENDAR
