BEGIN:VCALENDAR
VERSION:2.0
PRODID:-//EZFacility.com, Inc.//EZL 2.5.5.28621
BEGIN:VEVENT
UID:12243488@ezleagues.ezfacility.com
DTSTAMP:20260424T044247Z
CREATED:20260424T044247Z
DTSTART:20190305T000000Z
DTEND:20190305T010000Z
LOCATION:Arena 1
CONTACT:
SUMMARY:Backdoor Bandits VS. Mickey Doyle's
DESCRIPTION:League Name: Monday Roller Hockey\nGame Type: Regular\nGame Sta
 tus: Complete\nHome Team: Backdoor Bandits\nAway Team: Mickey Doyle's\nHom
 e Score: 3\nAway Score: 5
END:VEVENT
BEGIN:VEVENT
UID:12245290@ezleagues.ezfacility.com
DTSTAMP:20260424T044247Z
CREATED:20260424T044247Z
DTSTART:20190312T000000Z
DTEND:20190312T010000Z
LOCATION:Arena 1
CONTACT:
SUMMARY:TBA Soares VS. Backdoor Bandits
DESCRIPTION:League Name: Monday Roller Hockey\nGame Type: Regular\nGame Sta
 tus: Complete\nHome Team: TBA Soares\nAway Team: Backdoor Bandits\nHome Sc
 ore: 4\nAway Score: 9
END:VEVENT
BEGIN:VEVENT
UID:12245332@ezleagues.ezfacility.com
DTSTAMP:20260424T044247Z
CREATED:20260424T044247Z
DTSTART:20190319T020000Z
DTEND:20190319T030000Z
LOCATION:Arena 1
CONTACT:
SUMMARY:Backdoor Bandits VS. Whalers
DESCRIPTION:League Name: Monday Roller Hockey\nGame Type: Regular\nGame Sta
 tus: Complete\nHome Team: Backdoor Bandits\nAway Team: Whalers\nHome Score
 : 3\nAway Score: 4
END:VEVENT
BEGIN:VEVENT
UID:12245335@ezleagues.ezfacility.com
DTSTAMP:20260424T044247Z
CREATED:20260424T044247Z
DTSTART:20190326T010000Z
DTEND:20190326T020000Z
LOCATION:Arena 1
CONTACT:
SUMMARY:Backdoor Bandits VS. Nature Boys
DESCRIPTION:League Name: Monday Roller Hockey\nGame Type: Regular\nGame Sta
 tus: Complete\nHome Team: Backdoor Bandits\nAway Team: Nature Boys\nHome S
 core: 3\nAway Score: 4
END:VEVENT
BEGIN:VEVENT
UID:12245338@ezleagues.ezfacility.com
DTSTAMP:20260424T044247Z
CREATED:20260424T044247Z
DTSTART:20190402T000000Z
DTEND:20190402T010000Z
LOCATION:Arena 1
CONTACT:
SUMMARY:Backdoor Bandits VS. Deke's Out for Harambe
DESCRIPTION:League Name: Monday Roller Hockey\nGame Type: Regular\nGame Sta
 tus: Complete\nHome Team: Backdoor Bandits\nAway Team: Deke's Out for Hara
 mbe\nHome Score: 10\nAway Score: 8
END:VEVENT
BEGIN:VEVENT
UID:12245343@ezleagues.ezfacility.com
DTSTAMP:20260424T044247Z
CREATED:20260424T044247Z
DTSTART:20190409T010000Z
DTEND:20190409T020000Z
LOCATION:Arena 1
CONTACT:
SUMMARY:Backdoor Bandits VS. D3 Prosepcts
DESCRIPTION:League Name: Monday Roller Hockey\nGame Type: Regular\nGame Sta
 tus: Complete\nHome Team: Backdoor Bandits\nAway Team: D3 Prosepcts\nHome 
 Score: 5\nAway Score: 3
END:VEVENT
BEGIN:VEVENT
UID:12245345@ezleagues.ezfacility.com
DTSTAMP:20260424T044247Z
CREATED:20260424T044247Z
DTSTART:20190415T230000Z
DTEND:20190416T000000Z
LOCATION:Arena 1
CONTACT:
SUMMARY:Dangle Berries VS. Backdoor Bandits
DESCRIPTION:League Name: Monday Roller Hockey\nGame Type: Regular\nGame Sta
 tus: Complete\nHome Team: Dangle Berries\nAway Team: Backdoor Bandits\nHom
 e Score: 0\nAway Score: 20
END:VEVENT
BEGIN:VEVENT
UID:12245351@ezleagues.ezfacility.com
DTSTAMP:20260424T044247Z
CREATED:20260424T044247Z
DTSTART:20190423T010000Z
DTEND:20190423T020000Z
LOCATION:Arena 1
CONTACT:
SUMMARY:Backdoor Bandits VS. Mickey Doyle's
DESCRIPTION:League Name: Monday Roller Hockey\nGame Type: Regular\nGame Sta
 tus: Complete\nHome Team: Backdoor Bandits\nAway Team: Mickey Doyle's\nHom
 e Score: 6\nAway Score: 7
END:VEVENT
BEGIN:VEVENT
UID:12245353@ezleagues.ezfacility.com
DTSTAMP:20260424T044247Z
CREATED:20260424T044247Z
DTSTART:20190429T230000Z
DTEND:20190430T000000Z
LOCATION:Arena 1
CONTACT:
SUMMARY:TBA Soares VS. Backdoor Bandits
DESCRIPTION:League Name: Monday Roller Hockey\nGame Type: Regular\nGame Sta
 tus: Complete\nHome Team: TBA Soares\nAway Team: Backdoor Bandits\nHome Sc
 ore: 5\nAway Score: 8
END:VEVENT
BEGIN:VEVENT
UID:12245359@ezleagues.ezfacility.com
DTSTAMP:20260424T044247Z
CREATED:20260424T044247Z
DTSTART:20190507T000000Z
DTEND:20190507T010000Z
LOCATION:Arena 1
CONTACT:
SUMMARY:Backdoor Bandits VS. Whalers
DESCRIPTION:League Name: Monday Roller Hockey\nGame Type: Regular\nGame Sta
 tus: Complete\nHome Team: Backdoor Bandits\nAway Team: Whalers\nHome Score
 : 15\nAway Score: 1
END:VEVENT
BEGIN:VEVENT
UID:12346401@ezleagues.ezfacility.com
DTSTAMP:20260424T044247Z
CREATED:20260424T044247Z
DTSTART:20190513T230000Z
DTEND:20190514T000000Z
LOCATION:Arena 1
CONTACT:
SUMMARY:Backdoor Bandits VS. Nature Boys
DESCRIPTION:League Name: Monday Roller Hockey\nGame Type: Regular\nGame Sta
 tus: Complete\nHome Team: Backdoor Bandits\nAway Team: Nature Boys\nHome S
 core: 4\nAway Score: 6
END:VEVENT
BEGIN:VEVENT
UID:12346404@ezleagues.ezfacility.com
DTSTAMP:20260424T044247Z
CREATED:20260424T044247Z
DTSTART:20190520T230000Z
DTEND:20190521T000000Z
LOCATION:Arena 1
CONTACT:
SUMMARY:Backdoor Bandits VS. Dangle Berries
DESCRIPTION:League Name: Monday Roller Hockey\nGame Type: Regular\nGame Sta
 tus: Complete\nHome Team: Backdoor Bandits\nAway Team: Dangle Berries\nHom
 e Score: 16\nAway Score: 0
END:VEVENT
BEGIN:VEVENT
UID:12390173@ezleagues.ezfacility.com
DTSTAMP:20260424T044247Z
CREATED:20260424T044247Z
DTSTART:20190604T020000Z
DTEND:20190604T030000Z
LOCATION:Arena 1
CONTACT:
SUMMARY:Backdoor Bandits VS. Whalers
DESCRIPTION:League Name: Monday Roller Hockey\nGame Type: Postseason\nGame 
 Status: Complete\nHome Team: Backdoor Bandits\nAway Team: Whalers\nHome Sc
 ore: 9\nAway Score: 2
END:VEVENT
BEGIN:VEVENT
UID:12390176@ezleagues.ezfacility.com
DTSTAMP:20260424T044247Z
CREATED:20260424T044247Z
DTSTART:20190611T000000Z
DTEND:20190611T010000Z
LOCATION:Arena 1
CONTACT:
SUMMARY:Nature Boys VS. Backdoor Bandits
DESCRIPTION:League Name: Monday Roller Hockey\nGame Type: Postseason\nGame 
 Status: Complete\nHome Team: Nature Boys\nAway Team: Backdoor Bandits\nHom
 e Score: 6\nAway Score: 4
END:VEVENT
END:VCALENDAR
