BEGIN:VCALENDAR
VERSION:2.0
PRODID:-//EZFacility.com, Inc.//EZL 2.5.5.28621
BEGIN:VEVENT
UID:12243421@ezleagues.ezfacility.com
DTSTAMP:20260426T035009Z
CREATED:20260426T035009Z
DTSTART:20190225T010000Z
DTEND:20190225T015500Z
LOCATION:Field 1
CONTACT:
SUMMARY:Penguins VS. Galticos
DESCRIPTION:League Name: February 24, 2019 Sunday Over-30 Soccer North Div\
 nGame Type: Regular\nGame Status: Complete\nHome Team: Penguins\nAway Team
 : Galticos\nHome Score: 8\nAway Score: 7
END:VEVENT
BEGIN:VEVENT
UID:12243420@ezleagues.ezfacility.com
DTSTAMP:20260426T035009Z
CREATED:20260426T035009Z
DTSTART:20190310T235500Z
DTEND:20190311T005000Z
LOCATION:Field 1
CONTACT:
SUMMARY:Slo -Mo VS. Penguins
DESCRIPTION:League Name: February 24, 2019 Sunday Over-30 Soccer North Div\
 nGame Type: Regular\nGame Status: Complete\nHome Team: Slo -Mo\nAway Team:
  Penguins\nHome Score: 6\nAway Score: 14
END:VEVENT
BEGIN:VEVENT
UID:12243440@ezleagues.ezfacility.com
DTSTAMP:20260426T035009Z
CREATED:20260426T035009Z
DTSTART:20190317T235500Z
DTEND:20190318T005000Z
LOCATION:Field 1
CONTACT:
SUMMARY:Penguins VS. Bench
DESCRIPTION:League Name: February 24, 2019 Sunday Over-30 Soccer North Div\
 nGame Type: Regular\nGame Status: Complete\nHome Team: Penguins\nAway Team
 : Bench\nHome Score: 6\nAway Score: 7
END:VEVENT
BEGIN:VEVENT
UID:12251410@ezleagues.ezfacility.com
DTSTAMP:20260426T035009Z
CREATED:20260426T035009Z
DTSTART:20190325T010000Z
DTEND:20190325T015500Z
LOCATION: Field 3
CONTACT:
SUMMARY:Penguins VS. Internationals
DESCRIPTION:League Name: February 24, 2019 Sunday Over-30 Soccer North Div\
 nGame Type: Regular\nGame Status: Complete\nHome Team: Penguins\nAway Team
 : Internationals\nHome Score: 7\nAway Score: 3
END:VEVENT
BEGIN:VEVENT
UID:12243455@ezleagues.ezfacility.com
DTSTAMP:20260426T035009Z
CREATED:20260426T035009Z
DTSTART:20190401T000000Z
DTEND:20190401T005500Z
LOCATION:VA Army National Guard Field 2
CONTACT:
SUMMARY:Demosphere VS. Penguins
DESCRIPTION:League Name: February 24, 2019 Sunday Over-30 Soccer North Div\
 nGame Type: Regular\nGame Status: Complete\nHome Team: Demosphere\nAway Te
 am: Penguins\nHome Score: 0\nAway Score: 3
END:VEVENT
BEGIN:VEVENT
UID:12243461@ezleagues.ezfacility.com
DTSTAMP:20260426T035009Z
CREATED:20260426T035009Z
DTSTART:20190415T015500Z
DTEND:20190415T025000Z
LOCATION: Field 3
CONTACT:
SUMMARY:Penguins VS. Bench
DESCRIPTION:League Name: February 24, 2019 Sunday Over-30 Soccer North Div\
 nGame Type: Postseason\nGame Status: Complete\nHome Team: Penguins\nAway T
 eam: Bench\nHome Score: 13\nAway Score: 5
END:VEVENT
BEGIN:VEVENT
UID:12251279@ezleagues.ezfacility.com
DTSTAMP:20260426T035009Z
CREATED:20260426T035009Z
DTSTART:20190415T025000Z
DTEND:20190415T034500Z
LOCATION: Field 3
CONTACT:
SUMMARY:Penguins VS. Slo -Mo
DESCRIPTION:League Name: February 24, 2019 Sunday Over-30 Soccer North Div\
 nGame Type: Postseason\nGame Status: Complete\nHome Team: Penguins\nAway T
 eam: Slo -Mo\nHome Score: 17\nAway Score: 13
END:VEVENT
BEGIN:VEVENT
UID:12251286@ezleagues.ezfacility.com
DTSTAMP:20260426T035009Z
CREATED:20260426T035009Z
DTSTART:20190421T220000Z
DTEND:20190421T225500Z
LOCATION: Field 3
CONTACT:
SUMMARY:Penguins VS. Galticos
DESCRIPTION:League Name: February 24, 2019 Sunday Over-30 Soccer North Div\
 nGame Type: Postseason\nGame Status: Complete\nHome Team: Penguins\nAway T
 eam: Galticos\nHome Score: 5\nAway Score: 6
END:VEVENT
END:VCALENDAR
