BEGIN:VCALENDAR
VERSION:2.0
PRODID:-//EZFacility.com, Inc.//EZL 2.5.5.28621
BEGIN:VEVENT
UID:12306929@ezleagues.ezfacility.com
DTSTAMP:20260426T035112Z
CREATED:20260426T035112Z
DTSTART:20190414T160000Z
DTEND:20190414T170000Z
LOCATION:Field 1- South
CONTACT:
SUMMARY:Decepticons VS. YNS JimandNina's
DESCRIPTION:League Name: Spring Flag Football\nGame Type: Regular\nGame Sta
 tus: Complete\nHome Team: Decepticons\nAway Team: YNS JimandNina's\nHome S
 core: 31\nAway Score: 12
END:VEVENT
BEGIN:VEVENT
UID:12306922@ezleagues.ezfacility.com
DTSTAMP:20260426T035112Z
CREATED:20260426T035112Z
DTSTART:20190414T180000Z
DTEND:20190414T190000Z
LOCATION:Field 1- South
CONTACT:
SUMMARY:717 Elite VS. Decepticons
DESCRIPTION:League Name: Spring Flag Football\nGame Type: Regular\nGame Sta
 tus: Complete\nHome Team: 717 Elite\nAway Team: Decepticons\nHome Score: 1
 2\nAway Score: 34
END:VEVENT
BEGIN:VEVENT
UID:12306943@ezleagues.ezfacility.com
DTSTAMP:20260426T035112Z
CREATED:20260426T035112Z
DTSTART:20190428T160000Z
DTEND:20190428T170000Z
LOCATION:Field 2 - South
CONTACT:
SUMMARY:Decepticons VS. Killa Beez
DESCRIPTION:League Name: Spring Flag Football\nGame Type: Regular\nGame Sta
 tus: Complete\nHome Team: Decepticons\nAway Team: Killa Beez\nHome Score: 
 56\nAway Score: 6
END:VEVENT
BEGIN:VEVENT
UID:12306950@ezleagues.ezfacility.com
DTSTAMP:20260426T035112Z
CREATED:20260426T035112Z
DTSTART:20190505T150000Z
DTEND:20190505T160000Z
LOCATION:Field 2 - South
CONTACT:
SUMMARY:FR-SSSH VS. Decepticons
DESCRIPTION:League Name: Spring Flag Football\nGame Type: Regular\nGame Sta
 tus: Complete\nHome Team: FR-SSSH\nAway Team: Decepticons\nHome Score: 6\n
 Away Score: 67
END:VEVENT
BEGIN:VEVENT
UID:12306957@ezleagues.ezfacility.com
DTSTAMP:20260426T035112Z
CREATED:20260426T035112Z
DTSTART:20190512T200000Z
DTEND:20190512T210000Z
LOCATION:Field 2 - South
CONTACT:
SUMMARY:Roughnecks VS. Decepticons
DESCRIPTION:League Name: Spring Flag Football\nGame Type: Regular\nGame Sta
 tus: Complete\nHome Team: Roughnecks\nAway Team: Decepticons\nHome Score: 
 18\nAway Score: 60
END:VEVENT
BEGIN:VEVENT
UID:12306975@ezleagues.ezfacility.com
DTSTAMP:20260426T035112Z
CREATED:20260426T035112Z
DTSTART:20190526T140000Z
DTEND:20190526T150000Z
LOCATION:Field 2 - South
CONTACT:
SUMMARY:Kings VS. Decepticons
DESCRIPTION:League Name: Spring Flag Football\nGame Type: Regular\nGame Sta
 tus: Complete\nHome Team: Kings\nAway Team: Decepticons\nHome Score: 10\nA
 way Score: 33
END:VEVENT
BEGIN:VEVENT
UID:12306984@ezleagues.ezfacility.com
DTSTAMP:20260426T035112Z
CREATED:20260426T035112Z
DTSTART:20190602T140000Z
DTEND:20190602T150000Z
LOCATION:Field 2 - South
CONTACT:
SUMMARY:Decepticons VS. Rec Boys
DESCRIPTION:League Name: Spring Flag Football\nGame Type: Regular\nGame Sta
 tus: Complete\nHome Team: Decepticons\nAway Team: Rec Boys\nHome Score: 12
 \nAway Score: 6
END:VEVENT
BEGIN:VEVENT
UID:12307002@ezleagues.ezfacility.com
DTSTAMP:20260426T035112Z
CREATED:20260426T035112Z
DTSTART:20190609T150000Z
DTEND:20190609T160000Z
LOCATION:Field 2 - South
CONTACT:
SUMMARY:Decepticons VS. The Resistance
DESCRIPTION:League Name: Spring Flag Football\nGame Type: Regular\nGame Sta
 tus: Complete\nHome Team: Decepticons\nAway Team: The Resistance\nHome Sco
 re: 78\nAway Score: 14
END:VEVENT
BEGIN:VEVENT
UID:12306993@ezleagues.ezfacility.com
DTSTAMP:20260426T035112Z
CREATED:20260426T035112Z
DTSTART:20190609T170000Z
DTEND:20190609T180000Z
LOCATION:Field 2 - South
CONTACT:
SUMMARY:Wolverines VS. Decepticons
DESCRIPTION:League Name: Spring Flag Football\nGame Type: Regular\nGame Sta
 tus: Complete\nHome Team: Wolverines\nAway Team: Decepticons\nHome Score: 
 28\nAway Score: 38
END:VEVENT
BEGIN:VEVENT
UID:12306936@ezleagues.ezfacility.com
DTSTAMP:20260426T035112Z
CREATED:20260426T035112Z
DTSTART:20190616T190000Z
DTEND:20190616T200000Z
LOCATION:Field 2 - South
CONTACT:
SUMMARY:Cobras VS. Decepticons
DESCRIPTION:League Name: Spring Flag Football\nGame Type: Regular\nGame Sta
 tus: Complete\nHome Team: Cobras\nAway Team: Decepticons\nHome Score: 32\n
 Away Score: 68
END:VEVENT
END:VCALENDAR
