BEGIN:VCALENDAR
VERSION:2.0
PRODID:-//EZFacility.com, Inc.//EZL 2.5.5.28621
BEGIN:VEVENT
UID:12306923@ezleagues.ezfacility.com
DTSTAMP:20260424T165613Z
CREATED:20260424T165613Z
DTSTART:20190407T190000Z
DTEND:20190407T200000Z
LOCATION:Field 2 - South
CONTACT:
SUMMARY:FR-SSSH VS. CIS Notary and Tax Services 
DESCRIPTION:League Name: Spring Flag Football\nGame Type: Regular\nGame Sta
 tus: Complete\nHome Team: FR-SSSH\nAway Team: CIS Notary and Tax Services 
 \nHome Score: 8\nAway Score: 44
END:VEVENT
BEGIN:VEVENT
UID:12306930@ezleagues.ezfacility.com
DTSTAMP:20260424T165613Z
CREATED:20260424T165613Z
DTSTART:20190414T180000Z
DTEND:20190414T190000Z
LOCATION:Field 2 - South
CONTACT:
SUMMARY:CIS Notary and Tax Services  VS. Rec Boys
DESCRIPTION:League Name: Spring Flag Football\nGame Type: Regular\nGame Sta
 tus: Complete\nHome Team: CIS Notary and Tax Services \nAway Team: Rec Boy
 s\nHome Score: 0\nAway Score: 16
END:VEVENT
BEGIN:VEVENT
UID:12306944@ezleagues.ezfacility.com
DTSTAMP:20260424T165613Z
CREATED:20260424T165613Z
DTSTART:20190428T170000Z
DTEND:20190428T180000Z
LOCATION:Field 2 - South
CONTACT:
SUMMARY:CIS Notary and Tax Services  VS. The Resistance
DESCRIPTION:League Name: Spring Flag Football\nGame Type: Regular\nGame Sta
 tus: Complete\nHome Team: CIS Notary and Tax Services \nAway Team: The Res
 istance\nHome Score: 65\nAway Score: 0
END:VEVENT
BEGIN:VEVENT
UID:12306951@ezleagues.ezfacility.com
DTSTAMP:20260424T165613Z
CREATED:20260424T165613Z
DTSTART:20190505T190000Z
DTEND:20190505T200000Z
LOCATION:Field 2 - South
CONTACT:
SUMMARY:antivenom VS. CIS Notary and Tax Services 
DESCRIPTION:League Name: Spring Flag Football\nGame Type: Regular\nGame Sta
 tus: Complete\nHome Team: antivenom\nAway Team: CIS Notary and Tax Service
 s \nHome Score: 26\nAway Score: 20
END:VEVENT
BEGIN:VEVENT
UID:12307001@ezleagues.ezfacility.com
DTSTAMP:20260424T165613Z
CREATED:20260424T165613Z
DTSTART:20190512T180000Z
DTEND:20190512T190000Z
LOCATION:Field 2 - South
CONTACT:
SUMMARY:CIS Notary and Tax Services  VS. Cobras
DESCRIPTION:League Name: Spring Flag Football\nGame Type: Regular\nGame Sta
 tus: Complete\nHome Team: CIS Notary and Tax Services \nAway Team: Cobras\
 nHome Score: 46\nAway Score: 0
END:VEVENT
BEGIN:VEVENT
UID:12306965@ezleagues.ezfacility.com
DTSTAMP:20260424T165613Z
CREATED:20260424T165613Z
DTSTART:20190519T170000Z
DTEND:20190519T180000Z
LOCATION:Field 2 - South
CONTACT:
SUMMARY:CIS Notary and Tax Services  VS. Roughnecks
DESCRIPTION:League Name: Spring Flag Football\nGame Type: Regular\nGame Sta
 tus: Complete\nHome Team: CIS Notary and Tax Services \nAway Team: Roughne
 cks\nHome Score: 20\nAway Score: 27
END:VEVENT
BEGIN:VEVENT
UID:12306974@ezleagues.ezfacility.com
DTSTAMP:20260424T165613Z
CREATED:20260424T165613Z
DTSTART:20190526T150000Z
DTEND:20190526T160000Z
LOCATION:Field 2 - South
CONTACT:
SUMMARY:Lou Nalls\, Realtor VS. CIS Notary and Tax Services 
DESCRIPTION:League Name: Spring Flag Football\nGame Type: Regular\nGame Sta
 tus: Complete\nHome Team: Lou Nalls, Realtor\nAway Team: CIS Notary and Ta
 x Services \nHome Score: 8\nAway Score: 24
END:VEVENT
BEGIN:VEVENT
UID:12306983@ezleagues.ezfacility.com
DTSTAMP:20260424T165613Z
CREATED:20260424T165613Z
DTSTART:20190602T160000Z
DTEND:20190602T170000Z
LOCATION:Field 2 - South
CONTACT:
SUMMARY:CIS Notary and Tax Services  VS. 717 Elite
DESCRIPTION:League Name: Spring Flag Football\nGame Type: Regular\nGame Sta
 tus: Complete\nHome Team: CIS Notary and Tax Services \nAway Team: 717 Eli
 te\nHome Score: 20\nAway Score: 13
END:VEVENT
BEGIN:VEVENT
UID:12306992@ezleagues.ezfacility.com
DTSTAMP:20260424T165613Z
CREATED:20260424T165613Z
DTSTART:20190602T170000Z
DTEND:20190602T180000Z
LOCATION:Field 2 - South
CONTACT:
SUMMARY:YNS JimandNina's VS. CIS Notary and Tax Services 
DESCRIPTION:League Name: Spring Flag Football\nGame Type: Regular\nGame Sta
 tus: Complete\nHome Team: YNS JimandNina's\nAway Team: CIS Notary and Tax 
 Services \nHome Score: 18\nAway Score: 13
END:VEVENT
BEGIN:VEVENT
UID:12306937@ezleagues.ezfacility.com
DTSTAMP:20260424T165613Z
CREATED:20260424T165613Z
DTSTART:20190616T200000Z
DTEND:20190616T210000Z
LOCATION:Field 2 - South
CONTACT:
SUMMARY:Wolverines VS. CIS Notary and Tax Services 
DESCRIPTION:League Name: Spring Flag Football\nGame Type: Regular\nGame Sta
 tus: Complete\nHome Team: Wolverines\nAway Team: CIS Notary and Tax Servic
 es \nHome Score: 26\nAway Score: 18
END:VEVENT
END:VCALENDAR
