BEGIN:VCALENDAR
VERSION:2.0
PRODID:-//EZFacility.com, Inc.//EZL 2.5.5.28621
BEGIN:VEVENT
UID:12313840@ezleagues.ezfacility.com
DTSTAMP:20260424T044224Z
CREATED:20260424T044224Z
DTSTART:20190401T230000Z
DTEND:20190401T235500Z
LOCATION: Field 3
CONTACT:
SUMMARY:Soja FC VS. Funfetti
DESCRIPTION:League Name: April 1, Monday Coed North Division\nGame Type: Re
 gular\nGame Status: Complete\nHome Team: Soja FC\nAway Team: Funfetti\nHom
 e Score: 5\nAway Score: 11
END:VEVENT
BEGIN:VEVENT
UID:12313849@ezleagues.ezfacility.com
DTSTAMP:20260424T044224Z
CREATED:20260424T044224Z
DTSTART:20190408T230000Z
DTEND:20190408T235500Z
LOCATION: Field 3
CONTACT:
SUMMARY:Funfetti VS. Freedom
DESCRIPTION:League Name: April 1, Monday Coed North Division\nGame Type: Re
 gular\nGame Status: Complete\nHome Team: Funfetti\nAway Team: Freedom\nHom
 e Score: 7\nAway Score: 3
END:VEVENT
BEGIN:VEVENT
UID:12313858@ezleagues.ezfacility.com
DTSTAMP:20260424T044224Z
CREATED:20260424T044224Z
DTSTART:20190415T235500Z
DTEND:20190416T005000Z
LOCATION:VA Army National Guard Field 2
CONTACT:Martinez
SUMMARY:PSG VS. Funfetti
DESCRIPTION:League Name: April 1, Monday Coed North Division\nGame Type: Re
 gular\nGame Status: Complete\nHome Team: PSG\nAway Team: Funfetti\nHome Sc
 ore: 4\nAway Score: 16
END:VEVENT
BEGIN:VEVENT
UID:12313911@ezleagues.ezfacility.com
DTSTAMP:20260424T044224Z
CREATED:20260424T044224Z
DTSTART:20190423T000000Z
DTEND:20190423T005500Z
LOCATION: Field 3
CONTACT:
SUMMARY:Funfetti VS. The Fury
DESCRIPTION:League Name: April 1, Monday Coed North Division\nGame Type: Re
 gular\nGame Status: Complete\nHome Team: Funfetti\nAway Team: The Fury\nHo
 me Score: 10\nAway Score: 8
END:VEVENT
BEGIN:VEVENT
UID:12313876@ezleagues.ezfacility.com
DTSTAMP:20260424T044224Z
CREATED:20260424T044224Z
DTSTART:20190429T235500Z
DTEND:20190430T005000Z
LOCATION:VA Army National Guard Field 2
CONTACT:
SUMMARY:Dulles Leftovers VS. Funfetti
DESCRIPTION:League Name: April 1, Monday Coed North Division\nGame Type: Re
 gular\nGame Status: Complete\nHome Team: Dulles Leftovers\nAway Team: Funf
 etti\nHome Score: 11\nAway Score: 9
END:VEVENT
BEGIN:VEVENT
UID:12313888@ezleagues.ezfacility.com
DTSTAMP:20260424T044224Z
CREATED:20260424T044224Z
DTSTART:20190506T235500Z
DTEND:20190507T005000Z
LOCATION:Field 1
CONTACT:
SUMMARY:Funfetti VS. Dulles Leftovers
DESCRIPTION:League Name: April 1, Monday Coed North Division\nGame Type: Po
 stseason\nGame Status: Complete\nHome Team: Funfetti\nAway Team: Dulles Le
 ftovers\nHome Score: 7\nAway Score: 8
END:VEVENT
BEGIN:VEVENT
UID:12313896@ezleagues.ezfacility.com
DTSTAMP:20260424T044224Z
CREATED:20260424T044224Z
DTSTART:20190513T230000Z
DTEND:20190513T235500Z
LOCATION:Field 1
CONTACT:
SUMMARY:Washed Up VS. Funfetti
DESCRIPTION:League Name: April 1, Monday Coed North Division\nGame Type: Po
 stseason\nGame Status: Complete\nHome Team: Washed Up\nAway Team: Funfetti
 \nHome Score: 9\nAway Score: 10
END:VEVENT
END:VCALENDAR
