BEGIN:VCALENDAR
VERSION:2.0
PRODID:-//EZFacility.com, Inc.//EZL 2.5.5.28621
BEGIN:VEVENT
UID:12313842@ezleagues.ezfacility.com
DTSTAMP:20260426T035229Z
CREATED:20260426T035229Z
DTSTART:20190402T014500Z
DTEND:20190402T024000Z
LOCATION:Field 1
CONTACT:
SUMMARY:Washed Up VS. PSG
DESCRIPTION:League Name: April 1, Monday Coed North Division\nGame Type: Re
 gular\nGame Status: Complete\nHome Team: Washed Up\nAway Team: PSG\nHome S
 core: 9\nAway Score: 8
END:VEVENT
BEGIN:VEVENT
UID:12313850@ezleagues.ezfacility.com
DTSTAMP:20260426T035229Z
CREATED:20260426T035229Z
DTSTART:20190408T230000Z
DTEND:20190408T235500Z
LOCATION:Field 1
CONTACT:Portillo
SUMMARY:PSG VS. Wolves
DESCRIPTION:League Name: April 1, Monday Coed North Division\nGame Type: Re
 gular\nGame Status: Complete\nHome Team: PSG\nAway Team: Wolves\nHome Scor
 e: 7\nAway Score: 6
END:VEVENT
BEGIN:VEVENT
UID:12313858@ezleagues.ezfacility.com
DTSTAMP:20260426T035229Z
CREATED:20260426T035229Z
DTSTART:20190415T235500Z
DTEND:20190416T005000Z
LOCATION:VA Army National Guard Field 2
CONTACT:Martinez
SUMMARY:PSG VS. Funfetti
DESCRIPTION:League Name: April 1, Monday Coed North Division\nGame Type: Re
 gular\nGame Status: Complete\nHome Team: PSG\nAway Team: Funfetti\nHome Sc
 ore: 4\nAway Score: 16
END:VEVENT
BEGIN:VEVENT
UID:12313868@ezleagues.ezfacility.com
DTSTAMP:20260426T035229Z
CREATED:20260426T035229Z
DTSTART:20190422T235500Z
DTEND:20190423T005000Z
LOCATION:VA Army National Guard Field 2
CONTACT:
SUMMARY:Dulles Leftovers VS. PSG
DESCRIPTION:League Name: April 1, Monday Coed North Division\nGame Type: Re
 gular\nGame Status: Complete\nHome Team: Dulles Leftovers\nAway Team: PSG\
 nHome Score: 10\nAway Score: 6
END:VEVENT
BEGIN:VEVENT
UID:12313878@ezleagues.ezfacility.com
DTSTAMP:20260426T035229Z
CREATED:20260426T035229Z
DTSTART:20190430T005500Z
DTEND:20190430T015000Z
LOCATION: Field 3
CONTACT:
SUMMARY:PSG VS. Magpies
DESCRIPTION:League Name: April 1, Monday Coed North Division\nGame Type: Re
 gular\nGame Status: Complete\nHome Team: PSG\nAway Team: Magpies\nHome Sco
 re: 3\nAway Score: 8
END:VEVENT
BEGIN:VEVENT
UID:12313885@ezleagues.ezfacility.com
DTSTAMP:20260426T035229Z
CREATED:20260426T035229Z
DTSTART:20190507T024000Z
DTEND:20190507T033500Z
LOCATION: Field 3
CONTACT:
SUMMARY:Wolves VS. PSG
DESCRIPTION:League Name: April 1, Monday Coed North Division\nGame Type: Po
 stseason\nGame Status: Complete\nHome Team: Wolves\nAway Team: PSG\nHome S
 core: 12\nAway Score: 8
END:VEVENT
BEGIN:VEVENT
UID:12317277@ezleagues.ezfacility.com
DTSTAMP:20260426T035229Z
CREATED:20260426T035229Z
DTSTART:20190513T230000Z
DTEND:20190513T235500Z
LOCATION:VA Army National Guard Field 2
CONTACT:
SUMMARY:Freedom VS. PSG
DESCRIPTION:League Name: April 1, Monday Coed North Division\nGame Type: Po
 stseason\nGame Status: Complete\nHome Team: Freedom\nAway Team: PSG\nHome 
 Score: 2\nAway Score: 3
END:VEVENT
END:VCALENDAR
