BEGIN:VCALENDAR
VERSION:2.0
PRODID:-//EZFacility.com, Inc.//EZL 2.5.5.28621
BEGIN:VEVENT
UID:12319169@ezleagues.ezfacility.com
DTSTAMP:20260424T043212Z
CREATED:20260424T043212Z
DTSTART:20190406T204000Z
DTEND:20190406T213000Z
LOCATION:Magruder Park 2
CONTACT:
SUMMARY:CIA Avalanche VS. CA FC
DESCRIPTION:League Name: TSA Youth Spring Outdor League 2007-2008 \nGame Ty
 pe: Regular\nGame Status: Complete\nHome Team: CIA Avalanche\nAway Team: C
 A FC\nHome Score: 5\nAway Score: 2
END:VEVENT
BEGIN:VEVENT
UID:12319186@ezleagues.ezfacility.com
DTSTAMP:20260424T043212Z
CREATED:20260424T043212Z
DTSTART:20190413T120000Z
DTEND:20190413T125000Z
LOCATION:Large Field 1
CONTACT:
SUMMARY:CIA Avalanche VS. Sol De America 
DESCRIPTION:League Name: TSA Youth Spring Outdor League 2007-2008 \nGame Ty
 pe: Regular\nGame Status: Complete\nHome Team: CIA Avalanche\nAway Team: S
 ol De America \nHome Score: 6\nAway Score: 2
END:VEVENT
BEGIN:VEVENT
UID:12319219@ezleagues.ezfacility.com
DTSTAMP:20260424T043212Z
CREATED:20260424T043212Z
DTSTART:20190420T213000Z
DTEND:20190420T222000Z
LOCATION:Magruder Park 2
CONTACT:
SUMMARY:Tremendo FC VS. CIA Avalanche
DESCRIPTION:League Name: TSA Youth Spring Outdor League 2007-2008 \nGame Ty
 pe: Regular\nGame Status: Complete\nHome Team: Tremendo FC\nAway Team: CIA
  Avalanche\nHome Score: 3\nAway Score: 6
END:VEVENT
BEGIN:VEVENT
UID:12319203@ezleagues.ezfacility.com
DTSTAMP:20260424T043212Z
CREATED:20260424T043212Z
DTSTART:20190427T160000Z
DTEND:20190427T165000Z
LOCATION:Large Field 1
CONTACT:
SUMMARY:CIA Avalanche VS. ACSA Great Dane Revolution
DESCRIPTION:League Name: TSA Youth Spring Outdor League 2007-2008 \nGame Ty
 pe: Regular\nGame Status: Complete\nHome Team: CIA Avalanche\nAway Team: A
 CSA Great Dane Revolution\nHome Score: 3\nAway Score: 3
END:VEVENT
BEGIN:VEVENT
UID:12319234@ezleagues.ezfacility.com
DTSTAMP:20260424T043212Z
CREATED:20260424T043212Z
DTSTART:20190504T210000Z
DTEND:20190504T215000Z
LOCATION:Magruder Park 2
CONTACT:
SUMMARY:Jouons FC VS. CIA Avalanche
DESCRIPTION:League Name: TSA Youth Spring Outdor League 2007-2008 \nGame Ty
 pe: Regular\nGame Status: Complete\nHome Team: Jouons FC\nAway Team: CIA A
 valanche\nHome Score: 3\nAway Score: 1
END:VEVENT
BEGIN:VEVENT
UID:12319249@ezleagues.ezfacility.com
DTSTAMP:20260424T043212Z
CREATED:20260424T043212Z
DTSTART:20190511T160000Z
DTEND:20190511T165000Z
LOCATION:TSA Field 2
CONTACT:
SUMMARY:NCA Tigers VS. CIA Avalanche
DESCRIPTION:League Name: TSA Youth Spring Outdor League 2007-2008 \nGame Ty
 pe: Regular\nGame Status: Complete\nHome Team: NCA Tigers\nAway Team: CIA 
 Avalanche\nHome Score: 1\nAway Score: 7
END:VEVENT
BEGIN:VEVENT
UID:12319264@ezleagues.ezfacility.com
DTSTAMP:20260424T043212Z
CREATED:20260424T043212Z
DTSTART:20190519T010000Z
DTEND:20190519T015000Z
LOCATION:Magruder Park 1
CONTACT:
SUMMARY:Nueva Generacion  VS. CIA Avalanche
DESCRIPTION:League Name: TSA Youth Spring Outdor League 2007-2008 \nGame Ty
 pe: Regular\nGame Status: Complete\nHome Team: Nueva Generacion \nAway Tea
 m: CIA Avalanche\nHome Score: 6\nAway Score: 3
END:VEVENT
BEGIN:VEVENT
UID:12419054@ezleagues.ezfacility.com
DTSTAMP:20260424T043212Z
CREATED:20260424T043212Z
DTSTART:20190601T210000Z
DTEND:20190601T215000Z
LOCATION:Magruder Park 1
CONTACT:
SUMMARY:Jouons FC VS. CIA Avalanche
DESCRIPTION:League Name: TSA Youth Spring Outdor League 2007-2008 \nGame Ty
 pe: Regular\nGame Status: Complete\nHome Team: Jouons FC\nAway Team: CIA A
 valanche\nHome Score: 3\nAway Score: 1
END:VEVENT
BEGIN:VEVENT
UID:12448469@ezleagues.ezfacility.com
DTSTAMP:20260424T043212Z
CREATED:20260424T043212Z
DTSTART:20190608T210000Z
DTEND:20190608T215000Z
LOCATION:Magruder Park 2
CONTACT:
SUMMARY:Nueva Generacion  VS. CIA Avalanche
DESCRIPTION:League Name: TSA Youth Spring Outdor League 2007-2008 \nGame Ty
 pe: Regular\nGame Status: Pending\nHome Team: Nueva Generacion \nAway Team
 : CIA Avalanche\n
END:VEVENT
END:VCALENDAR
