BEGIN:VCALENDAR
VERSION:2.0
PRODID:-//EZFacility.com, Inc.//EZL 2.5.5.28621
BEGIN:VEVENT
UID:12319171@ezleagues.ezfacility.com
DTSTAMP:20260426T035116Z
CREATED:20260426T035116Z
DTSTART:20190406T231000Z
DTEND:20190407T000000Z
LOCATION:Magruder Park 2
CONTACT:
SUMMARY:Nueva Generacion  VS. Sol De America 
DESCRIPTION:League Name: TSA Youth Spring Outdor League 2007-2008 \nGame Ty
 pe: Regular\nGame Status: Complete\nHome Team: Nueva Generacion \nAway Tea
 m: Sol De America \nHome Score: 5\nAway Score: 4
END:VEVENT
BEGIN:VEVENT
UID:12319186@ezleagues.ezfacility.com
DTSTAMP:20260426T035116Z
CREATED:20260426T035116Z
DTSTART:20190413T120000Z
DTEND:20190413T125000Z
LOCATION:Large Field 1
CONTACT:
SUMMARY:CIA Avalanche VS. Sol De America 
DESCRIPTION:League Name: TSA Youth Spring Outdor League 2007-2008 \nGame Ty
 pe: Regular\nGame Status: Complete\nHome Team: CIA Avalanche\nAway Team: S
 ol De America \nHome Score: 6\nAway Score: 2
END:VEVENT
BEGIN:VEVENT
UID:12319216@ezleagues.ezfacility.com
DTSTAMP:20260426T035116Z
CREATED:20260426T035116Z
DTSTART:20190420T204000Z
DTEND:20190420T213000Z
LOCATION:Magruder Park 1
CONTACT:
SUMMARY:CA FC VS. Sol De America 
DESCRIPTION:League Name: TSA Youth Spring Outdor League 2007-2008 \nGame Ty
 pe: Regular\nGame Status: Complete\nHome Team: CA FC\nAway Team: Sol De Am
 erica \nHome Score: 3\nAway Score: 3
END:VEVENT
BEGIN:VEVENT
UID:12319201@ezleagues.ezfacility.com
DTSTAMP:20260426T035116Z
CREATED:20260426T035116Z
DTSTART:20190427T130000Z
DTEND:20190427T135000Z
LOCATION:Large Field 1
CONTACT:
SUMMARY:TFC VS. Sol De America 
DESCRIPTION:League Name: TSA Youth Spring Outdor League 2007-2008 \nGame Ty
 pe: Regular\nGame Status: Complete\nHome Team: TFC\nAway Team: Sol De Amer
 ica \nHome Score: 3\nAway Score: 0
END:VEVENT
BEGIN:VEVENT
UID:12319231@ezleagues.ezfacility.com
DTSTAMP:20260426T035116Z
CREATED:20260426T035116Z
DTSTART:20190504T220000Z
DTEND:20190504T225000Z
LOCATION:Magruder Park 2
CONTACT:
SUMMARY:Sol De America  VS. NCA Tigers
DESCRIPTION:League Name: TSA Youth Spring Outdor League 2007-2008 \nGame Ty
 pe: Regular\nGame Status: Complete\nHome Team: Sol De America \nAway Team:
  NCA Tigers\nHome Score: 0\nAway Score: 3
END:VEVENT
BEGIN:VEVENT
UID:12319248@ezleagues.ezfacility.com
DTSTAMP:20260426T035116Z
CREATED:20260426T035116Z
DTSTART:20190511T180000Z
DTEND:20190511T185000Z
LOCATION:TSA Field 3
CONTACT:
SUMMARY:Sol De America  VS. ACSA Great Dane Revolution
DESCRIPTION:League Name: TSA Youth Spring Outdor League 2007-2008 \nGame Ty
 pe: Regular\nGame Status: Complete\nHome Team: Sol De America \nAway Team:
  ACSA Great Dane Revolution\nHome Score: 0\nAway Score: 3
END:VEVENT
BEGIN:VEVENT
UID:12319265@ezleagues.ezfacility.com
DTSTAMP:20260426T035116Z
CREATED:20260426T035116Z
DTSTART:20190518T220000Z
DTEND:20190518T225000Z
LOCATION:Magruder Park 1
CONTACT:
SUMMARY:Sol De America  VS. Tremendo FC
DESCRIPTION:League Name: TSA Youth Spring Outdor League 2007-2008 \nGame Ty
 pe: Regular\nGame Status: Complete\nHome Team: Sol De America \nAway Team:
  Tremendo FC\nHome Score: 0\nAway Score: 3
END:VEVENT
BEGIN:VEVENT
UID:12419127@ezleagues.ezfacility.com
DTSTAMP:20260426T035116Z
CREATED:20260426T035116Z
DTSTART:20190601T230000Z
DTEND:20190601T235000Z
LOCATION:Magruder Park 2
CONTACT:
SUMMARY:NCA Tigers VS. Sol De America 
DESCRIPTION:League Name: TSA Youth Spring Outdor League 2007-2008 \nGame Ty
 pe: Regular\nGame Status: Complete\nHome Team: NCA Tigers\nAway Team: Sol 
 De America \nHome Score: 4\nAway Score: 8
END:VEVENT
BEGIN:VEVENT
UID:12448466@ezleagues.ezfacility.com
DTSTAMP:20260426T035116Z
CREATED:20260426T035116Z
DTSTART:20190608T220000Z
DTEND:20190608T225000Z
LOCATION:Magruder Park 2
CONTACT:
SUMMARY:TFC VS. Sol De America 
DESCRIPTION:League Name: TSA Youth Spring Outdor League 2007-2008 \nGame Ty
 pe: Regular\nGame Status: Pending\nHome Team: TFC\nAway Team: Sol De Ameri
 ca \n
END:VEVENT
END:VCALENDAR
