BEGIN:VCALENDAR
VERSION:2.0
PRODID:-//EZFacility.com, Inc.//EZL 2.5.5.28621
BEGIN:VEVENT
UID:12343359@ezleagues.ezfacility.com
DTSTAMP:20260426T033605Z
CREATED:20260426T033605Z
DTSTART:20190412T230000Z
DTEND:20190413T000000Z
LOCATION:Arena 1
CONTACT:
SUMMARY:Friday Knights VS. Longplex Leftovers
DESCRIPTION:League Name: Friday Night C / Beginner Roller Hockey Draft Leag
 ue\nGame Type: Regular\nGame Status: Complete\nHome Team: Friday Knights\n
 Away Team: Longplex Leftovers\nHome Score: 5\nAway Score: 8
END:VEVENT
BEGIN:VEVENT
UID:12352054@ezleagues.ezfacility.com
DTSTAMP:20260426T033605Z
CREATED:20260426T033605Z
DTSTART:20190419T230000Z
DTEND:20190420T000000Z
LOCATION:Arena 1
CONTACT:
SUMMARY:Carnage VS. Longplex Leftovers
DESCRIPTION:League Name: Friday Night C / Beginner Roller Hockey Draft Leag
 ue\nGame Type: Regular\nGame Status: Complete\nHome Team: Carnage\nAway Te
 am: Longplex Leftovers\nHome Score: 4\nAway Score: 11
END:VEVENT
BEGIN:VEVENT
UID:12365642@ezleagues.ezfacility.com
DTSTAMP:20260426T033605Z
CREATED:20260426T033605Z
DTSTART:20190427T000000Z
DTEND:20190427T010000Z
LOCATION:Arena 1
CONTACT:
SUMMARY:Longplex Leftovers VS. Benchwarmers
DESCRIPTION:League Name: Friday Night C / Beginner Roller Hockey Draft Leag
 ue\nGame Type: Regular\nGame Status: Complete\nHome Team: Longplex Leftove
 rs\nAway Team: Benchwarmers\nHome Score: 6\nAway Score: 9
END:VEVENT
BEGIN:VEVENT
UID:12365646@ezleagues.ezfacility.com
DTSTAMP:20260426T033605Z
CREATED:20260426T033605Z
DTSTART:20190504T010000Z
DTEND:20190504T020000Z
LOCATION:Arena 1
CONTACT:
SUMMARY:Longplex Leftovers VS. Mizfits
DESCRIPTION:League Name: Friday Night C / Beginner Roller Hockey Draft Leag
 ue\nGame Type: Regular\nGame Status: Complete\nHome Team: Longplex Leftove
 rs\nAway Team: Mizfits\nHome Score: 10\nAway Score: 8
END:VEVENT
BEGIN:VEVENT
UID:12365648@ezleagues.ezfacility.com
DTSTAMP:20260426T033605Z
CREATED:20260426T033605Z
DTSTART:20190511T000000Z
DTEND:20190511T010000Z
LOCATION:Arena 1
CONTACT:
SUMMARY:Yellow Jackets VS. Longplex Leftovers
DESCRIPTION:League Name: Friday Night C / Beginner Roller Hockey Draft Leag
 ue\nGame Type: Regular\nGame Status: Complete\nHome Team: Yellow Jackets\n
 Away Team: Longplex Leftovers\nHome Score: 1\nAway Score: 10
END:VEVENT
BEGIN:VEVENT
UID:12365652@ezleagues.ezfacility.com
DTSTAMP:20260426T033605Z
CREATED:20260426T033605Z
DTSTART:20190518T010000Z
DTEND:20190518T020000Z
LOCATION:Arena 1
CONTACT:
SUMMARY:Friday Knights VS. Longplex Leftovers
DESCRIPTION:League Name: Friday Night C / Beginner Roller Hockey Draft Leag
 ue\nGame Type: Regular\nGame Status: Complete\nHome Team: Friday Knights\n
 Away Team: Longplex Leftovers\nHome Score: 7\nAway Score: 12
END:VEVENT
BEGIN:VEVENT
UID:12365654@ezleagues.ezfacility.com
DTSTAMP:20260426T033605Z
CREATED:20260426T033605Z
DTSTART:20190524T230000Z
DTEND:20190525T000000Z
LOCATION:Arena 1
CONTACT:
SUMMARY:Longplex Leftovers VS. Carnage
DESCRIPTION:League Name: Friday Night C / Beginner Roller Hockey Draft Leag
 ue\nGame Type: Regular\nGame Status: Complete\nHome Team: Longplex Leftove
 rs\nAway Team: Carnage\nHome Score: 6\nAway Score: 5
END:VEVENT
BEGIN:VEVENT
UID:12365656@ezleagues.ezfacility.com
DTSTAMP:20260426T033605Z
CREATED:20260426T033605Z
DTSTART:20190531T230000Z
DTEND:20190601T000000Z
LOCATION:Arena 1
CONTACT:
SUMMARY:Longplex Leftovers VS. Benchwarmers
DESCRIPTION:League Name: Friday Night C / Beginner Roller Hockey Draft Leag
 ue\nGame Type: Regular\nGame Status: Complete\nHome Team: Longplex Leftove
 rs\nAway Team: Benchwarmers\nHome Score: 12\nAway Score: 5
END:VEVENT
BEGIN:VEVENT
UID:12388043@ezleagues.ezfacility.com
DTSTAMP:20260426T033605Z
CREATED:20260426T033605Z
DTSTART:20190608T000000Z
DTEND:20190608T010000Z
LOCATION:Arena 1
CONTACT:
SUMMARY:Longplex Leftovers VS. Mizfits
DESCRIPTION:League Name: Friday Night C / Beginner Roller Hockey Draft Leag
 ue\nGame Type: Regular\nGame Status: Complete\nHome Team: Longplex Leftove
 rs\nAway Team: Mizfits\nHome Score: 9\nAway Score: 4
END:VEVENT
BEGIN:VEVENT
UID:12388048@ezleagues.ezfacility.com
DTSTAMP:20260426T033605Z
CREATED:20260426T033605Z
DTSTART:20190615T000000Z
DTEND:20190615T010000Z
LOCATION:Arena 1
CONTACT:
SUMMARY:Longplex Leftovers VS. Yellow Jackets
DESCRIPTION:League Name: Friday Night C / Beginner Roller Hockey Draft Leag
 ue\nGame Type: Regular\nGame Status: Complete\nHome Team: Longplex Leftove
 rs\nAway Team: Yellow Jackets\nHome Score: 16\nAway Score: 6
END:VEVENT
BEGIN:VEVENT
UID:12388050@ezleagues.ezfacility.com
DTSTAMP:20260426T033605Z
CREATED:20260426T033605Z
DTSTART:20190621T230000Z
DTEND:20190622T000000Z
LOCATION:Arena 1
CONTACT:
SUMMARY:Friday Knights VS. Longplex Leftovers
DESCRIPTION:League Name: Friday Night C / Beginner Roller Hockey Draft Leag
 ue\nGame Type: Regular\nGame Status: Complete\nHome Team: Friday Knights\n
 Away Team: Longplex Leftovers\nHome Score: 6\nAway Score: 12
END:VEVENT
BEGIN:VEVENT
UID:12388053@ezleagues.ezfacility.com
DTSTAMP:20260426T033605Z
CREATED:20260426T033605Z
DTSTART:20190628T230000Z
DTEND:20190629T000000Z
LOCATION:Arena 1
CONTACT:
SUMMARY:Longplex Leftovers VS. Carnage
DESCRIPTION:League Name: Friday Night C / Beginner Roller Hockey Draft Leag
 ue\nGame Type: Regular\nGame Status: Complete\nHome Team: Longplex Leftove
 rs\nAway Team: Carnage\nHome Score: 1\nAway Score: 0
END:VEVENT
BEGIN:VEVENT
UID:12494529@ezleagues.ezfacility.com
DTSTAMP:20260426T033605Z
CREATED:20260426T033605Z
DTSTART:20190713T000000Z
DTEND:20190713T010000Z
LOCATION:Arena 1
CONTACT:
SUMMARY:Longplex Leftovers VS. Friday Knights
DESCRIPTION:League Name: Friday Night C / Beginner Roller Hockey Draft Leag
 ue\nGame Type: Postseason\nGame Status: Complete\nHome Team: Longplex Left
 overs\nAway Team: Friday Knights\nHome Score: 8\nAway Score: 7
END:VEVENT
BEGIN:VEVENT
UID:12494532@ezleagues.ezfacility.com
DTSTAMP:20260426T033605Z
CREATED:20260426T033605Z
DTSTART:20190720T000000Z
DTEND:20190720T010000Z
LOCATION:Arena 1
CONTACT:
SUMMARY:Longplex Leftovers VS. Carnage
DESCRIPTION:League Name: Friday Night C / Beginner Roller Hockey Draft Leag
 ue\nGame Type: Postseason\nGame Status: Complete\nHome Team: Longplex Left
 overs\nAway Team: Carnage\nHome Score: 3\nAway Score: 8
END:VEVENT
END:VCALENDAR
