BEGIN:VCALENDAR
VERSION:2.0
PRODID:-//EZFacility.com, Inc.//EZL 2.5.5.28621
BEGIN:VEVENT
UID:12339708@ezleagues.ezfacility.com
DTSTAMP:20260420T083339Z
CREATED:20260420T083339Z
DTSTART:20190414T203000Z
DTEND:20190414T212000Z
LOCATION:Large Field 1
CONTACT:
SUMMARY:Las Rompe Corazones VS. Warriors
DESCRIPTION:League Name: TSA Sun Woman`s Beginners (4-14-2019)\nGame Type: 
 Regular\nGame Status: Complete\nHome Team: Las Rompe Corazones\nAway Team:
  Warriors\nHome Score: 3\nAway Score: 1
END:VEVENT
BEGIN:VEVENT
UID:12339713@ezleagues.ezfacility.com
DTSTAMP:20260420T083339Z
CREATED:20260420T083339Z
DTSTART:20190421T203000Z
DTEND:20190421T212000Z
LOCATION:Large Field 1
CONTACT:
SUMMARY:Las Rompe Corazones VS. Lightening F.C
DESCRIPTION:League Name: TSA Sun Woman`s Beginners (4-14-2019)\nGame Type: 
 Regular\nGame Status: Complete\nHome Team: Las Rompe Corazones\nAway Team:
  Lightening F.C\nHome Score: 2\nAway Score: 3
END:VEVENT
BEGIN:VEVENT
UID:12339717@ezleagues.ezfacility.com
DTSTAMP:20260420T083339Z
CREATED:20260420T083339Z
DTSTART:20190429T004000Z
DTEND:20190429T013000Z
LOCATION:Large Field 1
CONTACT:
SUMMARY:United Girls 2 VS. Las Rompe Corazones
DESCRIPTION:League Name: TSA Sun Woman`s Beginners (4-14-2019)\nGame Type: 
 Regular\nGame Status: Complete\nHome Team: United Girls 2\nAway Team: Las 
 Rompe Corazones\nHome Score: 2\nAway Score: 3
END:VEVENT
BEGIN:VEVENT
UID:12339720@ezleagues.ezfacility.com
DTSTAMP:20260420T083339Z
CREATED:20260420T083339Z
DTSTART:20190505T221000Z
DTEND:20190505T230000Z
LOCATION:Large Field 1
CONTACT:
SUMMARY:Las Felinas VS. Las Rompe Corazones
DESCRIPTION:League Name: TSA Sun Woman`s Beginners (4-14-2019)\nGame Type: 
 Regular\nGame Status: Complete\nHome Team: Las Felinas\nAway Team: Las Rom
 pe Corazones\nHome Score: 2\nAway Score: 1
END:VEVENT
BEGIN:VEVENT
UID:12339723@ezleagues.ezfacility.com
DTSTAMP:20260420T083339Z
CREATED:20260420T083339Z
DTSTART:20190602T230000Z
DTEND:20190602T235000Z
LOCATION:Large Field 1
CONTACT:
SUMMARY:Diablitas VS. Las Rompe Corazones
DESCRIPTION:League Name: TSA Sun Woman`s Beginners (4-14-2019)\nGame Type: 
 Regular\nGame Status: Complete\nHome Team: Diablitas\nAway Team: Las Rompe
  Corazones\nHome Score: 1\nAway Score: 0
END:VEVENT
BEGIN:VEVENT
UID:12339726@ezleagues.ezfacility.com
DTSTAMP:20260420T083339Z
CREATED:20260420T083339Z
DTSTART:20190609T235000Z
DTEND:20190610T004000Z
LOCATION:Large Field 1
CONTACT:
SUMMARY:Rebeldes VS. Las Rompe Corazones
DESCRIPTION:League Name: TSA Sun Woman`s Beginners (4-14-2019)\nGame Type: 
 Regular\nGame Status: Complete\nHome Team: Rebeldes\nAway Team: Las Rompe 
 Corazones\nHome Score: 0\nAway Score: 2
END:VEVENT
BEGIN:VEVENT
UID:12339731@ezleagues.ezfacility.com
DTSTAMP:20260420T083339Z
CREATED:20260420T083339Z
DTSTART:20190616T212000Z
DTEND:20190616T221000Z
LOCATION:TSA Field 2
CONTACT:
SUMMARY:Las Rompe Corazones VS. MD International
DESCRIPTION:League Name: TSA Sun Woman`s Beginners (4-14-2019)\nGame Type: 
 Regular\nGame Status: Complete\nHome Team: Las Rompe Corazones\nAway Team:
  MD International\nHome Score: 2\nAway Score: 0
END:VEVENT
BEGIN:VEVENT
UID:12474608@ezleagues.ezfacility.com
DTSTAMP:20260420T083339Z
CREATED:20260420T083339Z
DTSTART:20190623T235000Z
DTEND:20190624T004000Z
LOCATION:Large Field 1
CONTACT:
SUMMARY:Las Felinas VS. Las Rompe Corazones
DESCRIPTION:League Name: TSA Sun Woman`s Beginners (4-14-2019)\nGame Type: 
 Regular\nGame Status: Complete\nHome Team: Las Felinas\nAway Team: Las Rom
 pe Corazones\nHome Score: 2\nAway Score: 0
END:VEVENT
BEGIN:VEVENT
UID:12491081@ezleagues.ezfacility.com
DTSTAMP:20260420T083339Z
CREATED:20260420T083339Z
DTSTART:20190701T013000Z
DTEND:20190701T022000Z
LOCATION:Large Field 1
CONTACT:
SUMMARY:Las Rompe Corazones VS. Warriors
DESCRIPTION:League Name: TSA Sun Woman`s Beginners (4-14-2019)\nGame Type: 
 Regular\nGame Status: Pending\nHome Team: Las Rompe Corazones\nAway Team: 
 Warriors\n
END:VEVENT
END:VCALENDAR
