BEGIN:VCALENDAR
VERSION:2.0
PRODID:-//EZFacility.com, Inc.//EZL 2.5.5.28621
BEGIN:VEVENT
UID:12339710@ezleagues.ezfacility.com
DTSTAMP:20260424T044411Z
CREATED:20260424T044411Z
DTSTART:20190422T004000Z
DTEND:20190422T013000Z
LOCATION:Large Field 1
CONTACT:
SUMMARY:Las Felinas VS. Rebeldes
DESCRIPTION:League Name: TSA Sun Woman`s Beginners (4-14-2019)\nGame Type: 
 Regular\nGame Status: Complete\nHome Team: Las Felinas\nAway Team: Rebelde
 s\nHome Score: 0\nAway Score: 1
END:VEVENT
BEGIN:VEVENT
UID:12339715@ezleagues.ezfacility.com
DTSTAMP:20260424T044411Z
CREATED:20260424T044411Z
DTSTART:20190428T230000Z
DTEND:20190428T235000Z
LOCATION:Large Field 1
CONTACT:
SUMMARY:Las Felinas VS. Diablitas
DESCRIPTION:League Name: TSA Sun Woman`s Beginners (4-14-2019)\nGame Type: 
 Regular\nGame Status: Complete\nHome Team: Las Felinas\nAway Team: Diablit
 as\nHome Score: 4\nAway Score: 3
END:VEVENT
BEGIN:VEVENT
UID:12339720@ezleagues.ezfacility.com
DTSTAMP:20260424T044411Z
CREATED:20260424T044411Z
DTSTART:20190505T221000Z
DTEND:20190505T230000Z
LOCATION:Large Field 1
CONTACT:
SUMMARY:Las Felinas VS. Las Rompe Corazones
DESCRIPTION:League Name: TSA Sun Woman`s Beginners (4-14-2019)\nGame Type: 
 Regular\nGame Status: Complete\nHome Team: Las Felinas\nAway Team: Las Rom
 pe Corazones\nHome Score: 2\nAway Score: 1
END:VEVENT
BEGIN:VEVENT
UID:12339725@ezleagues.ezfacility.com
DTSTAMP:20260424T044411Z
CREATED:20260424T044411Z
DTSTART:20190602T230000Z
DTEND:20190602T235000Z
LOCATION:TSA Field 2
CONTACT:
SUMMARY:Las Felinas VS. MD International
DESCRIPTION:League Name: TSA Sun Woman`s Beginners (4-14-2019)\nGame Type: 
 Regular\nGame Status: Complete\nHome Team: Las Felinas\nAway Team: MD Inte
 rnational\nHome Score: 5\nAway Score: 1
END:VEVENT
BEGIN:VEVENT
UID:12339729@ezleagues.ezfacility.com
DTSTAMP:20260424T044411Z
CREATED:20260424T044411Z
DTSTART:20190609T221000Z
DTEND:20190609T230000Z
LOCATION:TSA Field 2
CONTACT:
SUMMARY:Warriors VS. Las Felinas
DESCRIPTION:League Name: TSA Sun Woman`s Beginners (4-14-2019)\nGame Type: 
 Regular\nGame Status: Complete\nHome Team: Warriors\nAway Team: Las Felina
 s\nHome Score: 0\nAway Score: 5
END:VEVENT
BEGIN:VEVENT
UID:12339732@ezleagues.ezfacility.com
DTSTAMP:20260424T044411Z
CREATED:20260424T044411Z
DTSTART:20190616T235000Z
DTEND:20190617T004000Z
LOCATION:TSA Field 2
CONTACT:
SUMMARY:Lightening F.C VS. Las Felinas
DESCRIPTION:League Name: TSA Sun Woman`s Beginners (4-14-2019)\nGame Type: 
 Regular\nGame Status: Complete\nHome Team: Lightening F.C\nAway Team: Las 
 Felinas\nHome Score: 0\nAway Score: 7
END:VEVENT
BEGIN:VEVENT
UID:12339707@ezleagues.ezfacility.com
DTSTAMP:20260424T044411Z
CREATED:20260424T044411Z
DTSTART:20190617T013000Z
DTEND:20190617T022000Z
LOCATION:TSA Field 2
CONTACT:
SUMMARY:United Girls 2 VS. Las Felinas
DESCRIPTION:League Name: TSA Sun Woman`s Beginners (4-14-2019)\nGame Type: 
 Regular\nGame Status: Complete\nHome Team: United Girls 2\nAway Team: Las 
 Felinas\nHome Score: 0\nAway Score: 3
END:VEVENT
BEGIN:VEVENT
UID:12474608@ezleagues.ezfacility.com
DTSTAMP:20260424T044411Z
CREATED:20260424T044411Z
DTSTART:20190623T235000Z
DTEND:20190624T004000Z
LOCATION:Large Field 1
CONTACT:
SUMMARY:Las Felinas VS. Las Rompe Corazones
DESCRIPTION:League Name: TSA Sun Woman`s Beginners (4-14-2019)\nGame Type: 
 Regular\nGame Status: Complete\nHome Team: Las Felinas\nAway Team: Las Rom
 pe Corazones\nHome Score: 2\nAway Score: 0
END:VEVENT
BEGIN:VEVENT
UID:12491079@ezleagues.ezfacility.com
DTSTAMP:20260424T044411Z
CREATED:20260424T044411Z
DTSTART:20190630T230000Z
DTEND:20190630T235000Z
LOCATION:Large Field 1
CONTACT:
SUMMARY:Las Felinas VS. Rebeldes
DESCRIPTION:League Name: TSA Sun Woman`s Beginners (4-14-2019)\nGame Type: 
 Regular\nGame Status: Complete\nHome Team: Las Felinas\nAway Team: Rebelde
 s\nHome Score: 4\nAway Score: 1
END:VEVENT
END:VCALENDAR
