BEGIN:VCALENDAR
VERSION:2.0
PRODID:-//EZFacility.com, Inc.//EZL 2.5.5.28621
BEGIN:VEVENT
UID:12340889@ezleagues.ezfacility.com
DTSTAMP:20260426T033657Z
CREATED:20260426T033657Z
DTSTART:20190415T230000Z
DTEND:20190415T235500Z
LOCATION:Field 1
CONTACT:
SUMMARY:Goaldiggers VS. Quicksilver
DESCRIPTION:League Name: Monday Women's April 10, 2019\nGame Type: Regular\
 nGame Status: Complete\nHome Team: Goaldiggers\nAway Team: Quicksilver\nHo
 me Score: 8\nAway Score: 7
END:VEVENT
BEGIN:VEVENT
UID:12340893@ezleagues.ezfacility.com
DTSTAMP:20260426T033657Z
CREATED:20260426T033657Z
DTSTART:20190422T230000Z
DTEND:20190422T235500Z
LOCATION:VA Army National Guard Field 2
CONTACT:
SUMMARY:Pumas VS. Goaldiggers
DESCRIPTION:League Name: Monday Women's April 10, 2019\nGame Type: Regular\
 nGame Status: Complete\nHome Team: Pumas\nAway Team: Goaldiggers\nHome Sco
 re: 2\nAway Score: 2
END:VEVENT
BEGIN:VEVENT
UID:12340896@ezleagues.ezfacility.com
DTSTAMP:20260426T033657Z
CREATED:20260426T033657Z
DTSTART:20190429T235500Z
DTEND:20190430T005000Z
LOCATION:Field 1
CONTACT:Portillo
SUMMARY:Panda Pack VS. Goaldiggers
DESCRIPTION:League Name: Monday Women's April 10, 2019\nGame Type: Regular\
 nGame Status: Complete\nHome Team: Panda Pack\nAway Team: Goaldiggers\nHom
 e Score: 9\nAway Score: 10
END:VEVENT
BEGIN:VEVENT
UID:12340900@ezleagues.ezfacility.com
DTSTAMP:20260426T033657Z
CREATED:20260426T033657Z
DTSTART:20190513T235500Z
DTEND:20190514T005000Z
LOCATION: Field 3
CONTACT:Portillo
SUMMARY:Goaldiggers VS. Dulles Cougars
DESCRIPTION:League Name: Monday Women's April 10, 2019\nGame Type: Regular\
 nGame Status: Complete\nHome Team: Goaldiggers\nAway Team: Dulles Cougars\
 nHome Score: 14\nAway Score: 6
END:VEVENT
BEGIN:VEVENT
UID:12386898@ezleagues.ezfacility.com
DTSTAMP:20260426T033657Z
CREATED:20260426T033657Z
DTSTART:20190514T005000Z
DTEND:20190514T015000Z
LOCATION: Field 3
CONTACT:Portillo
SUMMARY:Goaldiggers VS. Quicksilver
DESCRIPTION:League Name: Monday Women's April 10, 2019\nGame Type: Regular\
 nGame Status: Complete\nHome Team: Goaldiggers\nAway Team: Quicksilver\nHo
 me Score: 5\nAway Score: 6
END:VEVENT
BEGIN:VEVENT
UID:12340908@ezleagues.ezfacility.com
DTSTAMP:20260426T033657Z
CREATED:20260426T033657Z
DTSTART:20190520T230000Z
DTEND:20190520T235500Z
LOCATION: Field 3
CONTACT:
SUMMARY:Goaldiggers VS. Dulles Cougars
DESCRIPTION:League Name: Monday Women's April 10, 2019\nGame Type: Postseas
 on\nGame Status: Complete\nHome Team: Goaldiggers\nAway Team: Dulles Couga
 rs\nHome Score: 15\nAway Score: 9
END:VEVENT
BEGIN:VEVENT
UID:12346386@ezleagues.ezfacility.com
DTSTAMP:20260426T033657Z
CREATED:20260426T033657Z
DTSTART:20190603T235500Z
DTEND:20190604T005000Z
LOCATION:VA Army National Guard Field 2
CONTACT:
SUMMARY:Goaldiggers VS. Quicksilver
DESCRIPTION:League Name: Monday Women's April 10, 2019\nGame Type: Postseas
 on\nGame Status: Complete\nHome Team: Goaldiggers\nAway Team: Quicksilver\
 nHome Score: 17\nAway Score: 6
END:VEVENT
END:VCALENDAR
