BEGIN:VCALENDAR
VERSION:2.0
PRODID:-//EZFacility.com, Inc.//EZL 2.5.5.28621
BEGIN:VEVENT
UID:12365494@ezleagues.ezfacility.com
DTSTAMP:20260420T085900Z
CREATED:20260420T085900Z
DTSTART:20190426T010000Z
DTEND:20190426T020000Z
LOCATION:VBall/BBall Court 1
CONTACT:
SUMMARY:Tropics VS. Free Agents
DESCRIPTION:League Name: Thursday Men's Basketball\nGame Type: Regular\nGam
 e Status: Complete\nHome Team: Tropics\nAway Team: Free Agents\nHome Score
 : 46\nAway Score: 56
END:VEVENT
BEGIN:VEVENT
UID:12365503@ezleagues.ezfacility.com
DTSTAMP:20260420T085900Z
CREATED:20260420T085900Z
DTSTART:20190503T010000Z
DTEND:20190503T020000Z
LOCATION:VBall/BBall Court 1
CONTACT:
SUMMARY:Free Agents VS. Dunkin Dunkers
DESCRIPTION:League Name: Thursday Men's Basketball\nGame Type: Regular\nGam
 e Status: Complete\nHome Team: Free Agents\nAway Team: Dunkin Dunkers\nHom
 e Score: 54\nAway Score: 44
END:VEVENT
BEGIN:VEVENT
UID:12365507@ezleagues.ezfacility.com
DTSTAMP:20260420T085900Z
CREATED:20260420T085900Z
DTSTART:20190509T230000Z
DTEND:20190510T000000Z
LOCATION:VBall/BBall Court 1
CONTACT:
SUMMARY:Knights VS. Free Agents
DESCRIPTION:League Name: Thursday Men's Basketball\nGame Type: Regular\nGam
 e Status: Complete\nHome Team: Knights\nAway Team: Free Agents\nHome Score
 : 53\nAway Score: 63
END:VEVENT
BEGIN:VEVENT
UID:12365517@ezleagues.ezfacility.com
DTSTAMP:20260420T085900Z
CREATED:20260420T085900Z
DTSTART:20190517T020000Z
DTEND:20190517T030000Z
LOCATION:VBall/BBall Court 1
CONTACT:
SUMMARY:Elevated Euphoria VS. Free Agents
DESCRIPTION:League Name: Thursday Men's Basketball\nGame Type: Regular\nGam
 e Status: Complete\nHome Team: Elevated Euphoria\nAway Team: Free Agents\n
 Home Score: 58\nAway Score: 55
END:VEVENT
BEGIN:VEVENT
UID:12365521@ezleagues.ezfacility.com
DTSTAMP:20260420T085900Z
CREATED:20260420T085900Z
DTSTART:20190524T000000Z
DTEND:20190524T010000Z
LOCATION:VBall/BBall Court 1
CONTACT:
SUMMARY:Irish Crickets VS. Free Agents
DESCRIPTION:League Name: Thursday Men's Basketball\nGame Type: Regular\nGam
 e Status: Complete\nHome Team: Irish Crickets\nAway Team: Free Agents\nHom
 e Score: 58\nAway Score: 78
END:VEVENT
BEGIN:VEVENT
UID:12365522@ezleagues.ezfacility.com
DTSTAMP:20260420T085900Z
CREATED:20260420T085900Z
DTSTART:20190524T010000Z
DTEND:20190524T020000Z
LOCATION:VBall/BBall Court 1
CONTACT:
SUMMARY:Free Agents VS. CBG
DESCRIPTION:League Name: Thursday Men's Basketball\nGame Type: Regular\nGam
 e Status: Complete\nHome Team: Free Agents\nAway Team: CBG\nHome Score: 54
 \nAway Score: 53
END:VEVENT
BEGIN:VEVENT
UID:12365538@ezleagues.ezfacility.com
DTSTAMP:20260420T085900Z
CREATED:20260420T085900Z
DTSTART:20190530T230000Z
DTEND:20190531T000000Z
LOCATION:VBall/BBall Court 2
CONTACT:
SUMMARY:The Marathon Continues VS. Free Agents
DESCRIPTION:League Name: Thursday Men's Basketball\nGame Type: Regular\nGam
 e Status: Complete\nHome Team: The Marathon Continues\nAway Team: Free Age
 nts\nHome Score: 52\nAway Score: 46
END:VEVENT
BEGIN:VEVENT
UID:12365552@ezleagues.ezfacility.com
DTSTAMP:20260420T085900Z
CREATED:20260420T085900Z
DTSTART:20190607T000000Z
DTEND:20190607T010000Z
LOCATION:VBall/BBall Court 1
CONTACT:
SUMMARY:Free Agents VS. Dunkin Dunkers
DESCRIPTION:League Name: Thursday Men's Basketball\nGame Type: Regular\nGam
 e Status: Complete\nHome Team: Free Agents\nAway Team: Dunkin Dunkers\nHom
 e Score: 10\nAway Score: 0
END:VEVENT
BEGIN:VEVENT
UID:12439740@ezleagues.ezfacility.com
DTSTAMP:20260420T085900Z
CREATED:20260420T085900Z
DTSTART:20190620T230000Z
DTEND:20190621T000000Z
LOCATION:VBall/BBall Court 1
CONTACT:
SUMMARY:Free Agents VS. Elevated Euphoria
DESCRIPTION:League Name: Thursday Men's Basketball\nGame Type: Postseason\n
 Game Status: Complete\nHome Team: Free Agents\nAway Team: Elevated Euphori
 a\nHome Score: 54\nAway Score: 55
END:VEVENT
END:VCALENDAR
