BEGIN:VCALENDAR
VERSION:2.0
PRODID:-//EZFacility.com, Inc.//EZL 2.5.5.28621
BEGIN:VEVENT
UID:12427474@ezleagues.ezfacility.com
DTSTAMP:20260426T033755Z
CREATED:20260426T033755Z
DTSTART:20190622T170000Z
DTEND:20190622T180000Z
LOCATION:Basketball Court Full
CONTACT:
SUMMARY:Rockets (Coach Andy) VS. Wizards (Coach Michael)
DESCRIPTION:League Name: Youth Basketball League Summer 2019-9-11 Year Old 
 Division\nGame Type: Regular\nGame Status: Complete\nHome Team: Rockets (C
 oach Andy)\nAway Team: Wizards (Coach Michael)\nHome Score: 16\nAway Score
 : 8
END:VEVENT
BEGIN:VEVENT
UID:12427478@ezleagues.ezfacility.com
DTSTAMP:20260426T033755Z
CREATED:20260426T033755Z
DTSTART:20190629T170000Z
DTEND:20190629T180000Z
LOCATION:Basketball Court Full
CONTACT:
SUMMARY:Pacers (Coach Elena) VS. Rockets (Coach Andy)
DESCRIPTION:League Name: Youth Basketball League Summer 2019-9-11 Year Old 
 Division\nGame Type: Regular\nGame Status: Complete\nHome Team: Pacers (Co
 ach Elena)\nAway Team: Rockets (Coach Andy)\nHome Score: 64\nAway Score: 1
 6
END:VEVENT
BEGIN:VEVENT
UID:12427481@ezleagues.ezfacility.com
DTSTAMP:20260426T033755Z
CREATED:20260426T033755Z
DTSTART:20190706T160000Z
DTEND:20190706T170000Z
LOCATION:Basketball Court Full
CONTACT:
SUMMARY:Knicks (Coach Tim) VS. Rockets (Coach Andy)
DESCRIPTION:League Name: Youth Basketball League Summer 2019-9-11 Year Old 
 Division\nGame Type: Regular\nGame Status: Complete\nHome Team: Knicks (Co
 ach Tim)\nAway Team: Rockets (Coach Andy)\nHome Score: 28\nAway Score: 15
END:VEVENT
BEGIN:VEVENT
UID:12427484@ezleagues.ezfacility.com
DTSTAMP:20260426T033755Z
CREATED:20260426T033755Z
DTSTART:20190713T140000Z
DTEND:20190713T150000Z
LOCATION:Basketball Court Full
CONTACT:
SUMMARY:Wildcats (Coach Greg) VS. Rockets (Coach Andy)
DESCRIPTION:League Name: Youth Basketball League Summer 2019-9-11 Year Old 
 Division\nGame Type: Regular\nGame Status: Complete\nHome Team: Wildcats (
 Coach Greg)\nAway Team: Rockets (Coach Andy)\nHome Score: 42\nAway Score: 
 4
END:VEVENT
BEGIN:VEVENT
UID:12427487@ezleagues.ezfacility.com
DTSTAMP:20260426T033755Z
CREATED:20260426T033755Z
DTSTART:20190720T150000Z
DTEND:20190720T160000Z
LOCATION:Basketball Court Full
CONTACT:
SUMMARY:Rockets (Coach Andy) VS. Bulls (Coach John)
DESCRIPTION:League Name: Youth Basketball League Summer 2019-9-11 Year Old 
 Division\nGame Type: Regular\nGame Status: Complete\nHome Team: Rockets (C
 oach Andy)\nAway Team: Bulls (Coach John)\nHome Score: 35\nAway Score: 32
END:VEVENT
BEGIN:VEVENT
UID:12427492@ezleagues.ezfacility.com
DTSTAMP:20260426T033755Z
CREATED:20260426T033755Z
DTSTART:20190727T160000Z
DTEND:20190727T170000Z
LOCATION:Basketball Court Full
CONTACT:
SUMMARY:Rockets (Coach Andy) VS. Kings (Coach Maurice)
DESCRIPTION:League Name: Youth Basketball League Summer 2019-9-11 Year Old 
 Division\nGame Type: Regular\nGame Status: Complete\nHome Team: Rockets (C
 oach Andy)\nAway Team: Kings (Coach Maurice)\nHome Score: 21\nAway Score: 
 19
END:VEVENT
BEGIN:VEVENT
UID:12427497@ezleagues.ezfacility.com
DTSTAMP:20260426T033755Z
CREATED:20260426T033755Z
DTSTART:20190803T140000Z
DTEND:20190803T150000Z
LOCATION:Basketball Court Full
CONTACT:
SUMMARY:Rockets (Coach Andy) VS. PEI Warriors (Coach JJ)
DESCRIPTION:League Name: Youth Basketball League Summer 2019-9-11 Year Old 
 Division\nGame Type: Regular\nGame Status: Complete\nHome Team: Rockets (C
 oach Andy)\nAway Team: PEI Warriors (Coach JJ)\nHome Score: 24\nAway Score
 : 21
END:VEVENT
BEGIN:VEVENT
UID:12427529@ezleagues.ezfacility.com
DTSTAMP:20260426T033755Z
CREATED:20260426T033755Z
DTSTART:20190810T140000Z
DTEND:20190810T150000Z
LOCATION:Basketball Court Full
CONTACT:
SUMMARY:Wildcats (Coach Greg) VS. Rockets (Coach Andy)
DESCRIPTION:League Name: Youth Basketball League Summer 2019-9-11 Year Old 
 Division\nGame Type: Postseason\nGame Status: Pending\nHome Team: Wildcats
  (Coach Greg)\nAway Team: Rockets (Coach Andy)\n
END:VEVENT
END:VCALENDAR
