BEGIN:VCALENDAR
VERSION:2.0
PRODID:-//EZFacility.com, Inc.//EZL 2.5.5.28621
BEGIN:VEVENT
UID:12448311@ezleagues.ezfacility.com
DTSTAMP:20260421T210411Z
CREATED:20260421T210411Z
DTSTART:20190604T020000Z
DTEND:20190604T030000Z
LOCATION:PFFC Field House - D
CONTACT:
SUMMARY:Habibi FC VS. Life is balls
DESCRIPTION:League Name: MSL Soccer - Summer - Monday Co-Ed First Game\nGam
 e Type: Regular\nGame Status: Complete\nHome Team: Habibi FC\nAway Team: L
 ife is balls\nHome Score: 6\nAway Score: 0
END:VEVENT
BEGIN:VEVENT
UID:12450223@ezleagues.ezfacility.com
DTSTAMP:20260421T210411Z
CREATED:20260421T210411Z
DTSTART:20190610T235000Z
DTEND:20190611T004500Z
LOCATION:PFFC Field House - A
CONTACT:
SUMMARY:Habibi FC VS. Ball of Duty
DESCRIPTION:League Name: MSL Soccer - Summer - Monday Co-Ed First Game\nGam
 e Type: Regular\nGame Status: Rescheduled\nHome Team: Habibi FC\nAway Team
 : Ball of Duty\n
END:VEVENT
BEGIN:VEVENT
UID:12460743@ezleagues.ezfacility.com
DTSTAMP:20260421T210411Z
CREATED:20260421T210411Z
DTSTART:20190617T234000Z
DTEND:20190618T004000Z
LOCATION:PFFC Field House - A
CONTACT:
SUMMARY:Habibi FC VS. Ball of Duty
DESCRIPTION:League Name: MSL Soccer - Summer - Monday Co-Ed First Game\nGam
 e Type: Regular\nGame Status: Complete\nHome Team: Habibi FC\nAway Team: B
 all of Duty\nHome Score: 6\nAway Score: 3
END:VEVENT
END:VCALENDAR
