BEGIN:VCALENDAR
VERSION:2.0
PRODID:-//EZFacility.com, Inc.//EZL 2.5.5.28621
BEGIN:VEVENT
UID:12521077@ezleagues.ezfacility.com
DTSTAMP:20260426T033858Z
CREATED:20260426T033858Z
DTSTART:20190712T000000Z
DTEND:20190712T010000Z
LOCATION:VBall/BBall Court 1
CONTACT:
SUMMARY:Tropics VS. Removed Team
DESCRIPTION:League Name: Thursday Men's Basketball\nGame Type: Regular\nGam
 e Status: Complete\nHome Team: Tropics\nAway Team: Removed Team\nHome Scor
 e: 10\nAway Score: 0
END:VEVENT
BEGIN:VEVENT
UID:12521056@ezleagues.ezfacility.com
DTSTAMP:20260426T033858Z
CREATED:20260426T033858Z
DTSTART:20190718T230000Z
DTEND:20190719T000000Z
LOCATION:VBall/BBall Court 1
CONTACT:
SUMMARY:The Foundation (White) VS. Tropics
DESCRIPTION:League Name: Thursday Men's Basketball\nGame Type: Regular\nGam
 e Status: Complete\nHome Team: The Foundation (White)\nAway Team: Tropics\
 nHome Score: 63\nAway Score: 56
END:VEVENT
BEGIN:VEVENT
UID:12521058@ezleagues.ezfacility.com
DTSTAMP:20260426T033858Z
CREATED:20260426T033858Z
DTSTART:20190725T230000Z
DTEND:20190726T000000Z
LOCATION:VBall/BBall Court 1
CONTACT:
SUMMARY:Team Tora (Green) VS. Tropics
DESCRIPTION:League Name: Thursday Men's Basketball\nGame Type: Regular\nGam
 e Status: Complete\nHome Team: Team Tora (Green)\nAway Team: Tropics\nHome
  Score: 70\nAway Score: 49
END:VEVENT
BEGIN:VEVENT
UID:12521059@ezleagues.ezfacility.com
DTSTAMP:20260426T033858Z
CREATED:20260426T033858Z
DTSTART:20190726T000000Z
DTEND:20190726T010000Z
LOCATION:VBall/BBall Court 1
CONTACT:
SUMMARY:Knights VS. Tropics
DESCRIPTION:League Name: Thursday Men's Basketball\nGame Type: Regular\nGam
 e Status: Complete\nHome Team: Knights\nAway Team: Tropics\nHome Score: 91
 \nAway Score: 55
END:VEVENT
BEGIN:VEVENT
UID:12521063@ezleagues.ezfacility.com
DTSTAMP:20260426T033858Z
CREATED:20260426T033858Z
DTSTART:20190802T010000Z
DTEND:20190802T020000Z
LOCATION:VBall/BBall Court 1
CONTACT:
SUMMARY:Free Throwers (Red) VS. Tropics
DESCRIPTION:League Name: Thursday Men's Basketball\nGame Type: Regular\nGam
 e Status: Complete\nHome Team: Free Throwers (Red)\nAway Team: Tropics\nHo
 me Score: 72\nAway Score: 78
END:VEVENT
BEGIN:VEVENT
UID:12521066@ezleagues.ezfacility.com
DTSTAMP:20260426T033858Z
CREATED:20260426T033858Z
DTSTART:20190809T010000Z
DTEND:20190809T020000Z
LOCATION:VBall/BBall Court 1
CONTACT:
SUMMARY:The Foundation (White) VS. Tropics
DESCRIPTION:League Name: Thursday Men's Basketball\nGame Type: Regular\nGam
 e Status: Complete\nHome Team: The Foundation (White)\nAway Team: Tropics\
 nHome Score: 90\nAway Score: 78
END:VEVENT
BEGIN:VEVENT
UID:12521069@ezleagues.ezfacility.com
DTSTAMP:20260426T033858Z
CREATED:20260426T033858Z
DTSTART:20190816T010000Z
DTEND:20190816T020000Z
LOCATION:VBall/BBall Court 1
CONTACT:
SUMMARY:Tropics VS. Knights
DESCRIPTION:League Name: Thursday Men's Basketball\nGame Type: Regular\nGam
 e Status: Complete\nHome Team: Tropics\nAway Team: Knights\nHome Score: 62
 \nAway Score: 89
END:VEVENT
BEGIN:VEVENT
UID:12521070@ezleagues.ezfacility.com
DTSTAMP:20260426T033858Z
CREATED:20260426T033858Z
DTSTART:20190822T230000Z
DTEND:20190823T000000Z
LOCATION:VBall/BBall Court 1
CONTACT:
SUMMARY:Free Throwers (Red) VS. Tropics
DESCRIPTION:League Name: Thursday Men's Basketball\nGame Type: Regular\nGam
 e Status: Complete\nHome Team: Free Throwers (Red)\nAway Team: Tropics\nHo
 me Score: 104\nAway Score: 66
END:VEVENT
BEGIN:VEVENT
UID:12521073@ezleagues.ezfacility.com
DTSTAMP:20260426T033858Z
CREATED:20260426T033858Z
DTSTART:20190829T230000Z
DTEND:20190830T000000Z
LOCATION:VBall/BBall Court 1
CONTACT:
SUMMARY:Tropics VS. Free Throwers (Red)
DESCRIPTION:League Name: Thursday Men's Basketball\nGame Type: Postseason\n
 Game Status: Complete\nHome Team: Tropics\nAway Team: Free Throwers (Red)\
 nHome Score: 61\nAway Score: 54
END:VEVENT
BEGIN:VEVENT
UID:12521074@ezleagues.ezfacility.com
DTSTAMP:20260426T033858Z
CREATED:20260426T033858Z
DTSTART:20190830T000000Z
DTEND:20190830T010000Z
LOCATION:VBall/BBall Court 1
CONTACT:
SUMMARY:Team Tora (Green) VS. Tropics
DESCRIPTION:League Name: Thursday Men's Basketball\nGame Type: Postseason\n
 Game Status: Complete\nHome Team: Team Tora (Green)\nAway Team: Tropics\nH
 ome Score: 87\nAway Score: 65
END:VEVENT
END:VCALENDAR
