BEGIN:VCALENDAR
VERSION:2.0
PRODID:-//EZFacility.com, Inc.//EZL 2.5.5.28621
BEGIN:VEVENT
UID:12488550@ezleagues.ezfacility.com
DTSTAMP:20260424T043910Z
CREATED:20260424T043910Z
DTSTART:20190622T070000Z
DTEND:20190622T080000Z
LOCATION:Oak Creek West Community 1
CONTACT:
SUMMARY:Manchester City VS. Bye Week - Win Points
DESCRIPTION:League Name: TSA Youth Summer Outdoor League 2005_2006\nGame Ty
 pe: Regular\nGame Status: Complete\nHome Team: Manchester City\nAway Team:
  Bye Week - Win Points\nHome Score: 3\nAway Score: 0
END:VEVENT
BEGIN:VEVENT
UID:12488552@ezleagues.ezfacility.com
DTSTAMP:20260424T043910Z
CREATED:20260424T043910Z
DTSTART:20190629T170000Z
DTEND:20190629T180000Z
LOCATION:Oak Creek West Community 1
CONTACT:
SUMMARY:TFC 2006 Blue VS. Bye Week - Win Points
DESCRIPTION:League Name: TSA Youth Summer Outdoor League 2005_2006\nGame Ty
 pe: Regular\nGame Status: Complete\nHome Team: TFC 2006 Blue\nAway Team: B
 ye Week - Win Points\nHome Score: 3\nAway Score: 0
END:VEVENT
BEGIN:VEVENT
UID:12488554@ezleagues.ezfacility.com
DTSTAMP:20260424T043910Z
CREATED:20260424T043910Z
DTSTART:20190706T050000Z
DTEND:20190706T060000Z
LOCATION:Oak Creek West Community 1
CONTACT:
SUMMARY:Bye Week - Win Points VS. ACSA Great Dane Revolution
DESCRIPTION:League Name: TSA Youth Summer Outdoor League 2005_2006\nGame Ty
 pe: Regular\nGame Status: Complete\nHome Team: Bye Week - Win Points\nAway
  Team: ACSA Great Dane Revolution\nHome Score: 0\nAway Score: 3
END:VEVENT
BEGIN:VEVENT
UID:12488562@ezleagues.ezfacility.com
DTSTAMP:20260424T043910Z
CREATED:20260424T043910Z
DTSTART:20190720T180000Z
DTEND:20190720T190000Z
LOCATION:Oak Creek West Community 1
CONTACT:
SUMMARY:Bye Week - Win Points VS. TFC 2006 Gold_
DESCRIPTION:League Name: TSA Youth Summer Outdoor League 2005_2006\nGame Ty
 pe: Regular\nGame Status: Complete\nHome Team: Bye Week - Win Points\nAway
  Team: TFC 2006 Gold_\nHome Score: 0\nAway Score: 3
END:VEVENT
BEGIN:VEVENT
UID:12488558@ezleagues.ezfacility.com
DTSTAMP:20260424T043910Z
CREATED:20260424T043910Z
DTSTART:20190727T180000Z
DTEND:20190727T190000Z
LOCATION:Oak Creek West Community 1
CONTACT:
SUMMARY:Bye Week - Win Points VS. Adelphi FC
DESCRIPTION:League Name: TSA Youth Summer Outdoor League 2005_2006\nGame Ty
 pe: Regular\nGame Status: Complete\nHome Team: Bye Week - Win Points\nAway
  Team: Adelphi FC\nHome Score: 0\nAway Score: 3
END:VEVENT
END:VCALENDAR
