BEGIN:VCALENDAR
VERSION:2.0
PRODID:-//EZFacility.com, Inc.//EZL 2.5.5.28621
BEGIN:VEVENT
UID:12503268@ezleagues.ezfacility.com
DTSTAMP:20260421T085316Z
CREATED:20260421T085316Z
DTSTART:20190717T051000Z
DTEND:20190717T061000Z
LOCATION:RCF East - Portland
CONTACT:
SUMMARY:Friend Hotel  VS. Los Lay-Z-Boys
DESCRIPTION:League Name: East Summer AL - Men's D3 (TU/F)\nGame Type: Regul
 ar\nGame Status: Complete\nHome Team: Friend Hotel \nAway Team: Los Lay-Z-
 Boys\nHome Score: 11\nAway Score: 6
END:VEVENT
BEGIN:VEVENT
UID:12503283@ezleagues.ezfacility.com
DTSTAMP:20260421T085316Z
CREATED:20260421T085316Z
DTSTART:20190724T035000Z
DTEND:20190724T045000Z
LOCATION:RCF East - Barcelona
CONTACT:
SUMMARY:Weekend at Burnley's VS. Los Lay-Z-Boys
DESCRIPTION:League Name: East Summer AL - Men's D3 (TU/F)\nGame Type: Regul
 ar\nGame Status: Complete\nHome Team: Weekend at Burnley's\nAway Team: Los
  Lay-Z-Boys\nHome Score: 5\nAway Score: 3
END:VEVENT
BEGIN:VEVENT
UID:12503298@ezleagues.ezfacility.com
DTSTAMP:20260421T085316Z
CREATED:20260421T085316Z
DTSTART:20190731T045000Z
DTEND:20190731T055000Z
LOCATION:RCF East - Barcelona
CONTACT:
SUMMARY:Los Lay-Z-Boys VS. Linnton Beach Club
DESCRIPTION:League Name: East Summer AL - Men's D3 (TU/F)\nGame Type: Regul
 ar\nGame Status: Complete\nHome Team: Los Lay-Z-Boys\nAway Team: Linnton B
 each Club\nHome Score: 8\nAway Score: 7
END:VEVENT
BEGIN:VEVENT
UID:12503312@ezleagues.ezfacility.com
DTSTAMP:20260421T085316Z
CREATED:20260421T085316Z
DTSTART:20190807T045000Z
DTEND:20190807T055000Z
LOCATION:RCF East - Barcelona
CONTACT:
SUMMARY:Swarm VS. Los Lay-Z-Boys
DESCRIPTION:League Name: East Summer AL - Men's D3 (TU/F)\nGame Type: Regul
 ar\nGame Status: Complete\nHome Team: Swarm\nAway Team: Los Lay-Z-Boys\nHo
 me Score: 5\nAway Score: 5
END:VEVENT
BEGIN:VEVENT
UID:12503325@ezleagues.ezfacility.com
DTSTAMP:20260421T085316Z
CREATED:20260421T085316Z
DTSTART:20190814T025000Z
DTEND:20190814T035000Z
LOCATION:RCF East - Barcelona
CONTACT:
SUMMARY:Tawakal VS. Los Lay-Z-Boys
DESCRIPTION:League Name: East Summer AL - Men's D3 (TU/F)\nGame Type: Regul
 ar\nGame Status: Complete\nHome Team: Tawakal\nAway Team: Los Lay-Z-Boys\n
 Home Score: 11\nAway Score: 8
END:VEVENT
BEGIN:VEVENT
UID:12503338@ezleagues.ezfacility.com
DTSTAMP:20260421T085316Z
CREATED:20260421T085316Z
DTSTART:20190821T013000Z
DTEND:20190821T023000Z
LOCATION:RCF East - Rio
CONTACT:
SUMMARY:Los Lay-Z-Boys VS. Friend Hotel 
DESCRIPTION:League Name: East Summer AL - Men's D3 (TU/F)\nGame Type: Regul
 ar\nGame Status: Complete\nHome Team: Los Lay-Z-Boys\nAway Team: Friend Ho
 tel \nHome Score: 3\nAway Score: 3
END:VEVENT
BEGIN:VEVENT
UID:12503354@ezleagues.ezfacility.com
DTSTAMP:20260421T085316Z
CREATED:20260421T085316Z
DTSTART:20190828T035000Z
DTEND:20190828T045000Z
LOCATION:RCF East - Barcelona
CONTACT:
SUMMARY:Tawakal VS. Los Lay-Z-Boys
DESCRIPTION:League Name: East Summer AL - Men's D3 (TU/F)\nGame Type: Regul
 ar\nGame Status: Complete\nHome Team: Tawakal\nAway Team: Los Lay-Z-Boys\n
 Home Score: 9\nAway Score: 13
END:VEVENT
END:VCALENDAR
