BEGIN:VCALENDAR
VERSION:2.0
PRODID:-//EZFacility.com, Inc.//EZL 2.5.5.28621
BEGIN:VEVENT
UID:12514037@ezleagues.ezfacility.com
DTSTAMP:20260424T043237Z
CREATED:20260424T043237Z
DTSTART:20190713T151500Z
DTEND:20190713T170000Z
LOCATION:Tech Boston Academy School\, 9 
CONTACT:
SUMMARY:2. HR Bulldogs VS. 7. Rivals Reading
DESCRIPTION:League Name: EBL 14U Division II Gold Bracket Championship\nGam
 e Type: Regular\nGame Status: Complete\nHome Team: 2. HR Bulldogs\nAway Te
 am: 7. Rivals Reading\nHome Score: 2\nAway Score: 9
END:VEVENT
BEGIN:VEVENT
UID:12514038@ezleagues.ezfacility.com
DTSTAMP:20260424T043237Z
CREATED:20260424T043237Z
DTSTART:20190713T173000Z
DTEND:20190713T191500Z
LOCATION:Tech Boston Academy School\, 9 
CONTACT:
SUMMARY:3. NE Razorbacks VS. 7. Rivals Reading
DESCRIPTION:League Name: EBL 14U Division II Gold Bracket Championship\nGam
 e Type: Regular\nGame Status: Complete\nHome Team: 3. NE Razorbacks\nAway 
 Team: 7. Rivals Reading\nHome Score: 7\nAway Score: 5
END:VEVENT
END:VCALENDAR
