BEGIN:VCALENDAR
VERSION:2.0
PRODID:-//EZFacility.com, Inc.//EZL 2.5.5.28621
BEGIN:VEVENT
UID:12514558@ezleagues.ezfacility.com
DTSTAMP:20260420T113822Z
CREATED:20260420T113822Z
DTSTART:20190713T130000Z
DTEND:20190713T144500Z
LOCATION:Keaney Park\, 89 Tracy Ave\, Lyn
CONTACT:
SUMMARY:4. MWS Devils Gold VS. 5. NE Hurricanes Salem Red
DESCRIPTION:League Name: EBL 13U Division II Silver Bracket Championship\nG
 ame Type: Regular\nGame Status: Complete\nHome Team: 4. MWS Devils Gold\nA
 way Team: 5. NE Hurricanes Salem Red\nHome Score: 7\nAway Score: 18
END:VEVENT
END:VCALENDAR
