BEGIN:VCALENDAR
VERSION:2.0
PRODID:-//EZFacility.com, Inc.//EZL 2.5.5.28621
BEGIN:VEVENT
UID:12522934@ezleagues.ezfacility.com
DTSTAMP:20260424T043241Z
CREATED:20260424T043241Z
DTSTART:20190725T223000Z
DTEND:20190725T231500Z
LOCATION:Court 2
CONTACT:
SUMMARY:FUNdamentals VS. 45 Minutes of Crazy Sets
DESCRIPTION:League Name: Thursday Court 2 Coed C+\nGame Type: Regular\nGame
  Status: Complete\nHome Team: FUNdamentals\nAway Team: 45 Minutes of Crazy
  Sets\nHome Score: 1\nAway Score: 2
END:VEVENT
BEGIN:VEVENT
UID:12522941@ezleagues.ezfacility.com
DTSTAMP:20260424T043241Z
CREATED:20260424T043241Z
DTSTART:20190802T004500Z
DTEND:20190802T013000Z
LOCATION:Court 2
CONTACT:
SUMMARY:Can you dig it VS. FUNdamentals
DESCRIPTION:League Name: Thursday Court 2 Coed C+\nGame Type: Regular\nGame
  Status: Complete\nHome Team: Can you dig it\nAway Team: FUNdamentals\nHom
 e Score: 2\nAway Score: 1
END:VEVENT
BEGIN:VEVENT
UID:12522948@ezleagues.ezfacility.com
DTSTAMP:20260424T043241Z
CREATED:20260424T043241Z
DTSTART:20190809T000000Z
DTEND:20190809T004500Z
LOCATION:Court 2
CONTACT:
SUMMARY:FUNdamentals VS. Set on My Face
DESCRIPTION:League Name: Thursday Court 2 Coed C+\nGame Type: Regular\nGame
  Status: Complete\nHome Team: FUNdamentals\nAway Team: Set on My Face\nHom
 e Score: 1\nAway Score: 2
END:VEVENT
BEGIN:VEVENT
UID:12522955@ezleagues.ezfacility.com
DTSTAMP:20260424T043241Z
CREATED:20260424T043241Z
DTSTART:20190816T013000Z
DTEND:20190816T021500Z
LOCATION:Court 2
CONTACT:
SUMMARY:Will Work for Sets VS. FUNdamentals
DESCRIPTION:League Name: Thursday Court 2 Coed C+\nGame Type: Regular\nGame
  Status: Complete\nHome Team: Will Work for Sets\nAway Team: FUNdamentals\
 nHome Score: 3\nAway Score: 0
END:VEVENT
BEGIN:VEVENT
UID:12522962@ezleagues.ezfacility.com
DTSTAMP:20260424T043241Z
CREATED:20260424T043241Z
DTSTART:20190823T013000Z
DTEND:20190823T021500Z
LOCATION:Court 2
CONTACT:
SUMMARY:FUNdamentals VS. Volleyballs Deep
DESCRIPTION:League Name: Thursday Court 2 Coed C+\nGame Type: Regular\nGame
  Status: Complete\nHome Team: FUNdamentals\nAway Team: Volleyballs Deep\nH
 ome Score: 1\nAway Score: 2
END:VEVENT
BEGIN:VEVENT
UID:12522969@ezleagues.ezfacility.com
DTSTAMP:20260424T043241Z
CREATED:20260424T043241Z
DTSTART:20190830T000000Z
DTEND:20190830T004500Z
LOCATION:Court 2
CONTACT:
SUMMARY:Ball Smackers VS. FUNdamentals
DESCRIPTION:League Name: Thursday Court 2 Coed C+\nGame Type: Regular\nGame
  Status: Complete\nHome Team: Ball Smackers\nAway Team: FUNdamentals\nHome
  Score: 3\nAway Score: 0
END:VEVENT
BEGIN:VEVENT
UID:12522975@ezleagues.ezfacility.com
DTSTAMP:20260424T043241Z
CREATED:20260424T043241Z
DTSTART:20190905T223000Z
DTEND:20190905T231500Z
LOCATION:Court 2
CONTACT:
SUMMARY:Okolona Taco VS. FUNdamentals
DESCRIPTION:League Name: Thursday Court 2 Coed C+\nGame Type: Regular\nGame
  Status: Complete\nHome Team: Okolona Taco\nAway Team: FUNdamentals\nHome 
 Score: 2\nAway Score: 1
END:VEVENT
BEGIN:VEVENT
UID:12522980@ezleagues.ezfacility.com
DTSTAMP:20260424T043241Z
CREATED:20260424T043241Z
DTSTART:20190913T000000Z
DTEND:20190913T004500Z
LOCATION:Court 2
CONTACT:
SUMMARY:FUNdamentals VS. TWSS
DESCRIPTION:League Name: Thursday Court 2 Coed C+\nGame Type: Regular\nGame
  Status: Complete\nHome Team: FUNdamentals\nAway Team: TWSS\nHome Score: 1
 \nAway Score: 2
END:VEVENT
BEGIN:VEVENT
UID:12522990@ezleagues.ezfacility.com
DTSTAMP:20260424T043241Z
CREATED:20260424T043241Z
DTSTART:20190927T000000Z
DTEND:20190927T004500Z
LOCATION:Court 2
CONTACT:
SUMMARY:FUNdamentals VS. Two Bump Chumps
DESCRIPTION:League Name: Thursday Court 2 Coed C+\nGame Type: Regular\nGame
  Status: Complete\nHome Team: FUNdamentals\nAway Team: Two Bump Chumps\nHo
 me Score: 1\nAway Score: 2
END:VEVENT
BEGIN:VEVENT
UID:12522995@ezleagues.ezfacility.com
DTSTAMP:20260424T043241Z
CREATED:20260424T043241Z
DTSTART:20191003T231500Z
DTEND:20191004T000000Z
LOCATION:Court 2
CONTACT:
SUMMARY:Say bean VS. FUNdamentals
DESCRIPTION:League Name: Thursday Court 2 Coed C+\nGame Type: Regular\nGame
  Status: Complete\nHome Team: Say bean\nAway Team: FUNdamentals\nHome Scor
 e: 3\nAway Score: 0
END:VEVENT
END:VCALENDAR
