BEGIN:VCALENDAR
VERSION:2.0
PRODID:-//EZFacility.com, Inc.//EZL 2.5.5.28621
BEGIN:VEVENT
UID:12525950@ezleagues.ezfacility.com
DTSTAMP:20260426T033748Z
CREATED:20260426T033748Z
DTSTART:20190722T013000Z
DTEND:20190722T021500Z
LOCATION:Court 3
CONTACT:
SUMMARY:That's What She Set VS. Ace Ventura Net Detectives
DESCRIPTION:League Name: Sunday Court 3 Coed C\nGame Type: Regular\nGame St
 atus: Complete\nHome Team: That's What She Set\nAway Team: Ace Ventura Net
  Detectives\nHome Score: 3\nAway Score: 0
END:VEVENT
BEGIN:VEVENT
UID:12525954@ezleagues.ezfacility.com
DTSTAMP:20260426T033748Z
CREATED:20260426T033748Z
DTSTART:20190729T004500Z
DTEND:20190729T013000Z
LOCATION:Court 3
CONTACT:
SUMMARY:Kiss My Ace VS. That's What She Set
DESCRIPTION:League Name: Sunday Court 3 Coed C\nGame Type: Regular\nGame St
 atus: Complete\nHome Team: Kiss My Ace\nAway Team: That's What She Set\nHo
 me Score: 3\nAway Score: 0
END:VEVENT
BEGIN:VEVENT
UID:12525958@ezleagues.ezfacility.com
DTSTAMP:20260426T033748Z
CREATED:20260426T033748Z
DTSTART:20190805T000000Z
DTEND:20190805T004500Z
LOCATION:Court 3
CONTACT:
SUMMARY:Golden Snitches VS. That's What She Set
DESCRIPTION:League Name: Sunday Court 3 Coed C\nGame Type: Regular\nGame St
 atus: Complete\nHome Team: Golden Snitches\nAway Team: That's What She Set
 \nHome Score: 2\nAway Score: 1
END:VEVENT
BEGIN:VEVENT
UID:12525962@ezleagues.ezfacility.com
DTSTAMP:20260426T033748Z
CREATED:20260426T033748Z
DTSTART:20190811T223000Z
DTEND:20190811T231500Z
LOCATION:Court 3
CONTACT:
SUMMARY:SOGO VS. That's What She Set
DESCRIPTION:League Name: Sunday Court 3 Coed C\nGame Type: Regular\nGame St
 atus: Complete\nHome Team: SOGO\nAway Team: That's What She Set\nHome Scor
 e: 0\nAway Score: 3
END:VEVENT
BEGIN:VEVENT
UID:12525966@ezleagues.ezfacility.com
DTSTAMP:20260426T033748Z
CREATED:20260426T033748Z
DTSTART:20190818T231500Z
DTEND:20190819T000000Z
LOCATION:Court 3
CONTACT:
SUMMARY:BELLS VS. That's What She Set
DESCRIPTION:League Name: Sunday Court 3 Coed C\nGame Type: Regular\nGame St
 atus: Complete\nHome Team: BELLS\nAway Team: That's What She Set\nHome Sco
 re: 2\nAway Score: 1
END:VEVENT
BEGIN:VEVENT
UID:12525972@ezleagues.ezfacility.com
DTSTAMP:20260426T033748Z
CREATED:20260426T033748Z
DTSTART:20190825T231500Z
DTEND:20190826T000000Z
LOCATION:Court 3
CONTACT:
SUMMARY:That's What She Set VS. Sandicate
DESCRIPTION:League Name: Sunday Court 3 Coed C\nGame Type: Regular\nGame St
 atus: Complete\nHome Team: That's What She Set\nAway Team: Sandicate\nHome
  Score: 0\nAway Score: 3
END:VEVENT
BEGIN:VEVENT
UID:12525984@ezleagues.ezfacility.com
DTSTAMP:20260426T033748Z
CREATED:20260426T033748Z
DTSTART:20190909T004500Z
DTEND:20190909T013000Z
LOCATION:Court 3
CONTACT:
SUMMARY:That's What She Set VS. Nonames
DESCRIPTION:League Name: Sunday Court 3 Coed C\nGame Type: Regular\nGame St
 atus: Complete\nHome Team: That's What She Set\nAway Team: Nonames\nHome S
 core: 3\nAway Score: 0
END:VEVENT
BEGIN:VEVENT
UID:12525990@ezleagues.ezfacility.com
DTSTAMP:20260426T033748Z
CREATED:20260426T033748Z
DTSTART:20190916T013000Z
DTEND:20190916T021500Z
LOCATION:Court 3
CONTACT:
SUMMARY:That's What She Set VS. Team Miller Time
DESCRIPTION:League Name: Sunday Court 3 Coed C\nGame Type: Regular\nGame St
 atus: Complete\nHome Team: That's What She Set\nAway Team: Team Miller Tim
 e\nHome Score: 1\nAway Score: 2
END:VEVENT
BEGIN:VEVENT
UID:12525995@ezleagues.ezfacility.com
DTSTAMP:20260426T033748Z
CREATED:20260426T033748Z
DTSTART:20190922T231500Z
DTEND:20190923T000000Z
LOCATION:Court 3
CONTACT:
SUMMARY:Ace Ventura Net Detectives VS. That's What She Set
DESCRIPTION:League Name: Sunday Court 3 Coed C\nGame Type: Regular\nGame St
 atus: Complete\nHome Team: Ace Ventura Net Detectives\nAway Team: That's W
 hat She Set\nHome Score: 0\nAway Score: 3
END:VEVENT
BEGIN:VEVENT
UID:12525978@ezleagues.ezfacility.com
DTSTAMP:20260426T033748Z
CREATED:20260426T033748Z
DTSTART:20190930T000000Z
DTEND:20190930T004500Z
LOCATION:Court 3
CONTACT:
SUMMARY:That's What She Set VS. Four Barrel
DESCRIPTION:League Name: Sunday Court 3 Coed C\nGame Type: Regular\nGame St
 atus: Complete\nHome Team: That's What She Set\nAway Team: Four Barrel\nHo
 me Score: 2\nAway Score: 1
END:VEVENT
END:VCALENDAR
